BEGIN:VCALENDAR
VERSION:2.0
PRODID:-//Sunset City - ECPv6.15.20//NONSGML v1.0//EN
CALSCALE:GREGORIAN
METHOD:PUBLISH
X-ORIGINAL-URL:https://sunsetut.gov
X-WR-CALDESC:Events for Sunset City
REFRESH-INTERVAL;VALUE=DURATION:PT1H
X-Robots-Tag:noindex
X-PUBLISHED-TTL:PT1H
BEGIN:VTIMEZONE
TZID:America/Denver
BEGIN:DAYLIGHT
TZOFFSETFROM:-0700
TZOFFSETTO:-0600
TZNAME:MDT
DTSTART:20230312T090000
END:DAYLIGHT
BEGIN:STANDARD
TZOFFSETFROM:-0600
TZOFFSETTO:-0700
TZNAME:MST
DTSTART:20231105T080000
END:STANDARD
BEGIN:DAYLIGHT
TZOFFSETFROM:-0700
TZOFFSETTO:-0600
TZNAME:MDT
DTSTART:20240310T090000
END:DAYLIGHT
BEGIN:STANDARD
TZOFFSETFROM:-0600
TZOFFSETTO:-0700
TZNAME:MST
DTSTART:20241103T080000
END:STANDARD
BEGIN:DAYLIGHT
TZOFFSETFROM:-0700
TZOFFSETTO:-0600
TZNAME:MDT
DTSTART:20250309T090000
END:DAYLIGHT
BEGIN:STANDARD
TZOFFSETFROM:-0600
TZOFFSETTO:-0700
TZNAME:MST
DTSTART:20251102T080000
END:STANDARD
END:VTIMEZONE
BEGIN:VEVENT
DTSTART;TZID=America/Denver:20240307T173000
DTEND;TZID=America/Denver:20240307T193000
DTSTAMP:20260423T211533
CREATED:20240228T200725Z
LAST-MODIFIED:20240228T200725Z
UID:2059-1709832600-1709839800@sunsetut.gov
SUMMARY:Sunset & Connext Fiber
DESCRIPTION:SUNSET FIBER\n\n\nCONNEXT X SUNSET FIBER PROJECT COMPLETION CELEBRATION \n  \nWHEN: Thursday\, March 7th\, 5:30 PM to 7:30 PM \n​WHERE: Sunset City Building \nWHAT: Be a Part of History! Join the Connext Team and local Sunset dignitaries as we dedicate the newly completed fiber network with a ceremony and family fun event \n  \nThe Evenings Festivities will Feature A Ribbon Cutting Ceremony\, Balloon Twisting\, Commemorative Cake Cutting\, Giveaways\, the Chance to Win FREE Service\, and the Once-In-A-Project Opportunity to Ask Questions About All Things Connext in an Open Forum Q & A Setting. \nShow up to secure your free Fiber-to-the-Home connection\, get an exclusive look at some of the components used to build the Connext Fiber Network\, while getting all of your questions answered. \n  \n5:30pm – RIBBON CUTTING & CEREMONIAL FIBER PLAQUE PRESENTATION \n– The Future of Sunset Fiber: Project Completion Speech \n– Connext X Sunset Commemorative Group Photo – All Welcome \n– The Lighting of the Fiber and Cake Cutting \n  \n5:45pm – FAMILY ACTIVITY HOUR \n– Activity Hour w. Games \n– Balloon Art w. Local Artist Twistee Steve \n– Family Crafts \n– Face Painting w. The Connext Team \n– Connext Photo Booth Opens feat. The Golden Scissors & Golden Shovels. \nPost to Social Media for the chance to win free service #SunsetFiber #ConnextFiber \n  \nFOR THE ADULTS… \n– Open Forum Q & A w. the Connext Team \n– Connext Fiber Show & Tell \n– Meet and Greet w. The Fiber All Stars \n– Sign Up for the Raffle Giveaway \n  \n6:15pm – TOSS FOR FREE FIBER: CORN HOLE \nAttendees will get one toss from our designated location.  \nMake It and Win a FREE Month of Service!  \nALL ENTRIES WIN ONE FREE NID! **limited number of contestants*** Approximately the first 50 Adults and 50 Children   \n  \n7:15pm – CLOSING CEREMONY – A BIG CONNEXT THANK YOU \nRaffle Drawing: One Lucky Winner Will Enjoy 3 Months of FREE Service \n​ \nLEARN MORE ABOUT THE PROJECT. Engage with the Connext team in this once-in-a-project questions and answers opportunity. This open forum will allow you to ask questions\, share your thoughts\, and meet the key players that are working to “Get Utah Connected”.  \n  \nSEE THE EQUIPMENT THAT MAKES FIBER WORK. Get an exclusive first hand look at some of the Connext branded equipment like the NID\, ONU\, NAP and more. These are a few of the many items needed to bring the fiber from the Connext network to your home.  \n  \nDISCOVER THE CONNEXT PROCESS. Connext is Northern Utah’s Fiber Internet installation specialist and homegrown ISP. Following the ribbon cutting\, Sunset City residents are encouraged to visit with Connext and allow their team to share their expansive experience in the field of fiber infrastructure. Ever wonder how we get fiber into your home? Where we dig and why? What is utility locating? Learn all of this and more at the Connext ‘Show and Tell’ table.
URL:https://sunsetut.gov/event/sunset-connext-fiber/
LOCATION:Sunset City Hall\, 200 W 1300 N\, Sunset\, UT\, 84015\, United States
CATEGORIES:Community Information
ATTACH;FMTTYPE=image/png:https://sunsetut.gov/wp-content/uploads/2024/02/Connext.png
END:VEVENT
END:VCALENDAR