BEGIN:VCALENDAR
VERSION:2.0
PRODID:-//Sunset City - ECPv6.15.20//NONSGML v1.0//EN
CALSCALE:GREGORIAN
METHOD:PUBLISH
X-ORIGINAL-URL:https://sunsetut.gov
X-WR-CALDESC:Events for Sunset City
REFRESH-INTERVAL;VALUE=DURATION:PT1H
X-Robots-Tag:noindex
X-PUBLISHED-TTL:PT1H
BEGIN:VTIMEZONE
TZID:America/Denver
BEGIN:DAYLIGHT
TZOFFSETFROM:-0700
TZOFFSETTO:-0600
TZNAME:MDT
DTSTART:20220313T090000
END:DAYLIGHT
BEGIN:STANDARD
TZOFFSETFROM:-0600
TZOFFSETTO:-0700
TZNAME:MST
DTSTART:20221106T080000
END:STANDARD
BEGIN:DAYLIGHT
TZOFFSETFROM:-0700
TZOFFSETTO:-0600
TZNAME:MDT
DTSTART:20230312T090000
END:DAYLIGHT
BEGIN:STANDARD
TZOFFSETFROM:-0600
TZOFFSETTO:-0700
TZNAME:MST
DTSTART:20231105T080000
END:STANDARD
BEGIN:DAYLIGHT
TZOFFSETFROM:-0700
TZOFFSETTO:-0600
TZNAME:MDT
DTSTART:20240310T090000
END:DAYLIGHT
BEGIN:STANDARD
TZOFFSETFROM:-0600
TZOFFSETTO:-0700
TZNAME:MST
DTSTART:20241103T080000
END:STANDARD
END:VTIMEZONE
BEGIN:VEVENT
DTSTART;TZID=America/Denver:20230601T080000
DTEND;TZID=America/Denver:20230601T083000
DTSTAMP:20260422T062437
CREATED:20230213T155849Z
LAST-MODIFIED:20230213T155849Z
UID:1373-1685606400-1685608200@sunsetut.gov
SUMMARY:Recycling Day
DESCRIPTION:
URL:https://sunsetut.gov/event/recycling-day-23/
LOCATION:UT
END:VEVENT
BEGIN:VEVENT
DTSTART;TZID=America/Denver:20230614T080000
DTEND;TZID=America/Denver:20230614T083000
DTSTAMP:20260422T062437
CREATED:20230213T154509Z
LAST-MODIFIED:20230213T154509Z
UID:1343-1686729600-1686731400@sunsetut.gov
SUMMARY:Recycling Day
DESCRIPTION:
URL:https://sunsetut.gov/event/recycling-day-8/
LOCATION:UT
END:VEVENT
BEGIN:VEVENT
DTSTART;TZID=America/Denver:20230619T080000
DTEND;TZID=America/Denver:20230619T170000
DTSTAMP:20260422T062437
CREATED:20230213T163724Z
LAST-MODIFIED:20230213T163724Z
UID:1401-1687161600-1687194000@sunsetut.gov
SUMMARY:Juneteenth - City Office's Closed
DESCRIPTION:
URL:https://sunsetut.gov/event/juneteenth-city-offices-closed/
LOCATION:UT
ATTACH;FMTTYPE=image/jpeg:https://sunsetut.gov/wp-content/uploads/2023/02/juneteenth.jpg
END:VEVENT
BEGIN:VEVENT
DTSTART;TZID=America/Denver:20230621T080000
DTEND;TZID=America/Denver:20230621T170000
DTSTAMP:20260422T062437
CREATED:20230616T165433Z
LAST-MODIFIED:20230616T165433Z
UID:1591-1687334400-1687366800@sunsetut.gov
SUMMARY:Garbage Day
DESCRIPTION:
URL:https://sunsetut.gov/event/garbage-day-12/
LOCATION:UT
END:VEVENT
BEGIN:VEVENT
DTSTART;TZID=America/Denver:20230628T080000
DTEND;TZID=America/Denver:20230628T083000
DTSTAMP:20260422T062437
CREATED:20230213T154529Z
LAST-MODIFIED:20230213T154529Z
UID:1345-1687939200-1687941000@sunsetut.gov
SUMMARY:Recycling Day
DESCRIPTION:
URL:https://sunsetut.gov/event/recycling-day-9/
LOCATION:UT
END:VEVENT
BEGIN:VEVENT
DTSTART;TZID=America/Denver:20230628T080000
DTEND;TZID=America/Denver:20230628T170000
DTSTAMP:20260422T062437
CREATED:20230616T165446Z
LAST-MODIFIED:20230616T165446Z
UID:1593-1687939200-1687971600@sunsetut.gov
SUMMARY:Garbage Day
DESCRIPTION:
URL:https://sunsetut.gov/event/garbage-day-13/
LOCATION:UT
END:VEVENT
END:VCALENDAR