BEGIN:VCALENDAR
VERSION:2.0
PRODID:-//Sunset City - ECPv6.15.20//NONSGML v1.0//EN
CALSCALE:GREGORIAN
METHOD:PUBLISH
X-ORIGINAL-URL:https://sunsetut.gov
X-WR-CALDESC:Events for Sunset City
REFRESH-INTERVAL;VALUE=DURATION:PT1H
X-Robots-Tag:noindex
X-PUBLISHED-TTL:PT1H
BEGIN:VTIMEZONE
TZID:America/Denver
BEGIN:DAYLIGHT
TZOFFSETFROM:-0700
TZOFFSETTO:-0600
TZNAME:MDT
DTSTART:20230312T090000
END:DAYLIGHT
BEGIN:STANDARD
TZOFFSETFROM:-0600
TZOFFSETTO:-0700
TZNAME:MST
DTSTART:20231105T080000
END:STANDARD
BEGIN:DAYLIGHT
TZOFFSETFROM:-0700
TZOFFSETTO:-0600
TZNAME:MDT
DTSTART:20240310T090000
END:DAYLIGHT
BEGIN:STANDARD
TZOFFSETFROM:-0600
TZOFFSETTO:-0700
TZNAME:MST
DTSTART:20241103T080000
END:STANDARD
BEGIN:DAYLIGHT
TZOFFSETFROM:-0700
TZOFFSETTO:-0600
TZNAME:MDT
DTSTART:20250309T090000
END:DAYLIGHT
BEGIN:STANDARD
TZOFFSETFROM:-0600
TZOFFSETTO:-0700
TZNAME:MST
DTSTART:20251102T080000
END:STANDARD
END:VTIMEZONE
BEGIN:VEVENT
DTSTART;TZID=America/Denver:20240507T183000
DTEND;TZID=America/Denver:20240507T210000
DTSTAMP:20260420T190811
CREATED:20240415T163555Z
LAST-MODIFIED:20240415T163555Z
UID:2209-1715106600-1715115600@sunsetut.gov
SUMMARY:City Council Meeting
DESCRIPTION:
URL:https://sunsetut.gov/event/city-council-meeting-2/
LOCATION:Sunset City Hall\, 200 W 1300 N\, Sunset\, UT\, 84015\, United States
END:VEVENT
BEGIN:VEVENT
DTSTART;VALUE=DATE:20240508
DTEND;VALUE=DATE:20240509
DTSTAMP:20260420T190811
CREATED:20240202T185440Z
LAST-MODIFIED:20240202T185440Z
UID:1997-1715126400-1715212799@sunsetut.gov
SUMMARY:Trash Day (Every Wednesday)
DESCRIPTION:
URL:https://sunsetut.gov/event/trash-day-every-wednesday-16/
CATEGORIES:garbage
END:VEVENT
BEGIN:VEVENT
DTSTART;TZID=America/Denver:20240509T183000
DTEND;TZID=America/Denver:20240509T210000
DTSTAMP:20260420T190811
CREATED:20240415T155909Z
LAST-MODIFIED:20240415T155909Z
UID:2205-1715279400-1715288400@sunsetut.gov
SUMMARY:Planning Commission Meeting
DESCRIPTION:
URL:https://sunsetut.gov/event/planning-commission-meeting-6/
LOCATION:Sunset City Hall\, 200 W 1300 N\, Sunset\, UT\, 84015\, United States
END:VEVENT
BEGIN:VEVENT
DTSTART;VALUE=DATE:20240515
DTEND;VALUE=DATE:20240516
DTSTAMP:20260420T190811
CREATED:20240202T185639Z
LAST-MODIFIED:20240202T185639Z
UID:1999-1715731200-1715817599@sunsetut.gov
SUMMARY:Trash Day (Every Wednesday)
DESCRIPTION:
URL:https://sunsetut.gov/event/trash-day-every-wednesday-17/
CATEGORIES:garbage
END:VEVENT
BEGIN:VEVENT
DTSTART;TZID=America/Denver:20240521T183000
DTEND;TZID=America/Denver:20240521T210000
DTSTAMP:20260420T190811
CREATED:20240415T164401Z
LAST-MODIFIED:20240415T165806Z
UID:2211-1716316200-1716325200@sunsetut.gov
SUMMARY:City Council Meeting
DESCRIPTION:
URL:https://sunsetut.gov/event/city-council-meeting-3/
LOCATION:Sunset City Hall\, 200 W 1300 N\, Sunset\, UT\, 84015\, United States
END:VEVENT
BEGIN:VEVENT
DTSTART;VALUE=DATE:20240522
DTEND;VALUE=DATE:20240523
DTSTAMP:20260420T190811
CREATED:20240415T153609Z
LAST-MODIFIED:20240415T153609Z
UID:2126-1716336000-1716422399@sunsetut.gov
SUMMARY:Trash Day (Every Wednesday)
DESCRIPTION:
URL:https://sunsetut.gov/event/trash-day-every-wednesday-18/
END:VEVENT
BEGIN:VEVENT
DTSTART;VALUE=DATE:20240527
DTEND;VALUE=DATE:20240528
DTSTAMP:20260420T190811
CREATED:20240126T214723Z
LAST-MODIFIED:20240126T214723Z
UID:1933-1716768000-1716854399@sunsetut.gov
SUMMARY:Office Closed - Memorial Day
DESCRIPTION:
URL:https://sunsetut.gov/event/office-closed-memorial-day/
LOCATION:Sunset City Hall\, 200 W 1300 N\, Sunset\, UT\, 84015\, United States
END:VEVENT
BEGIN:VEVENT
DTSTART;VALUE=DATE:20240529
DTEND;VALUE=DATE:20240530
DTSTAMP:20260420T190811
CREATED:20240415T153627Z
LAST-MODIFIED:20240415T153627Z
UID:2128-1716940800-1717027199@sunsetut.gov
SUMMARY:Trash Day (Every Wednesday)
DESCRIPTION:
URL:https://sunsetut.gov/event/trash-day-every-wednesday-19/
END:VEVENT
BEGIN:VEVENT
DTSTART;TZID=America/Denver:20240604T183000
DTEND;TZID=America/Denver:20240604T210000
DTSTAMP:20260420T190811
CREATED:20240415T164455Z
LAST-MODIFIED:20240415T165823Z
UID:2213-1717525800-1717534800@sunsetut.gov
SUMMARY:City Council Meeting
DESCRIPTION:
URL:https://sunsetut.gov/event/city-council-meeting-4/
LOCATION:Sunset City Hall\, 200 W 1300 N\, Sunset\, UT\, 84015\, United States
END:VEVENT
BEGIN:VEVENT
DTSTART;VALUE=DATE:20240605
DTEND;VALUE=DATE:20240606
DTSTAMP:20260420T190811
CREATED:20240415T153641Z
LAST-MODIFIED:20240415T153641Z
UID:2130-1717545600-1717631999@sunsetut.gov
SUMMARY:Trash Day (Every Wednesday)
DESCRIPTION:
URL:https://sunsetut.gov/event/trash-day-every-wednesday-20/
END:VEVENT
BEGIN:VEVENT
DTSTART;VALUE=DATE:20240612
DTEND;VALUE=DATE:20240613
DTSTAMP:20260420T190811
CREATED:20240415T153653Z
LAST-MODIFIED:20240415T153653Z
UID:2132-1718150400-1718236799@sunsetut.gov
SUMMARY:Trash Day (Every Wednesday)
DESCRIPTION:
URL:https://sunsetut.gov/event/trash-day-every-wednesday-21/
END:VEVENT
BEGIN:VEVENT
DTSTART;TZID=America/Denver:20240613T183000
DTEND;TZID=America/Denver:20240613T210000
DTSTAMP:20260420T190811
CREATED:20240415T164607Z
LAST-MODIFIED:20240415T165836Z
UID:2215-1718303400-1718312400@sunsetut.gov
SUMMARY:Planning Commission Meeting
DESCRIPTION:
URL:https://sunsetut.gov/event/planning-commission-meeting-7/
LOCATION:Sunset City Hall\, 200 W 1300 N\, Sunset\, UT\, 84015\, United States
END:VEVENT
BEGIN:VEVENT
DTSTART;VALUE=DATE:20240614
DTEND;VALUE=DATE:20240616
DTSTAMP:20260420T190811
CREATED:20240515T185947Z
LAST-MODIFIED:20240515T195916Z
UID:2292-1718323200-1718495999@sunsetut.gov
SUMMARY:Sunset City Fun Days
DESCRIPTION:Join us for Fun Days on June 14th-15th\, 2024! We hope to see you all there! \nTo be a Vendor at Fun Days click here to fill out the form\, then call the office at 801-825-1628 to pay the fee. \nThe schedule for the event will be as follows: \nFriday\, June 14\, 2024 \n\n5:00 p.m.\n\nInflatables open until 10:00 p.m.\n\n\n6:00 p.m.\n\nNorth Park: Skate Contest\nCentral Park: Vendor Booths Open\nCar meet @ North Park until 9:00 p.m.\n\n\nDusk\n\nMovie in the Park – TBD: @ Central Park\n\n\n\nSaturday\, June 15\, 2024 \n\n6:30 a.m.\n\nWest Parking Lot Central Park: 5k Registration\, race starts at 7:00 a.m. Cost is $15.00 (includes t-shirt)\n\n\n7:00 a.m.\n\nCentral Park Bowery: Breakfast – Donations welcome\n\n\n10:00 a.m.\n\n250 West: Parade\n\n\n11:00 a.m\n\nInflatables open until 11:00 p.m\nVendor Booths open\nD.J. starts spinning\n\n\nDusk\n\nCentral Park: 30 minute Circus Foundry Performance\n\n\n\n \n 
URL:https://sunsetut.gov/event/sunset-city-fun-days-3/
CATEGORIES:Community Event,Community Information,family
ATTACH;FMTTYPE=image/png:https://sunsetut.gov/wp-content/uploads/2024/05/Fun-Days-2024.png
END:VEVENT
BEGIN:VEVENT
DTSTART;TZID=America/Denver:20240618T183000
DTEND;TZID=America/Denver:20240618T210000
DTSTAMP:20260420T190811
CREATED:20240415T164634Z
LAST-MODIFIED:20240415T165847Z
UID:2217-1718735400-1718744400@sunsetut.gov
SUMMARY:City Council Meeting
DESCRIPTION:
URL:https://sunsetut.gov/event/city-council-meeting-5/
LOCATION:Sunset City Hall\, 200 W 1300 N\, Sunset\, UT\, 84015\, United States
END:VEVENT
BEGIN:VEVENT
DTSTART;VALUE=DATE:20240619
DTEND;VALUE=DATE:20240620
DTSTAMP:20260420T190811
CREATED:20240126T214805Z
LAST-MODIFIED:20240126T214805Z
UID:1935-1718755200-1718841599@sunsetut.gov
SUMMARY:Office Closed - Juneteenth
DESCRIPTION:
URL:https://sunsetut.gov/event/office-closed-juneteenth/
LOCATION:Sunset City Hall\, 200 W 1300 N\, Sunset\, UT\, 84015\, United States
END:VEVENT
BEGIN:VEVENT
DTSTART;VALUE=DATE:20240619
DTEND;VALUE=DATE:20240620
DTSTAMP:20260420T190811
CREATED:20240415T153711Z
LAST-MODIFIED:20240415T153711Z
UID:2134-1718755200-1718841599@sunsetut.gov
SUMMARY:Trash Day (Every Wednesday)
DESCRIPTION:
URL:https://sunsetut.gov/event/trash-day-every-wednesday-22/
END:VEVENT
BEGIN:VEVENT
DTSTART;VALUE=DATE:20240626
DTEND;VALUE=DATE:20240627
DTSTAMP:20260420T190811
CREATED:20240415T153723Z
LAST-MODIFIED:20240415T153723Z
UID:2136-1719360000-1719446399@sunsetut.gov
SUMMARY:Trash Day (Every Wednesday)
DESCRIPTION:
URL:https://sunsetut.gov/event/trash-day-every-wednesday-23/
END:VEVENT
BEGIN:VEVENT
DTSTART;TZID=America/Denver:20240702T183000
DTEND;TZID=America/Denver:20240702T210000
DTSTAMP:20260420T190811
CREATED:20240415T164729Z
LAST-MODIFIED:20240415T165902Z
UID:2219-1719945000-1719954000@sunsetut.gov
SUMMARY:City Council Meeting
DESCRIPTION:
URL:https://sunsetut.gov/event/city-council-meeting-6/
LOCATION:Sunset City Hall\, 200 W 1300 N\, Sunset\, UT\, 84015\, United States
END:VEVENT
BEGIN:VEVENT
DTSTART;VALUE=DATE:20240703
DTEND;VALUE=DATE:20240704
DTSTAMP:20260420T190811
CREATED:20240415T153744Z
LAST-MODIFIED:20240415T153744Z
UID:2138-1719964800-1720051199@sunsetut.gov
SUMMARY:Trash Day (Every Wednesday)
DESCRIPTION:
URL:https://sunsetut.gov/event/trash-day-every-wednesday-24/
END:VEVENT
BEGIN:VEVENT
DTSTART;VALUE=DATE:20240704
DTEND;VALUE=DATE:20240705
DTSTAMP:20260420T190811
CREATED:20240126T214913Z
LAST-MODIFIED:20240126T214913Z
UID:1937-1720051200-1720137599@sunsetut.gov
SUMMARY:Office Closed - 4th of July/Independence Day
DESCRIPTION:
URL:https://sunsetut.gov/event/office-closed-4th-of-july-independence-day/
LOCATION:Sunset City Hall\, 200 W 1300 N\, Sunset\, UT\, 84015\, United States
END:VEVENT
BEGIN:VEVENT
DTSTART;VALUE=DATE:20240710
DTEND;VALUE=DATE:20240711
DTSTAMP:20260420T190811
CREATED:20240415T153809Z
LAST-MODIFIED:20240415T153809Z
UID:2142-1720569600-1720655999@sunsetut.gov
SUMMARY:Trash Day (Every Wednesday)
DESCRIPTION:
URL:https://sunsetut.gov/event/trash-day-every-wednesday-26/
END:VEVENT
BEGIN:VEVENT
DTSTART;TZID=America/Denver:20240711T183000
DTEND;TZID=America/Denver:20240711T210000
DTSTAMP:20260420T190811
CREATED:20240415T164757Z
LAST-MODIFIED:20240415T165918Z
UID:2221-1720722600-1720731600@sunsetut.gov
SUMMARY:Planning Commission Meeting
DESCRIPTION:
URL:https://sunsetut.gov/event/planning-commission-meeting-8/
LOCATION:Sunset City Hall\, 200 W 1300 N\, Sunset\, UT\, 84015\, United States
END:VEVENT
BEGIN:VEVENT
DTSTART;TZID=America/Denver:20240716T183000
DTEND;TZID=America/Denver:20240716T210000
DTSTAMP:20260420T190811
CREATED:20240415T164822Z
LAST-MODIFIED:20240415T170026Z
UID:2223-1721154600-1721163600@sunsetut.gov
SUMMARY:City Council Meeting
DESCRIPTION:
URL:https://sunsetut.gov/event/city-council-meeting-7/
LOCATION:Sunset City Hall\, 200 W 1300 N\, Sunset\, UT\, 84015\, United States
END:VEVENT
BEGIN:VEVENT
DTSTART;VALUE=DATE:20240717
DTEND;VALUE=DATE:20240718
DTSTAMP:20260420T190811
CREATED:20240415T153850Z
LAST-MODIFIED:20240415T153850Z
UID:2144-1721174400-1721260799@sunsetut.gov
SUMMARY:Trash Day (Every Wednesday)
DESCRIPTION:
URL:https://sunsetut.gov/event/trash-day-every-wednesday-27/
END:VEVENT
BEGIN:VEVENT
DTSTART;VALUE=DATE:20240724
DTEND;VALUE=DATE:20240725
DTSTAMP:20260420T190811
CREATED:20240126T214945Z
LAST-MODIFIED:20240126T214945Z
UID:1939-1721779200-1721865599@sunsetut.gov
SUMMARY:Office Closed - Pioneer Day
DESCRIPTION:
URL:https://sunsetut.gov/event/office-closed-pioneer-day/
LOCATION:Sunset City Hall\, 200 W 1300 N\, Sunset\, UT\, 84015\, United States
END:VEVENT
BEGIN:VEVENT
DTSTART;VALUE=DATE:20240724
DTEND;VALUE=DATE:20240725
DTSTAMP:20260420T190811
CREATED:20240415T153905Z
LAST-MODIFIED:20240415T153905Z
UID:2146-1721779200-1721865599@sunsetut.gov
SUMMARY:Trash Day (Every Wednesday)
DESCRIPTION:
URL:https://sunsetut.gov/event/trash-day-every-wednesday-28/
END:VEVENT
BEGIN:VEVENT
DTSTART;TZID=America/Denver:20240729T140000
DTEND;TZID=America/Denver:20240729T160000
DTSTAMP:20260420T190811
CREATED:20240718T183632Z
LAST-MODIFIED:20240718T183846Z
UID:2434-1722261600-1722268800@sunsetut.gov
SUMMARY:Fire Station 42 Grand Opening & Hose-Cutting
DESCRIPTION:
URL:https://sunsetut.gov/event/fire-station-42-grand-opening-hose-cutting/
LOCATION:Station 42\, 88 East Center Street\, Clearfield\, UT\, 84015\, United States
CATEGORIES:Community Event,Community Information,family
ATTACH;FMTTYPE=image/jpeg:https://sunsetut.gov/wp-content/uploads/2024/07/NDFD-Station-42-Grand-Opening-Invitation-2-e1721327894309.jpg
END:VEVENT
BEGIN:VEVENT
DTSTART;VALUE=DATE:20240731
DTEND;VALUE=DATE:20240801
DTSTAMP:20260420T190811
CREATED:20240415T153935Z
LAST-MODIFIED:20240415T153935Z
UID:2150-1722384000-1722470399@sunsetut.gov
SUMMARY:Trash Day (Every Wednesday)
DESCRIPTION:
URL:https://sunsetut.gov/event/trash-day-every-wednesday-30/
END:VEVENT
BEGIN:VEVENT
DTSTART;TZID=America/Denver:20240806T183000
DTEND;TZID=America/Denver:20240806T210000
DTSTAMP:20260420T190811
CREATED:20240415T164857Z
LAST-MODIFIED:20240415T170039Z
UID:2225-1722969000-1722978000@sunsetut.gov
SUMMARY:City Council Meeting
DESCRIPTION:
URL:https://sunsetut.gov/event/city-council-meeting-8/
LOCATION:Sunset City Hall\, 200 W 1300 N\, Sunset\, UT\, 84015\, United States
END:VEVENT
BEGIN:VEVENT
DTSTART;VALUE=DATE:20240807
DTEND;VALUE=DATE:20240808
DTSTAMP:20260420T190811
CREATED:20240415T153951Z
LAST-MODIFIED:20240415T153951Z
UID:2152-1722988800-1723075199@sunsetut.gov
SUMMARY:Trash Day (Every Wednesday)
DESCRIPTION:
URL:https://sunsetut.gov/event/trash-day-every-wednesday-31/
END:VEVENT
END:VCALENDAR