BEGIN:VCALENDAR
VERSION:2.0
PRODID:-//Sunset City - ECPv6.15.20//NONSGML v1.0//EN
CALSCALE:GREGORIAN
METHOD:PUBLISH
X-WR-CALNAME:Sunset City
X-ORIGINAL-URL:https://sunsetut.gov
X-WR-CALDESC:Events for Sunset City
REFRESH-INTERVAL;VALUE=DURATION:PT1H
X-Robots-Tag:noindex
X-PUBLISHED-TTL:PT1H
BEGIN:VTIMEZONE
TZID:America/Denver
BEGIN:DAYLIGHT
TZOFFSETFROM:-0700
TZOFFSETTO:-0600
TZNAME:MDT
DTSTART:20220313T090000
END:DAYLIGHT
BEGIN:STANDARD
TZOFFSETFROM:-0600
TZOFFSETTO:-0700
TZNAME:MST
DTSTART:20221106T080000
END:STANDARD
BEGIN:DAYLIGHT
TZOFFSETFROM:-0700
TZOFFSETTO:-0600
TZNAME:MDT
DTSTART:20230312T090000
END:DAYLIGHT
BEGIN:STANDARD
TZOFFSETFROM:-0600
TZOFFSETTO:-0700
TZNAME:MST
DTSTART:20231105T080000
END:STANDARD
BEGIN:DAYLIGHT
TZOFFSETFROM:-0700
TZOFFSETTO:-0600
TZNAME:MDT
DTSTART:20240310T090000
END:DAYLIGHT
BEGIN:STANDARD
TZOFFSETFROM:-0600
TZOFFSETTO:-0700
TZNAME:MST
DTSTART:20241103T080000
END:STANDARD
END:VTIMEZONE
BEGIN:VEVENT
DTSTART;TZID=America/Denver:20230520T110000
DTEND;TZID=America/Denver:20230520T130000
DTSTAMP:20260421T032716
CREATED:20230426T152629Z
LAST-MODIFIED:20230426T152629Z
UID:1515-1684580400-1684587600@sunsetut.gov
SUMMARY:Veterans Memorial Park Dedication
DESCRIPTION:Join us at the new Veterans Memorial Park on Saturday May 20th at 11am for a dedication to the park\, flag ceremony\, military vehicles\, light refreshments and to honor those who have served our Country. All residents are welcome!
URL:https://sunsetut.gov/event/veterans-memorial-park-dedication/
LOCATION:Veterans Memorial Park\, 200 W 1300 N\, Sunset\, UT\, 84015\, United States
CATEGORIES:City Council,family,home,Senior
ATTACH;FMTTYPE=application/pdf:https://sunsetut.gov/wp-content/uploads/2023/04/Veterans-Park-Dedication-flyer.pdf
END:VEVENT
BEGIN:VEVENT
DTSTART;TZID=America/Denver:20230517T080000
DTEND;TZID=America/Denver:20230517T083000
DTSTAMP:20260421T032716
CREATED:20230213T154349Z
LAST-MODIFIED:20230213T154349Z
UID:1341-1684310400-1684312200@sunsetut.gov
SUMMARY:Recycling Day
DESCRIPTION:
URL:https://sunsetut.gov/event/recycling-day-7/
END:VEVENT
BEGIN:VEVENT
DTSTART;TZID=America/Denver:20230511T183000
DTEND;TZID=America/Denver:20230511T203000
DTSTAMP:20260421T032716
CREATED:20230213T164054Z
LAST-MODIFIED:20230213T164054Z
UID:1418-1683829800-1683837000@sunsetut.gov
SUMMARY:Planning Commission Meeting
DESCRIPTION:
URL:https://sunsetut.gov/event/planning-commission-meeting-4/
END:VEVENT
BEGIN:VEVENT
DTSTART;TZID=America/Denver:20230503T080000
DTEND;TZID=America/Denver:20230503T083000
DTSTAMP:20260421T032716
CREATED:20230213T154322Z
LAST-MODIFIED:20230213T154322Z
UID:1339-1683100800-1683102600@sunsetut.gov
SUMMARY:Recycling Day
DESCRIPTION:
URL:https://sunsetut.gov/event/recycling-day-6/
END:VEVENT
BEGIN:VEVENT
DTSTART;TZID=America/Denver:20230422T100000
DTEND;TZID=America/Denver:20230422T140000
DTSTAMP:20260421T032716
CREATED:20230420T210502Z
LAST-MODIFIED:20230420T210517Z
UID:1500-1682157600-1682172000@sunsetut.gov
SUMMARY:DEA Drug Take Back Day
DESCRIPTION:To learn more about this event click here.
URL:https://sunsetut.gov/event/dea-drug-take-back-day/
LOCATION:Smith’s\, 2353 N Main Street\, Sunset\, UT\, 84015\, United States
CATEGORIES:City Council,family,home,Senior
END:VEVENT
BEGIN:VEVENT
DTSTART;TZID=America/Denver:20230419T080000
DTEND;TZID=America/Denver:20230419T083000
DTSTAMP:20260421T032716
CREATED:20230213T154257Z
LAST-MODIFIED:20230213T154257Z
UID:1337-1681891200-1681893000@sunsetut.gov
SUMMARY:Recycling Day
DESCRIPTION:
URL:https://sunsetut.gov/event/recycling-day-5/
END:VEVENT
BEGIN:VEVENT
DTSTART;TZID=America/Denver:20230418T183000
DTEND;TZID=America/Denver:20230418T210000
DTSTAMP:20260421T032716
CREATED:20230213T163935Z
LAST-MODIFIED:20230213T163935Z
UID:1412-1681842600-1681851600@sunsetut.gov
SUMMARY:Council Meeting
DESCRIPTION:
URL:https://sunsetut.gov/event/council-meeting-8/
END:VEVENT
BEGIN:VEVENT
DTSTART;TZID=America/Denver:20230413T183000
DTEND;TZID=America/Denver:20230413T200000
DTSTAMP:20260421T032716
CREATED:20230213T164033Z
LAST-MODIFIED:20230213T164033Z
UID:1416-1681410600-1681416000@sunsetut.gov
SUMMARY:Planning Commission Meeting
DESCRIPTION:
URL:https://sunsetut.gov/event/planning-commission-meeting-3/
END:VEVENT
BEGIN:VEVENT
DTSTART;TZID=America/Denver:20230408T100000
DTEND;TZID=America/Denver:20230408T110000
DTSTAMP:20260421T032716
CREATED:20230222T181255Z
LAST-MODIFIED:20230222T181255Z
UID:1453-1680948000-1680951600@sunsetut.gov
SUMMARY:Annual Easter Egg Hunt
DESCRIPTION:Join us April 8th at 10 am at Central Park for our annual Easter Egg Hunt!
URL:https://sunsetut.gov/event/annual-easter-egg-hunt/
LOCATION:Central Park\, 85 W 1800 N\, Sunset\, UT\, 840105
CATEGORIES:City Council,family,home
ATTACH;FMTTYPE=image/jpeg:https://sunsetut.gov/wp-content/uploads/2023/02/Easter-Egg-hunt-flyer.jpg
END:VEVENT
BEGIN:VEVENT
DTSTART;TZID=America/Denver:20230405T080000
DTEND;TZID=America/Denver:20230405T083000
DTSTAMP:20260421T032716
CREATED:20230213T154236Z
LAST-MODIFIED:20230213T154236Z
UID:1335-1680681600-1680683400@sunsetut.gov
SUMMARY:Recycling Day
DESCRIPTION:
URL:https://sunsetut.gov/event/recycling-day-4/
END:VEVENT
BEGIN:VEVENT
DTSTART;TZID=America/Denver:20230404T183000
DTEND;TZID=America/Denver:20230404T210000
DTSTAMP:20260421T032716
CREATED:20230213T163911Z
LAST-MODIFIED:20230213T163911Z
UID:1410-1680633000-1680642000@sunsetut.gov
SUMMARY:Council Meeting
DESCRIPTION:
URL:https://sunsetut.gov/event/council-meeting-7/
END:VEVENT
BEGIN:VEVENT
DTSTART;TZID=America/Denver:20230329T080000
DTEND;TZID=America/Denver:20230329T083000
DTSTAMP:20260421T032716
CREATED:20230213T164709Z
LAST-MODIFIED:20230213T164709Z
UID:1433-1680076800-1680078600@sunsetut.gov
SUMMARY:Garbage Day
DESCRIPTION:
URL:https://sunsetut.gov/event/garbage-day-7/
END:VEVENT
BEGIN:VEVENT
DTSTART;TZID=America/Denver:20230322T080000
DTEND;TZID=America/Denver:20230322T083000
DTSTAMP:20260421T032716
CREATED:20230213T164652Z
LAST-MODIFIED:20230213T164652Z
UID:1431-1679472000-1679473800@sunsetut.gov
SUMMARY:Garbage Day
DESCRIPTION:
URL:https://sunsetut.gov/event/garbage-day-6/
END:VEVENT
BEGIN:VEVENT
DTSTART;TZID=America/Denver:20230322T080000
DTEND;TZID=America/Denver:20230322T083000
DTSTAMP:20260421T032716
CREATED:20230213T154212Z
LAST-MODIFIED:20230213T154212Z
UID:1333-1679472000-1679473800@sunsetut.gov
SUMMARY:Recycling Day
DESCRIPTION:
URL:https://sunsetut.gov/event/recycling-day-3/
END:VEVENT
BEGIN:VEVENT
DTSTART;TZID=America/Denver:20230321T183000
DTEND;TZID=America/Denver:20230321T203000
DTSTAMP:20260421T032716
CREATED:20230213T163848Z
LAST-MODIFIED:20230213T163848Z
UID:1408-1679423400-1679430600@sunsetut.gov
SUMMARY:Council Meeting
DESCRIPTION:
URL:https://sunsetut.gov/event/council-meeting-6/
END:VEVENT
BEGIN:VEVENT
DTSTART;TZID=America/Denver:20230315T080000
DTEND;TZID=America/Denver:20230315T083000
DTSTAMP:20260421T032716
CREATED:20230213T164632Z
LAST-MODIFIED:20230213T164632Z
UID:1429-1678867200-1678869000@sunsetut.gov
SUMMARY:Garbage Day
DESCRIPTION:
URL:https://sunsetut.gov/event/garbage-day-5/
END:VEVENT
BEGIN:VEVENT
DTSTART;TZID=America/Denver:20230309T183000
DTEND;TZID=America/Denver:20230309T203000
DTSTAMP:20260421T032716
CREATED:20230213T164004Z
LAST-MODIFIED:20230213T164004Z
UID:1414-1678386600-1678393800@sunsetut.gov
SUMMARY:Planning Commission Meeting
DESCRIPTION:
URL:https://sunsetut.gov/event/planning-commission-meeting-2/
END:VEVENT
BEGIN:VEVENT
DTSTART;TZID=America/Denver:20230308T080000
DTEND;TZID=America/Denver:20230308T083000
DTSTAMP:20260421T032716
CREATED:20230213T164609Z
LAST-MODIFIED:20230213T164609Z
UID:1427-1678262400-1678264200@sunsetut.gov
SUMMARY:Garbage Day
DESCRIPTION:
URL:https://sunsetut.gov/event/garbage-day-4/
END:VEVENT
BEGIN:VEVENT
DTSTART;TZID=America/Denver:20230308T080000
DTEND;TZID=America/Denver:20230308T083000
DTSTAMP:20260421T032716
CREATED:20230213T154148Z
LAST-MODIFIED:20230213T154148Z
UID:1331-1678262400-1678264200@sunsetut.gov
SUMMARY:Recycling Day
DESCRIPTION:
URL:https://sunsetut.gov/event/recycling-day-2/
END:VEVENT
BEGIN:VEVENT
DTSTART;TZID=America/Denver:20230307T183000
DTEND;TZID=America/Denver:20230307T210000
DTSTAMP:20260421T032716
CREATED:20230213T163825Z
LAST-MODIFIED:20230213T163825Z
UID:1406-1678213800-1678222800@sunsetut.gov
SUMMARY:Council Meeting
DESCRIPTION:
URL:https://sunsetut.gov/event/council-meeting-5/
END:VEVENT
BEGIN:VEVENT
DTSTART;TZID=America/Denver:20230301T080000
DTEND;TZID=America/Denver:20230301T083000
DTSTAMP:20260421T032716
CREATED:20230213T164549Z
LAST-MODIFIED:20230213T164549Z
UID:1425-1677657600-1677659400@sunsetut.gov
SUMMARY:Garbage Day
DESCRIPTION:
URL:https://sunsetut.gov/event/garbage-day-3/
END:VEVENT
BEGIN:VEVENT
DTSTART;TZID=America/Denver:20230222T080000
DTEND;TZID=America/Denver:20230222T083000
DTSTAMP:20260421T032716
CREATED:20230213T164522Z
LAST-MODIFIED:20230213T164522Z
UID:1423-1677052800-1677054600@sunsetut.gov
SUMMARY:Garbage Day
DESCRIPTION:
URL:https://sunsetut.gov/event/garbage-day-2/
END:VEVENT
BEGIN:VEVENT
DTSTART;TZID=America/Denver:20230222T080000
DTEND;TZID=America/Denver:20230222T083000
DTSTAMP:20260421T032716
CREATED:20230213T153944Z
LAST-MODIFIED:20230213T154003Z
UID:1328-1677052800-1677054600@sunsetut.gov
SUMMARY:Recycling Day
DESCRIPTION:
URL:https://sunsetut.gov/event/recycling-day/
END:VEVENT
BEGIN:VEVENT
DTSTART;TZID=America/Denver:20230221T183000
DTEND;TZID=America/Denver:20230221T210000
DTSTAMP:20260421T032716
CREATED:20230213T163801Z
LAST-MODIFIED:20230213T163801Z
UID:1404-1677004200-1677013200@sunsetut.gov
SUMMARY:Council Meeting
DESCRIPTION:
URL:https://sunsetut.gov/event/council-meeting-4/
END:VEVENT
BEGIN:VEVENT
DTSTART;TZID=America/Denver:20230220T080000
DTEND;TZID=America/Denver:20230220T170000
DTSTAMP:20260421T032716
CREATED:20230213T153802Z
LAST-MODIFIED:20230213T153802Z
UID:1323-1676880000-1676912400@sunsetut.gov
SUMMARY:President's Day City Offices Closed
DESCRIPTION:
URL:https://sunsetut.gov/event/presidents-day-city-offices-closed/
LOCATION:Sunset City Hall\, 200 W 1300 N\, Sunset\, UT\, 84015\, United States
END:VEVENT
BEGIN:VEVENT
DTSTART;TZID=America/Denver:20230215T080000
DTEND;TZID=America/Denver:20230215T083000
DTSTAMP:20260421T032716
CREATED:20230213T164423Z
LAST-MODIFIED:20230213T164423Z
UID:1420-1676448000-1676449800@sunsetut.gov
SUMMARY:Garbage Day
DESCRIPTION:
URL:https://sunsetut.gov/event/garbage-day/
END:VEVENT
BEGIN:VEVENT
DTSTART;VALUE=DATE:20230214
DTEND;VALUE=DATE:20230215
DTSTAMP:20260421T032716
CREATED:20230213T160735Z
LAST-MODIFIED:20230213T160735Z
UID:1375-1676332800-1676419199@sunsetut.gov
SUMMARY:Valentine's Day
DESCRIPTION:
URL:https://sunsetut.gov/event/valentines-day/
ATTACH;FMTTYPE=image/webp:https://sunsetut.gov/wp-content/uploads/2023/02/Happy-Valentines-Day.webp
END:VEVENT
BEGIN:VEVENT
DTSTART;TZID=America/Denver:20230213T080000
DTEND;TZID=America/Denver:20230213T083000
DTSTAMP:20260421T032716
CREATED:20230213T154739Z
LAST-MODIFIED:20230213T154739Z
UID:1357-1676275200-1676277000@sunsetut.gov
SUMMARY:Recycling Day
DESCRIPTION:
URL:https://sunsetut.gov/event/recycling-day-15/
END:VEVENT
BEGIN:VEVENT
DTSTART;TZID=America/Denver:20230204T160000
DTEND;TZID=America/Denver:20230204T200000
DTSTAMP:20260421T032716
CREATED:20230109T201139Z
LAST-MODIFIED:20230201T204443Z
UID:1221-1675526400-1675540800@sunsetut.gov
SUMMARY:Winterfest Chilli Cook-Off and Award Ceremony
DESCRIPTION:
URL:https://sunsetut.gov/event/winterfest-chilli-cook-off-and-award-ceremony/
LOCATION:Sunset City Hall\, 200 W 1300 N\, Sunset\, UT\, 84015\, United States
CATEGORIES:family,home
ATTACH;FMTTYPE=image/jpeg:https://sunsetut.gov/wp-content/uploads/2023/01/IMG_3521.jpg
END:VEVENT
BEGIN:VEVENT
DTSTART;TZID=America/Denver:20230201T140000
DTEND;TZID=America/Denver:20230201T153000
DTSTAMP:20260421T032716
CREATED:20230113T232745Z
LAST-MODIFIED:20230113T232755Z
UID:1239-1675260000-1675265400@sunsetut.gov
SUMMARY:Dancing Around the World for Seniors
DESCRIPTION:Multi-Cultural Dancing from around the world! These are all non-partner dances so just bring yourself! Starting Wednesday at 2pm in Feburary.
URL:https://sunsetut.gov/event/dancing-around-the-world-for-seniors/
LOCATION:North Davis Senior Center\, 42 S State Street\, Clearfield\, UT\, 84015\, United States
CATEGORIES:Senior
ATTACH;FMTTYPE=image/png:https://sunsetut.gov/wp-content/uploads/2023/01/unnamed.png
END:VEVENT
END:VCALENDAR