BEGIN:VCALENDAR
VERSION:2.0
PRODID:-//Sunset City - ECPv6.15.20//NONSGML v1.0//EN
CALSCALE:GREGORIAN
METHOD:PUBLISH
X-WR-CALNAME:Sunset City
X-ORIGINAL-URL:https://sunsetut.gov
X-WR-CALDESC:Events for Sunset City
REFRESH-INTERVAL;VALUE=DURATION:PT1H
X-Robots-Tag:noindex
X-PUBLISHED-TTL:PT1H
BEGIN:VTIMEZONE
TZID:America/Denver
BEGIN:DAYLIGHT
TZOFFSETFROM:-0700
TZOFFSETTO:-0600
TZNAME:MDT
DTSTART:20210314T090000
END:DAYLIGHT
BEGIN:STANDARD
TZOFFSETFROM:-0600
TZOFFSETTO:-0700
TZNAME:MST
DTSTART:20211107T080000
END:STANDARD
BEGIN:DAYLIGHT
TZOFFSETFROM:-0700
TZOFFSETTO:-0600
TZNAME:MDT
DTSTART:20220313T090000
END:DAYLIGHT
BEGIN:STANDARD
TZOFFSETFROM:-0600
TZOFFSETTO:-0700
TZNAME:MST
DTSTART:20221106T080000
END:STANDARD
BEGIN:DAYLIGHT
TZOFFSETFROM:-0700
TZOFFSETTO:-0600
TZNAME:MDT
DTSTART:20230312T090000
END:DAYLIGHT
BEGIN:STANDARD
TZOFFSETFROM:-0600
TZOFFSETTO:-0700
TZNAME:MST
DTSTART:20231105T080000
END:STANDARD
END:VTIMEZONE
BEGIN:VTIMEZONE
TZID:America/Detroit
BEGIN:DAYLIGHT
TZOFFSETFROM:-0500
TZOFFSETTO:-0400
TZNAME:EDT
DTSTART:20210314T070000
END:DAYLIGHT
BEGIN:STANDARD
TZOFFSETFROM:-0400
TZOFFSETTO:-0500
TZNAME:EST
DTSTART:20211107T060000
END:STANDARD
BEGIN:DAYLIGHT
TZOFFSETFROM:-0500
TZOFFSETTO:-0400
TZNAME:EDT
DTSTART:20220313T070000
END:DAYLIGHT
BEGIN:STANDARD
TZOFFSETFROM:-0400
TZOFFSETTO:-0500
TZNAME:EST
DTSTART:20221106T060000
END:STANDARD
BEGIN:DAYLIGHT
TZOFFSETFROM:-0500
TZOFFSETTO:-0400
TZNAME:EDT
DTSTART:20230312T070000
END:DAYLIGHT
BEGIN:STANDARD
TZOFFSETFROM:-0400
TZOFFSETTO:-0500
TZNAME:EST
DTSTART:20231105T060000
END:STANDARD
END:VTIMEZONE
BEGIN:VEVENT
DTSTART;TZID=America/Denver:20221130T080000
DTEND;TZID=America/Denver:20221130T083000
DTSTAMP:20260421T200704
CREATED:20220822T160733Z
LAST-MODIFIED:20220822T161335Z
UID:959-1669795200-1669797000@sunsetut.gov
SUMMARY:Garbage & Recycling Pick Up
DESCRIPTION:
URL:https://sunsetut.gov/event/recycling-pick-up-11/
END:VEVENT
BEGIN:VEVENT
DTSTART;VALUE=DATE:20221125
DTEND;VALUE=DATE:20221126
DTSTAMP:20260421T200704
CREATED:20221103T151417Z
LAST-MODIFIED:20221103T151417Z
UID:1132-1669334400-1669420799@sunsetut.gov
SUMMARY:City Closed
DESCRIPTION:
URL:https://sunsetut.gov/event/city-closed/
END:VEVENT
BEGIN:VEVENT
DTSTART;VALUE=DATE:20221124
DTEND;VALUE=DATE:20221125
DTSTAMP:20260421T200704
CREATED:20221103T151251Z
LAST-MODIFIED:20221103T151251Z
UID:1130-1669248000-1669334399@sunsetut.gov
SUMMARY:Thanksgiving
DESCRIPTION:
URL:https://sunsetut.gov/event/thanksgiving/
END:VEVENT
BEGIN:VEVENT
DTSTART;TZID=America/Denver:20221123T080000
DTEND;TZID=America/Denver:20221123T080000
DTSTAMP:20260421T200704
CREATED:20220822T162242Z
LAST-MODIFIED:20220822T162242Z
UID:994-1669190400-1669190400@sunsetut.gov
SUMMARY:Garbage Pick Up
DESCRIPTION:
URL:https://sunsetut.gov/event/garbage-pick-up-11/
END:VEVENT
BEGIN:VEVENT
DTSTART;TZID=America/Denver:20221116T080000
DTEND;TZID=America/Denver:20221116T090000
DTSTAMP:20260421T200704
CREATED:20220822T160708Z
LAST-MODIFIED:20220822T161344Z
UID:957-1668585600-1668589200@sunsetut.gov
SUMMARY:Garbage & Recycling Pick Up
DESCRIPTION:
URL:https://sunsetut.gov/event/recycling-pick-up-10/
END:VEVENT
BEGIN:VEVENT
DTSTART;TZID=America/Denver:20221115T183000
DTEND;TZID=America/Denver:20221115T210000
DTSTAMP:20260421T200704
CREATED:20221103T145455Z
LAST-MODIFIED:20221103T145455Z
UID:1116-1668537000-1668546000@sunsetut.gov
SUMMARY:Council Meeting
DESCRIPTION:
URL:https://sunsetut.gov/event/council-meeting/
LOCATION:Sunset City Hall\, 200 W 1300 N\, Sunset\, UT\, 84015\, United States
END:VEVENT
BEGIN:VEVENT
DTSTART;TZID=America/Denver:20221111T080000
DTEND;TZID=America/Denver:20221111T170000
DTSTAMP:20260421T200704
CREATED:20221103T151229Z
LAST-MODIFIED:20221103T151229Z
UID:1128-1668153600-1668186000@sunsetut.gov
SUMMARY:City Closed in Observance of Veterans Day
DESCRIPTION:
URL:https://sunsetut.gov/event/city-closed-in-observance-of-veterans-day/
END:VEVENT
BEGIN:VEVENT
DTSTART;TZID=America/Denver:20221109T080000
DTEND;TZID=America/Denver:20221109T080000
DTSTAMP:20260421T200704
CREATED:20220822T162215Z
LAST-MODIFIED:20220822T162215Z
UID:992-1667980800-1667980800@sunsetut.gov
SUMMARY:Garbage Pick Up
DESCRIPTION:
URL:https://sunsetut.gov/event/garbage-pick-up-10/
END:VEVENT
BEGIN:VEVENT
DTSTART;TZID=America/Denver:20221108T080000
DTEND;TZID=America/Denver:20221108T200000
DTSTAMP:20260421T200704
CREATED:20221103T150319Z
LAST-MODIFIED:20221103T150549Z
UID:1118-1667894400-1667937600@sunsetut.gov
SUMMARY:Election Day
DESCRIPTION:
URL:https://sunsetut.gov/event/election-day/
LOCATION:Sunset City Hall\, 200 W 1300 N\, Sunset\, UT\, 84015\, United States
END:VEVENT
BEGIN:VEVENT
DTSTART;TZID=America/Denver:20221102T080000
DTEND;TZID=America/Denver:20221102T090000
DTSTAMP:20260421T200704
CREATED:20220822T160642Z
LAST-MODIFIED:20220822T161400Z
UID:955-1667376000-1667379600@sunsetut.gov
SUMMARY:Garbage & Recycling Pick Up
DESCRIPTION:
URL:https://sunsetut.gov/event/recycling-pick-up-9/
END:VEVENT
BEGIN:VEVENT
DTSTART;TZID=America/Denver:20221027T103000
DTEND;TZID=America/Denver:20221027T133000
DTSTAMP:20260421T200704
CREATED:20221018T174515Z
LAST-MODIFIED:20221018T180833Z
UID:1082-1666866600-1666877400@sunsetut.gov
SUMMARY:North Davis Senior Center Halloween Party
DESCRIPTION:Senior Halloween Party. There will be food\, costume contest\, games\, crafts\, prizes and more! \nHosted by the North Davis Senior Center at 42 S State Street\, Clearfield UT 84015 \n 
URL:https://sunsetut.gov/event/north-davis-senior-center-halloween-party/
LOCATION:North Davis Senior Center\, 42 S State Street\, Clearfield\, UT\, 84015\, United States
CATEGORIES:home,Senior
ATTACH;FMTTYPE=image/jpeg:https://sunsetut.gov/wp-content/uploads/2022/10/Halloween-Flyer-1.jpg
END:VEVENT
BEGIN:VEVENT
DTSTART;TZID=America/Denver:20221026T080000
DTEND;TZID=America/Denver:20221026T080000
DTSTAMP:20260421T200704
CREATED:20220822T162150Z
LAST-MODIFIED:20220822T162150Z
UID:990-1666771200-1666771200@sunsetut.gov
SUMMARY:Garbage Pick Up
DESCRIPTION:
URL:https://sunsetut.gov/event/garbage-pick-up-9/
END:VEVENT
BEGIN:VEVENT
DTSTART;TZID=America/Denver:20221021T160000
DTEND;TZID=America/Denver:20221021T210000
DTSTAMP:20260421T200704
CREATED:20221018T162809Z
LAST-MODIFIED:20221018T163753Z
UID:1066-1666368000-1666386000@sunsetut.gov
SUMMARY:Sunset City Youth Council Halloween Party
DESCRIPTION:Halloween Party! Costume Contest\, Games\, Food\, Photo Booth and Hocus Pocus!
URL:https://sunsetut.gov/event/sunset-city-youth-council-halloween-party/
LOCATION:Sunset City Hall\, 200 W 1300 N\, Sunset\, UT\, 84015\, United States
CATEGORIES:home
ATTACH;FMTTYPE=image/jpeg:https://sunsetut.gov/wp-content/uploads/2022/10/Halloween-Flyer-e1666110447920.jpg
END:VEVENT
BEGIN:VEVENT
DTSTART;TZID=America/Denver:20221019T080000
DTEND;TZID=America/Denver:20221019T080000
DTSTAMP:20260421T200704
CREATED:20220822T160613Z
LAST-MODIFIED:20220822T161406Z
UID:953-1666166400-1666166400@sunsetut.gov
SUMMARY:Garbage & Recycling Pick Up
DESCRIPTION:
URL:https://sunsetut.gov/event/recycling-pick-up-8/
END:VEVENT
BEGIN:VEVENT
DTSTART;TZID=America/Denver:20221012T080000
DTEND;TZID=America/Denver:20221012T080000
DTSTAMP:20260421T200704
CREATED:20220822T162119Z
LAST-MODIFIED:20220822T162119Z
UID:988-1665561600-1665561600@sunsetut.gov
SUMMARY:Garbage Pick Up
DESCRIPTION:
URL:https://sunsetut.gov/event/garbage-pick-up-8/
END:VEVENT
BEGIN:VEVENT
DTSTART;TZID=America/Denver:20221005T080000
DTEND;TZID=America/Denver:20221005T080000
DTSTAMP:20260421T200704
CREATED:20220822T160551Z
LAST-MODIFIED:20220822T161415Z
UID:951-1664956800-1664956800@sunsetut.gov
SUMMARY:Garbage & Recycling Pick Up
DESCRIPTION:
URL:https://sunsetut.gov/event/recycling-pick-up-7/
END:VEVENT
BEGIN:VEVENT
DTSTART;TZID=America/Denver:20221003T180000
DTEND;TZID=America/Denver:20221003T200000
DTSTAMP:20260421T200704
CREATED:20220926T194922Z
LAST-MODIFIED:20220927T150750Z
UID:1045-1664820000-1664827200@sunsetut.gov
SUMMARY:Fire Prevention Open House
DESCRIPTION:Join us for the Annual Fire Prevention night with North Davis Fire District! \nSee how your local fire department runs by enjoying live demonstrations\, firetruck rides and more! \nFire Prevention open house flyer
URL:https://sunsetut.gov/event/fire-prevention-open-house/
LOCATION:Sunset City Hall\, 200 W 1300 N\, Sunset\, UT\, 84015\, United States
CATEGORIES:home
ATTACH;FMTTYPE=application/pdf:https://sunsetut.gov/wp-content/uploads/2022/09/Fire-Prevention-open-house-flyer-1.pdf
END:VEVENT
BEGIN:VEVENT
DTSTART;TZID=America/Denver:20220928T080000
DTEND;TZID=America/Denver:20220928T080000
DTSTAMP:20260421T200704
CREATED:20220822T162042Z
LAST-MODIFIED:20220822T162042Z
UID:986-1664352000-1664352000@sunsetut.gov
SUMMARY:Garbage Pick Up
DESCRIPTION:
URL:https://sunsetut.gov/event/garbage-pick-up-7/
END:VEVENT
BEGIN:VEVENT
DTSTART;TZID=America/Denver:20220921T080000
DTEND;TZID=America/Denver:20220921T080000
DTSTAMP:20260421T200704
CREATED:20220822T160528Z
LAST-MODIFIED:20220822T161519Z
UID:949-1663747200-1663747200@sunsetut.gov
SUMMARY:Garbage & Recycling Pick Up
DESCRIPTION:
URL:https://sunsetut.gov/event/recycling-pick-up-6/
END:VEVENT
BEGIN:VEVENT
DTSTART;TZID=America/Denver:20220914T080000
DTEND;TZID=America/Denver:20220914T090000
DTSTAMP:20260421T200704
CREATED:20220822T162009Z
LAST-MODIFIED:20220822T162009Z
UID:984-1663142400-1663146000@sunsetut.gov
SUMMARY:Garbage Pick Up
DESCRIPTION:
URL:https://sunsetut.gov/event/garbage-pick-up-6/
END:VEVENT
BEGIN:VEVENT
DTSTART;TZID=America/Denver:20220908T080000
DTEND;TZID=America/Denver:20220908T080000
DTSTAMP:20260421T200704
CREATED:20220822T160503Z
LAST-MODIFIED:20220822T161526Z
UID:947-1662624000-1662624000@sunsetut.gov
SUMMARY:Garbage & Recycling Pick Up
DESCRIPTION:
URL:https://sunsetut.gov/event/recycling-pick-up-5/
END:VEVENT
BEGIN:VEVENT
DTSTART;TZID=America/Denver:20220831T080000
DTEND;TZID=America/Denver:20220831T080000
DTSTAMP:20260421T200704
CREATED:20220822T161832Z
LAST-MODIFIED:20220822T161832Z
UID:981-1661932800-1661932800@sunsetut.gov
SUMMARY:Garbage Pick Up
DESCRIPTION:
URL:https://sunsetut.gov/event/garbage-pick-up-5/
END:VEVENT
BEGIN:VEVENT
DTSTART;TZID=America/Detroit:20220827T100000
DTEND;TZID=America/Detroit:20220827T200000
DTSTAMP:20260421T200704
CREATED:20220606T201236Z
LAST-MODIFIED:20220822T160144Z
UID:443-1661594400-1661630400@sunsetut.gov
SUMMARY:Mental Health Awareness Craft Fair
DESCRIPTION:This event is FREE to the public and meant to be a place for local crafters/artists\, food vendors\, and mental health focused nonprofit organizations to come together and share the resources available to our communities! \nWe will have therapy dogs\, a free bouncy slide\, free art and craft activities\, dance lessons from an awesome local dancer\, and more to be announced!
URL:https://sunsetut.gov/event/mental-health-awareness-craft-fair/
LOCATION:Central Park\, 85 W 1800 N\, Sunset\, UT\, 840105
CATEGORIES:home
ATTACH;FMTTYPE=image/jpeg:https://sunsetut.gov/wp-content/uploads/2022/06/Mental-Health-Awareness-Craft-Fair.jpg
END:VEVENT
BEGIN:VEVENT
DTSTART;TZID=America/Denver:20220824T080000
DTEND;TZID=America/Denver:20220824T080000
DTSTAMP:20260421T200704
CREATED:20220822T160355Z
LAST-MODIFIED:20220822T161424Z
UID:944-1661328000-1661328000@sunsetut.gov
SUMMARY:Garbage & Recycling Pick Up
DESCRIPTION:
URL:https://sunsetut.gov/event/recycling-pick-up-4/
END:VEVENT
BEGIN:VEVENT
DTSTART;VALUE=DATE:20220727
DTEND;VALUE=DATE:20220728
DTSTAMP:20260421T200704
CREATED:20220622T172938Z
LAST-MODIFIED:20220822T161506Z
UID:669-1658880000-1658966399@sunsetut.gov
SUMMARY:Garbage & Recycling Pick Up
DESCRIPTION:
URL:https://sunsetut.gov/event/garbage-pick-up-4/
CATEGORIES:garbage
END:VEVENT
BEGIN:VEVENT
DTSTART;VALUE=DATE:20220720
DTEND;VALUE=DATE:20220721
DTSTAMP:20260421T200704
CREATED:20220622T172912Z
LAST-MODIFIED:20220822T161455Z
UID:667-1658275200-1658361599@sunsetut.gov
SUMMARY:Garbage & Recycling Pick Up
DESCRIPTION:
URL:https://sunsetut.gov/event/garbage-pick-up-3/
CATEGORIES:garbage
END:VEVENT
BEGIN:VEVENT
DTSTART;TZID=America/Denver:20220719T183000
DTEND;TZID=America/Denver:20220719T193000
DTSTAMP:20260421T200704
CREATED:20220622T173232Z
LAST-MODIFIED:20220622T173232Z
UID:677-1658255400-1658259000@sunsetut.gov
SUMMARY:City Council
DESCRIPTION:
URL:https://sunsetut.gov/event/city-council-3/
CATEGORIES:City Council
END:VEVENT
BEGIN:VEVENT
DTSTART;VALUE=DATE:20220715
DTEND;VALUE=DATE:20220717
DTSTAMP:20260421T200704
CREATED:20220607T171720Z
LAST-MODIFIED:20220610T165207Z
UID:466-1657843200-1658015999@sunsetut.gov
SUMMARY:Sunset City Fun Days
DESCRIPTION:Click the flyer to view the full version. \nSaturday\, the community will be hosting a community breakfast from 7 to 9 AM. Cost will be $5.00 for adults\, $3.00 for children. Please join us for pancakes\, eggs\, ham and juice! \nParade to follow at 10am starting at 250 W 2575 N to 250 W 975 N. \nParade Entry Form\nFill out the form here. \nVendors\n-Vehicles must be removed from grass immediately after unloading. \n-Spaces are first come\, first serve. \n-If you are planning on selling food items\, be sure to obtain a Temporary Food Service Permit from the Davis County Health Department\, located at 22 South State St. in Clearfield. You can call them at 801-525-5000 if you have any questions. \n-Duplication of food or item sales will not be allowed. If a vendor requests to sell a similar item\, the decision to allow the item will be up to the City Staff’s discretion. There are some items\, such as toys and jewelry\, that staff cannot predetermine their likeness to other vendors’ items. \n-A Sunset City employee will guide you to your assigned spot and your license certificate will be dropped off at your booth on Friday \nSET UP TIMES \nFriday: 12 noon to 4 PM \nSaturday: 6 to 10 AM \nTAKE DOWN TIMES \nFriday: 10 PM \nSaturday: After fireworks display \n*Softball field lights will be turned on immediately after the fireworks to help with takedown. \nIf you have any questions\, please contact 801-825-1628.
URL:https://sunsetut.gov/event/sunset-city-fun-days/
CATEGORIES:family,home
END:VEVENT
BEGIN:VEVENT
DTSTART;TZID=America/Denver:20220714T120000
DTEND;TZID=America/Denver:20220714T170000
DTSTAMP:20260421T200704
CREATED:20220610T162425Z
LAST-MODIFIED:20220610T165226Z
UID:574-1657800000-1657818000@sunsetut.gov
SUMMARY:Senior Luncheon
DESCRIPTION:July 14th 12pm at Central Park Turkey\, Ham\, Mashed Potatoes\, Gravy and Pie. Games and prizes to follow.
URL:https://sunsetut.gov/event/senior-luncheon/
CATEGORIES:home,Senior
END:VEVENT
BEGIN:VEVENT
DTSTART;VALUE=DATE:20220713
DTEND;VALUE=DATE:20220714
DTSTAMP:20260421T200704
CREATED:20220622T173032Z
LAST-MODIFIED:20220622T173032Z
UID:671-1657670400-1657756799@sunsetut.gov
SUMMARY:Recycling Pick Up
DESCRIPTION:
URL:https://sunsetut.gov/event/recycling-pick-up-2/
CATEGORIES:recycling
END:VEVENT
END:VCALENDAR