BEGIN:VCALENDAR
VERSION:2.0
PRODID:-//Sunset City - ECPv6.15.20//NONSGML v1.0//EN
CALSCALE:GREGORIAN
METHOD:PUBLISH
X-WR-CALNAME:Sunset City
X-ORIGINAL-URL:https://sunsetut.gov
X-WR-CALDESC:Events for Sunset City
REFRESH-INTERVAL;VALUE=DURATION:PT1H
X-Robots-Tag:noindex
X-PUBLISHED-TTL:PT1H
BEGIN:VTIMEZONE
TZID:America/Denver
BEGIN:DAYLIGHT
TZOFFSETFROM:-0700
TZOFFSETTO:-0600
TZNAME:MDT
DTSTART:20250309T090000
END:DAYLIGHT
BEGIN:STANDARD
TZOFFSETFROM:-0600
TZOFFSETTO:-0700
TZNAME:MST
DTSTART:20251102T080000
END:STANDARD
BEGIN:DAYLIGHT
TZOFFSETFROM:-0700
TZOFFSETTO:-0600
TZNAME:MDT
DTSTART:20260308T090000
END:DAYLIGHT
BEGIN:STANDARD
TZOFFSETFROM:-0600
TZOFFSETTO:-0700
TZNAME:MST
DTSTART:20261101T080000
END:STANDARD
BEGIN:DAYLIGHT
TZOFFSETFROM:-0700
TZOFFSETTO:-0600
TZNAME:MDT
DTSTART:20270314T090000
END:DAYLIGHT
BEGIN:STANDARD
TZOFFSETFROM:-0600
TZOFFSETTO:-0700
TZNAME:MST
DTSTART:20271107T080000
END:STANDARD
END:VTIMEZONE
BEGIN:VEVENT
DTSTART;VALUE=DATE:20260316
DTEND;VALUE=DATE:20260317
DTSTAMP:20260422T160655
CREATED:20260303T195503Z
LAST-MODIFIED:20260303T195503Z
UID:3738-1773619200-1773705599@sunsetut.gov
SUMMARY:Trash & Recycling Day
DESCRIPTION:
URL:https://sunsetut.gov/event/trash-recycling-day-3-16-26/
LOCATION:UT
CATEGORIES:Community Information,garbage,recycling
END:VEVENT
BEGIN:VEVENT
DTSTART;TZID=America/Denver:20260317T183000
DTEND;TZID=America/Denver:20260317T210000
DTSTAMP:20260422T160655
CREATED:20260303T165727Z
LAST-MODIFIED:20260303T172147Z
UID:3612-1773772200-1773781200@sunsetut.gov
SUMMARY:City Council Meeting
DESCRIPTION:🌟 Join Us at This Week’s City Council Meeting! 🌟 \nHey Sunset City! \nHave you ever wondered how local government decisions are made or wanted to see your elected officials in action? Now’s your chance! 📣 \n🗓 Date: Tuesday\, March 17th\, 2026 \n🕒 Time: 6:30pm \n📍 Location: Sunset City Hall (200 W. 1300 N.) \nBring your questions\, concerns\, and ideas! Let’s come together to support our City and learn more about how we can contribute to making our community even better. \nCurious about what’s on the agenda? Visit https://sunsetut.gov/agendas-minutes-2/ to preview what the Council will be discussing.
URL:https://sunsetut.gov/event/city-council-meeting-3-17-26/
LOCATION:Council Chambers\, 200 W 1300 N\, Sunset\, UT\, 84015\, United States
CATEGORIES:City Council,Community Information
ATTACH;FMTTYPE=image/png:https://sunsetut.gov/wp-content/uploads/2025/05/Upcoming-Council-Meeting-12.16.25.png
END:VEVENT
BEGIN:VEVENT
DTSTART;VALUE=DATE:20260323
DTEND;VALUE=DATE:20260324
DTSTAMP:20260422T160655
CREATED:20260303T202548Z
LAST-MODIFIED:20260303T202548Z
UID:3790-1774224000-1774310399@sunsetut.gov
SUMMARY:Trash Day (Only Trash!)
DESCRIPTION:
URL:https://sunsetut.gov/event/trash-day-3-23-26/
LOCATION:UT
CATEGORIES:Community Information,garbage,recycling
END:VEVENT
BEGIN:VEVENT
DTSTART;VALUE=DATE:20260330
DTEND;VALUE=DATE:20260331
DTSTAMP:20260422T160655
CREATED:20260303T195543Z
LAST-MODIFIED:20260303T200501Z
UID:3740-1774828800-1774915199@sunsetut.gov
SUMMARY:Trash & Recycling Day
DESCRIPTION:
URL:https://sunsetut.gov/event/trash-recycling-day-3-30-26/
LOCATION:UT
CATEGORIES:Community Information,garbage,recycling
END:VEVENT
BEGIN:VEVENT
DTSTART;TZID=America/Denver:20260404T100000
DTEND;TZID=America/Denver:20260404T120000
DTSTAMP:20260422T160655
CREATED:20260303T192213Z
LAST-MODIFIED:20260303T192401Z
UID:3708-1775296800-1775304000@sunsetut.gov
SUMMARY:Annual Easter Egg Hunt
DESCRIPTION:𝐒𝐔𝐍𝐒𝐄𝐓 𝐂𝐈𝐓𝐘 𝐄𝐀𝐒𝐓𝐄𝐑 𝐄𝐆𝐆 𝐇𝐔𝐍𝐓 𝟐𝟎𝟐𝟔  \n\nSpring is in the air\, and we’re egg-cited to invite you to one of our favorite community traditions! The Easter Bunny is hopping into town\, and we can’t wait to celebrate together.\n\n Saturday\, April 4th\, 2026 Starts at 10:00 AM sharp John G. White North Park (2400 N 250 W)\n\nBe sure to arrive on time — the eggs disappear quickly! Bring your baskets\, invite your neighbors\, and join us for a morning filled with fun\, laughter\, and community connection.\nWe had an incredible time last year with so many smiling faces\, eager egg hunters\, and families enjoying a beautiful morning at the park. It was truly a wonderful opportunity to gather as a community\, and we are looking forward to another fantastic event this year!\n\nWe can’t wait to see everyone there for an egg-stra special celebration! 
URL:https://sunsetut.gov/event/annual-easter-egg-hunt-3/
LOCATION:John G. White Memorial Park\, 2400 N 250 W\, Sunset\, UT\, 84015\, United States
CATEGORIES:Community Event,Community Information,family,Holidays
END:VEVENT
BEGIN:VEVENT
DTSTART;VALUE=DATE:20260406
DTEND;VALUE=DATE:20260407
DTSTAMP:20260422T160655
CREATED:20260303T202622Z
LAST-MODIFIED:20260303T202622Z
UID:3792-1775433600-1775519999@sunsetut.gov
SUMMARY:Trash Day (Only Trash!)
DESCRIPTION:
URL:https://sunsetut.gov/event/trash-day-4-6-26/
LOCATION:UT
CATEGORIES:Community Information,garbage,recycling
END:VEVENT
BEGIN:VEVENT
DTSTART;TZID=America/Denver:20260407T183000
DTEND;TZID=America/Denver:20260407T210000
DTSTAMP:20260422T160655
CREATED:20260303T172852Z
LAST-MODIFIED:20260303T172912Z
UID:3615-1775586600-1775595600@sunsetut.gov
SUMMARY:City Council Meeting
DESCRIPTION:🌟 Join Us at This Week’s City Council Meeting! 🌟 \nHey Sunset City! \nHave you ever wondered how local government decisions are made or wanted to see your elected officials in action? Now’s your chance! 📣 \n🗓 Date: Tuesday\, April 7th\, 2026 \n🕒 Time: 6:30pm \n📍 Location: Sunset City Hall (200 W. 1300 N.) \nBring your questions\, concerns\, and ideas! Let’s come together to support our City and learn more about how we can contribute to making our community even better. \nCurious about what’s on the agenda? Visit https://sunsetut.gov/agendas-minutes-2/ to preview what the Council will be discussing.
URL:https://sunsetut.gov/event/city-council-meeting-4-7-26/
LOCATION:Council Chambers\, 200 W 1300 N\, Sunset\, UT\, 84015\, United States
CATEGORIES:City Council,Community Information
ATTACH;FMTTYPE=image/png:https://sunsetut.gov/wp-content/uploads/2025/05/Upcoming-Council-Meeting-12.16.25.png
END:VEVENT
BEGIN:VEVENT
DTSTART;TZID=America/Denver:20260408T130000
DTEND;TZID=America/Denver:20260408T150000
DTSTAMP:20260422T160655
CREATED:20260304T181119Z
LAST-MODIFIED:20260304T182854Z
UID:3836-1775653200-1775660400@sunsetut.gov
SUMMARY:April - Sunset City Seniors Activity - Game Day
DESCRIPTION:🎲 Seniors Activity Day – Game Day Fun! 🍪 \nJoin us for this month’s Seniors Activity Day as we gather for a relaxing and enjoyable Game Day! Bring a favorite treat to share and come spend the afternoon playing social games\, visiting with friends\, and enjoying great company. \nWhether you’re competitive or just coming for the conversation\, this is a wonderful opportunity to connect and have fun together in a welcoming atmosphere. We would love to see you there! \n📅 Date: Wednesday\, April 8th⏰ Time: 1:00 PM📍 Location: Sunset Room \nBring a snack\, bring a friend\, and join us for a great afternoon! 💜
URL:https://sunsetut.gov/event/senior-activity-4-8-26/
LOCATION:Sunset City Hall\, 200 W 1300 N\, Sunset\, UT\, 84015\, United States
CATEGORIES:Community Event,Community Information,family,Holidays,Senior
END:VEVENT
BEGIN:VEVENT
DTSTART;TZID=America/Denver:20260409T183000
DTEND;TZID=America/Denver:20260409T210000
DTSTAMP:20260422T160655
CREATED:20260303T181423Z
LAST-MODIFIED:20260303T181423Z
UID:3681-1775759400-1775768400@sunsetut.gov
SUMMARY:Planning Commission Meeting
DESCRIPTION:📢 Sunset City Planning Commission Meeting 📢 \nAttention Sunset City residents! 🌅 Your voice matters in shaping the future of our community! Join us at the upcoming Planning Commission Meeting to stay informed and share your input on important local projects and developments. \n🗓 Date: Thursday\, April 9th\, 2026⏰ Time: 6:30 PM📍 Location: Sunset City Hall – Council Chambers \nDon’t miss this opportunity to get involved in the decisions that impact our city. Whether you’re curious about current projects or want to share your perspective\, we’d love to see you there! \n📑 Scan the QR code in the image above or visit https://sunsetut.gov/agendas-minutes/ to view the agenda and minutes. \nTogether\, let’s keep Sunset City a vibrant and thriving place to live! 🌟
URL:https://sunsetut.gov/event/planning-commission-4-9-26/
LOCATION:Council Chambers\, 200 W 1300 N\, Sunset\, UT\, 84015\, United States
CATEGORIES:Community Information,Planning Commission Meeting
ATTACH;FMTTYPE=image/png:https://sunsetut.gov/wp-content/uploads/2025/05/12.11.25-Planning-Commission-Meeting-Notification-Image.png
END:VEVENT
BEGIN:VEVENT
DTSTART;VALUE=DATE:20260413
DTEND;VALUE=DATE:20260414
DTSTAMP:20260422T160655
CREATED:20260303T200551Z
LAST-MODIFIED:20260303T200551Z
UID:3742-1776038400-1776124799@sunsetut.gov
SUMMARY:Trash & Recycling Day
DESCRIPTION:
URL:https://sunsetut.gov/event/trash-recycling-day-4-13-26/
LOCATION:UT
CATEGORIES:Community Information,garbage,recycling
END:VEVENT
BEGIN:VEVENT
DTSTART;VALUE=DATE:20260420
DTEND;VALUE=DATE:20260421
DTSTAMP:20260422T160655
CREATED:20260303T202657Z
LAST-MODIFIED:20260303T202657Z
UID:3794-1776643200-1776729599@sunsetut.gov
SUMMARY:Trash Day (Only Trash!)
DESCRIPTION:
URL:https://sunsetut.gov/event/trash-day-4-20-26/
LOCATION:UT
CATEGORIES:Community Information,garbage,recycling
END:VEVENT
BEGIN:VEVENT
DTSTART;TZID=America/Denver:20260421T183000
DTEND;TZID=America/Denver:20260421T210000
DTSTAMP:20260422T160655
CREATED:20260303T173027Z
LAST-MODIFIED:20260303T173317Z
UID:3619-1776796200-1776805200@sunsetut.gov
SUMMARY:City Council Meeting
DESCRIPTION:🌟 Join Us at This Week’s City Council Meeting! 🌟 \nHey Sunset City! \nHave you ever wondered how local government decisions are made or wanted to see your elected officials in action? Now’s your chance! 📣 \n🗓 Date: Tuesday\, April 21st\, 2026 \n🕒 Time: 6:30pm \n📍 Location: Sunset City Hall (200 W. 1300 N.) \nBring your questions\, concerns\, and ideas! Let’s come together to support our City and learn more about how we can contribute to making our community even better. \nCurious about what’s on the agenda? Visit https://sunsetut.gov/agendas-minutes-2/ to preview what the Council will be discussing.
URL:https://sunsetut.gov/event/city-council-meeting-4-21-26/
LOCATION:Council Chambers\, 200 W 1300 N\, Sunset\, UT\, 84015\, United States
CATEGORIES:City Council,Community Information
ATTACH;FMTTYPE=image/png:https://sunsetut.gov/wp-content/uploads/2025/05/Upcoming-Council-Meeting-12.16.25.png
END:VEVENT
BEGIN:VEVENT
DTSTART;VALUE=DATE:20260427
DTEND;VALUE=DATE:20260428
DTSTAMP:20260422T160655
CREATED:20260303T200627Z
LAST-MODIFIED:20260303T200627Z
UID:3744-1777248000-1777334399@sunsetut.gov
SUMMARY:Trash & Recycling Day
DESCRIPTION:
URL:https://sunsetut.gov/event/trash-recycling-day-4-27-26/
LOCATION:UT
CATEGORIES:Community Information,garbage,recycling
END:VEVENT
BEGIN:VEVENT
DTSTART;VALUE=DATE:20260504
DTEND;VALUE=DATE:20260505
DTSTAMP:20260422T160655
CREATED:20260303T202732Z
LAST-MODIFIED:20260303T202732Z
UID:3796-1777852800-1777939199@sunsetut.gov
SUMMARY:Trash Day (Only Trash!)
DESCRIPTION:
URL:https://sunsetut.gov/event/trash-day-5-4-26/
LOCATION:UT
CATEGORIES:Community Information,garbage,recycling
END:VEVENT
BEGIN:VEVENT
DTSTART;TZID=America/Denver:20260505T183000
DTEND;TZID=America/Denver:20260505T210000
DTSTAMP:20260422T160655
CREATED:20260303T173426Z
LAST-MODIFIED:20260303T173447Z
UID:3622-1778005800-1778014800@sunsetut.gov
SUMMARY:City Council Meeting
DESCRIPTION:🌟 Join Us at This Week’s City Council Meeting! 🌟 \nHey Sunset City! \nHave you ever wondered how local government decisions are made or wanted to see your elected officials in action? Now’s your chance! 📣 \n🗓 Date: Tuesday\, May 5th\, 2026 \n🕒 Time: 6:30pm \n📍 Location: Sunset City Hall (200 W. 1300 N.) \nBring your questions\, concerns\, and ideas! Let’s come together to support our City and learn more about how we can contribute to making our community even better. \nCurious about what’s on the agenda? Visit https://sunsetut.gov/agendas-minutes-2/ to preview what the Council will be discussing.
URL:https://sunsetut.gov/event/city-council-meeting-5-5-26/
LOCATION:Council Chambers\, 200 W 1300 N\, Sunset\, UT\, 84015\, United States
CATEGORIES:City Council,Community Information
ATTACH;FMTTYPE=image/png:https://sunsetut.gov/wp-content/uploads/2025/05/Upcoming-Council-Meeting-12.16.25.png
END:VEVENT
BEGIN:VEVENT
DTSTART;VALUE=DATE:20260511
DTEND;VALUE=DATE:20260512
DTSTAMP:20260422T160655
CREATED:20260303T200702Z
LAST-MODIFIED:20260303T200702Z
UID:3746-1778457600-1778543999@sunsetut.gov
SUMMARY:Trash & Recycling Day
DESCRIPTION:
URL:https://sunsetut.gov/event/trash-recycling-day-5-11-26/
LOCATION:UT
CATEGORIES:Community Information,garbage,recycling
END:VEVENT
BEGIN:VEVENT
DTSTART;TZID=America/Denver:20260513T130000
DTEND;TZID=America/Denver:20260513T150000
DTSTAMP:20260422T160655
CREATED:20260304T182647Z
LAST-MODIFIED:20260304T182647Z
UID:3840-1778677200-1778684400@sunsetut.gov
SUMMARY:May - Sunset City Seniors Activity - Munch & Mingle
DESCRIPTION:🥪 Seniors Activity Day – Munch & Mingle! 🌳 \nJoin us this month for a relaxed and enjoyable Munch & Mingle during Seniors Activity Day! Pack a sack lunch and come spend the afternoon visiting\, laughing\, and enjoying time together outdoors. \nWe’ll be gathering at the pavilion at Rachael Runyan Park\, so bring your lunch\, a comfortable chair if you’d like\, and come ready for great conversation and fresh air. It’s the perfect opportunity to connect and unwind with friends in our senior community. \n📅 Date: Wednesday\, May 13th⏰ Time: 1:00 PM📍 Location: Pavilion at Rachael Runyan Park \nWe look forward to seeing you there for a wonderful afternoon together! 💜
URL:https://sunsetut.gov/event/senior-activity-5-13-26/
LOCATION:Rachael Runyan Memorial Park\, 975 N. 200 W.\, Sunset\, UT\, 84015\, United States
CATEGORIES:Community Event,Community Information,family,Holidays,Senior
END:VEVENT
BEGIN:VEVENT
DTSTART;TZID=America/Denver:20260514T183000
DTEND;TZID=America/Denver:20260514T210000
DTSTAMP:20260422T160655
CREATED:20260303T181539Z
LAST-MODIFIED:20260303T181539Z
UID:3684-1778783400-1778792400@sunsetut.gov
SUMMARY:Planning Commission Meeting
DESCRIPTION:📢 Sunset City Planning Commission Meeting 📢 \nAttention Sunset City residents! 🌅 Your voice matters in shaping the future of our community! Join us at the upcoming Planning Commission Meeting to stay informed and share your input on important local projects and developments. \n🗓 Date: Thursday\, May 14th\, 2026⏰ Time: 6:30 PM📍 Location: Sunset City Hall – Council Chambers \nDon’t miss this opportunity to get involved in the decisions that impact our city. Whether you’re curious about current projects or want to share your perspective\, we’d love to see you there! \n📑 Scan the QR code in the image above or visit https://sunsetut.gov/agendas-minutes/ to view the agenda and minutes. \nTogether\, let’s keep Sunset City a vibrant and thriving place to live! 🌟
URL:https://sunsetut.gov/event/planning-commission-5-14-26/
LOCATION:Council Chambers\, 200 W 1300 N\, Sunset\, UT\, 84015\, United States
CATEGORIES:Community Information,Planning Commission Meeting
ATTACH;FMTTYPE=image/png:https://sunsetut.gov/wp-content/uploads/2025/05/12.11.25-Planning-Commission-Meeting-Notification-Image.png
END:VEVENT
BEGIN:VEVENT
DTSTART;VALUE=DATE:20260518
DTEND;VALUE=DATE:20260519
DTSTAMP:20260422T160655
CREATED:20260303T202806Z
LAST-MODIFIED:20260303T202806Z
UID:3798-1779062400-1779148799@sunsetut.gov
SUMMARY:Trash Day (Only Trash!)
DESCRIPTION:
URL:https://sunsetut.gov/event/trash-day-5-18-26/
LOCATION:UT
CATEGORIES:Community Information,garbage,recycling
END:VEVENT
BEGIN:VEVENT
DTSTART;TZID=America/Denver:20260519T183000
DTEND;TZID=America/Denver:20260519T210000
DTSTAMP:20260422T160655
CREATED:20260303T173627Z
LAST-MODIFIED:20260303T173627Z
UID:3625-1779215400-1779224400@sunsetut.gov
SUMMARY:City Council Meeting
DESCRIPTION:🌟 Join Us at This Week’s City Council Meeting! 🌟 \nHey Sunset City! \nHave you ever wondered how local government decisions are made or wanted to see your elected officials in action? Now’s your chance! 📣 \n🗓 Date: Tuesday\, May 19th\, 2026 \n🕒 Time: 6:30pm \n📍 Location: Sunset City Hall (200 W. 1300 N.) \nBring your questions\, concerns\, and ideas! Let’s come together to support our City and learn more about how we can contribute to making our community even better. \nCurious about what’s on the agenda? Visit https://sunsetut.gov/agendas-minutes-2/ to preview what the Council will be discussing.
URL:https://sunsetut.gov/event/city-council-meeting-5-19-26/
LOCATION:Council Chambers\, 200 W 1300 N\, Sunset\, UT\, 84015\, United States
CATEGORIES:City Council,Community Information
ATTACH;FMTTYPE=image/png:https://sunsetut.gov/wp-content/uploads/2025/05/Upcoming-Council-Meeting-12.16.25.png
END:VEVENT
BEGIN:VEVENT
DTSTART;VALUE=DATE:20260525
DTEND;VALUE=DATE:20260526
DTSTAMP:20260422T160655
CREATED:20260303T163106Z
LAST-MODIFIED:20260303T163156Z
UID:3578-1779667200-1779753599@sunsetut.gov
SUMMARY:Office Closed - Memorial Day
DESCRIPTION:
URL:https://sunsetut.gov/event/office-closed-memorial-day-2/
LOCATION:Sunset City Hall\, 200 W 1300 N\, Sunset\, UT\, 84015\, United States
CATEGORIES:Community Information,Holidays
END:VEVENT
BEGIN:VEVENT
DTSTART;VALUE=DATE:20260525
DTEND;VALUE=DATE:20260526
DTSTAMP:20260422T160655
CREATED:20260303T200738Z
LAST-MODIFIED:20260303T200824Z
UID:3748-1779667200-1779753599@sunsetut.gov
SUMMARY:Trash & Recycling Day
DESCRIPTION:
URL:https://sunsetut.gov/event/trash-recycling-day-5-25-26/
LOCATION:UT
CATEGORIES:Community Information,garbage,recycling
END:VEVENT
BEGIN:VEVENT
DTSTART;VALUE=DATE:20260601
DTEND;VALUE=DATE:20260602
DTSTAMP:20260422T160655
CREATED:20260303T202841Z
LAST-MODIFIED:20260303T202841Z
UID:3800-1780272000-1780358399@sunsetut.gov
SUMMARY:Trash Day (Only Trash!)
DESCRIPTION:
URL:https://sunsetut.gov/event/trash-day-6-1-26/
LOCATION:UT
CATEGORIES:Community Information,garbage,recycling
END:VEVENT
BEGIN:VEVENT
DTSTART;TZID=America/Denver:20260602T183000
DTEND;TZID=America/Denver:20260602T210000
DTSTAMP:20260422T160655
CREATED:20260303T173747Z
LAST-MODIFIED:20260303T173747Z
UID:3628-1780425000-1780434000@sunsetut.gov
SUMMARY:City Council Meeting
DESCRIPTION:🌟 Join Us at This Week’s City Council Meeting! 🌟 \nHey Sunset City! \nHave you ever wondered how local government decisions are made or wanted to see your elected officials in action? Now’s your chance! 📣 \n🗓 Date: Tuesday\, June 2nd\, 2026 \n🕒 Time: 6:30pm \n📍 Location: Sunset City Hall (200 W. 1300 N.) \nBring your questions\, concerns\, and ideas! Let’s come together to support our City and learn more about how we can contribute to making our community even better. \nCurious about what’s on the agenda? Visit https://sunsetut.gov/agendas-minutes-2/ to preview what the Council will be discussing.
URL:https://sunsetut.gov/event/city-council-meeting-6-2-26/
LOCATION:Council Chambers\, 200 W 1300 N\, Sunset\, UT\, 84015\, United States
CATEGORIES:City Council,Community Information
ATTACH;FMTTYPE=image/png:https://sunsetut.gov/wp-content/uploads/2025/05/Upcoming-Council-Meeting-12.16.25.png
END:VEVENT
BEGIN:VEVENT
DTSTART;VALUE=DATE:20260608
DTEND;VALUE=DATE:20260609
DTSTAMP:20260422T160655
CREATED:20260303T200902Z
LAST-MODIFIED:20260303T200910Z
UID:3750-1780876800-1780963199@sunsetut.gov
SUMMARY:Trash & Recycling Day
DESCRIPTION:
URL:https://sunsetut.gov/event/trash-recycling-day-6-8-26/
LOCATION:UT
CATEGORIES:Community Information,garbage,recycling
END:VEVENT
BEGIN:VEVENT
DTSTART;TZID=America/Denver:20260610T130000
DTEND;TZID=America/Denver:20260610T150000
DTSTAMP:20260422T160655
CREATED:20260304T192727Z
LAST-MODIFIED:20260304T193703Z
UID:3850-1781096400-1781103600@sunsetut.gov
SUMMARY:June - Sunset City Seniors Activity - Bingo Day
DESCRIPTION:🎉 Seniors Activity Day – Bingo Day! 🎉 \nJoin us this month for a fun and lively Bingo Day during Seniors Activity Day! 🧠🎲 Get ready for an afternoon filled with laughter\, friendly competition\, and great company. \nTo make the game even more exciting\, we invite participants to bring a “white elephant”–style prize to donate for our bingo prizes 🎁. The prize can be fun\, quirky\, or creative—just something that will add to the enjoyment for everyone! \nWhether you’re playing bingo\, donating a prize\, or simply coming to socialize\, we would love to see you there. Thank you for helping make this a fun and memorable activity for our senior community! 💜
URL:https://sunsetut.gov/event/senior-activity-6-10-26/
LOCATION:Sunset City Hall\, 200 W 1300 N\, Sunset\, UT\, 84015\, United States
CATEGORIES:Community Event,Community Information,family,Holidays,Senior
END:VEVENT
BEGIN:VEVENT
DTSTART;TZID=America/Denver:20260611T183000
DTEND;TZID=America/Denver:20260611T210000
DTSTAMP:20260422T160655
CREATED:20260303T181650Z
LAST-MODIFIED:20260303T181650Z
UID:3687-1781202600-1781211600@sunsetut.gov
SUMMARY:Planning Commission Meeting
DESCRIPTION:📢 Sunset City Planning Commission Meeting 📢 \nAttention Sunset City residents! 🌅 Your voice matters in shaping the future of our community! Join us at the upcoming Planning Commission Meeting to stay informed and share your input on important local projects and developments. \n🗓 Date: Thursday\, June 11th\, 2026⏰ Time: 6:30 PM📍 Location: Sunset City Hall – Council Chambers \nDon’t miss this opportunity to get involved in the decisions that impact our city. Whether you’re curious about current projects or want to share your perspective\, we’d love to see you there! \n📑 Scan the QR code in the image above or visit https://sunsetut.gov/agendas-minutes/ to view the agenda and minutes. \nTogether\, let’s keep Sunset City a vibrant and thriving place to live! 🌟
URL:https://sunsetut.gov/event/planning-commission-6-11-26/
LOCATION:Council Chambers\, 200 W 1300 N\, Sunset\, UT\, 84015\, United States
CATEGORIES:Community Information,Planning Commission Meeting
ATTACH;FMTTYPE=image/png:https://sunsetut.gov/wp-content/uploads/2025/05/12.11.25-Planning-Commission-Meeting-Notification-Image.png
END:VEVENT
BEGIN:VEVENT
DTSTART;VALUE=DATE:20260615
DTEND;VALUE=DATE:20260616
DTSTAMP:20260422T160655
CREATED:20260303T202922Z
LAST-MODIFIED:20260303T202922Z
UID:3802-1781481600-1781567999@sunsetut.gov
SUMMARY:Trash Day (Only Trash!)
DESCRIPTION:
URL:https://sunsetut.gov/event/trash-day-6-15-26/
LOCATION:UT
CATEGORIES:Community Information,garbage,recycling
END:VEVENT
BEGIN:VEVENT
DTSTART;TZID=America/Denver:20260616T183000
DTEND;TZID=America/Denver:20260616T210000
DTSTAMP:20260422T160655
CREATED:20260303T174245Z
LAST-MODIFIED:20260303T174635Z
UID:3631-1781634600-1781643600@sunsetut.gov
SUMMARY:City Council Meeting
DESCRIPTION:🌟 Join Us at This Week’s City Council Meeting! 🌟 \nHey Sunset City! \nHave you ever wondered how local government decisions are made or wanted to see your elected officials in action? Now’s your chance! 📣 \n🗓 Date: Tuesday\, June 16th\, 2026 \n🕒 Time: 6:30pm \n📍 Location: Sunset City Hall (200 W. 1300 N.) \nBring your questions\, concerns\, and ideas! Let’s come together to support our City and learn more about how we can contribute to making our community even better. \nCurious about what’s on the agenda? Visit https://sunsetut.gov/agendas-minutes-2/ to preview what the Council will be discussing.
URL:https://sunsetut.gov/event/city-council-meeting-6-16-26/
LOCATION:Council Chambers\, 200 W 1300 N\, Sunset\, UT\, 84015\, United States
CATEGORIES:City Council,Community Information
ATTACH;FMTTYPE=image/png:https://sunsetut.gov/wp-content/uploads/2025/05/Upcoming-Council-Meeting-12.16.25.png
END:VEVENT
BEGIN:VEVENT
DTSTART;VALUE=DATE:20260619
DTEND;VALUE=DATE:20260620
DTSTAMP:20260422T160655
CREATED:20260303T163306Z
LAST-MODIFIED:20260303T163306Z
UID:3580-1781827200-1781913599@sunsetut.gov
SUMMARY:Office Closed - Juneteenth
DESCRIPTION:
URL:https://sunsetut.gov/event/office-closed-juneteenth-2/
LOCATION:Sunset City Hall\, 200 W 1300 N\, Sunset\, UT\, 84015\, United States
CATEGORIES:Community Information,Holidays
END:VEVENT
END:VCALENDAR