BEGIN:VCALENDAR
VERSION:2.0
PRODID:-//Sunset City - ECPv6.15.20//NONSGML v1.0//EN
CALSCALE:GREGORIAN
METHOD:PUBLISH
X-WR-CALNAME:Sunset City
X-ORIGINAL-URL:https://sunsetut.gov
X-WR-CALDESC:Events for Sunset City
REFRESH-INTERVAL;VALUE=DURATION:PT1H
X-Robots-Tag:noindex
X-PUBLISHED-TTL:PT1H
BEGIN:VTIMEZONE
TZID:America/Denver
BEGIN:DAYLIGHT
TZOFFSETFROM:-0700
TZOFFSETTO:-0600
TZNAME:MDT
DTSTART:20220313T090000
END:DAYLIGHT
BEGIN:STANDARD
TZOFFSETFROM:-0600
TZOFFSETTO:-0700
TZNAME:MST
DTSTART:20221106T080000
END:STANDARD
BEGIN:DAYLIGHT
TZOFFSETFROM:-0700
TZOFFSETTO:-0600
TZNAME:MDT
DTSTART:20230312T090000
END:DAYLIGHT
BEGIN:STANDARD
TZOFFSETFROM:-0600
TZOFFSETTO:-0700
TZNAME:MST
DTSTART:20231105T080000
END:STANDARD
BEGIN:DAYLIGHT
TZOFFSETFROM:-0700
TZOFFSETTO:-0600
TZNAME:MDT
DTSTART:20240310T090000
END:DAYLIGHT
BEGIN:STANDARD
TZOFFSETFROM:-0600
TZOFFSETTO:-0700
TZNAME:MST
DTSTART:20241103T080000
END:STANDARD
BEGIN:DAYLIGHT
TZOFFSETFROM:-0700
TZOFFSETTO:-0600
TZNAME:MDT
DTSTART:20250309T090000
END:DAYLIGHT
BEGIN:STANDARD
TZOFFSETFROM:-0600
TZOFFSETTO:-0700
TZNAME:MST
DTSTART:20251102T080000
END:STANDARD
END:VTIMEZONE
BEGIN:VEVENT
DTSTART;TZID=America/Denver:20230712T080000
DTEND;TZID=America/Denver:20230712T083000
DTSTAMP:20260422T154648
CREATED:20230213T154553Z
LAST-MODIFIED:20230213T154553Z
UID:1347-1689148800-1689150600@sunsetut.gov
SUMMARY:Recycling Day
DESCRIPTION:
URL:https://sunsetut.gov/event/recycling-day-10/
END:VEVENT
BEGIN:VEVENT
DTSTART;TZID=America/Denver:20230712T080000
DTEND;TZID=America/Denver:20230712T170000
DTSTAMP:20260422T154648
CREATED:20230616T165326Z
LAST-MODIFIED:20230616T165326Z
UID:1585-1689148800-1689181200@sunsetut.gov
SUMMARY:Garbage Day
DESCRIPTION:
URL:https://sunsetut.gov/event/garbage-day-9/
END:VEVENT
BEGIN:VEVENT
DTSTART;VALUE=DATE:20230714
DTEND;VALUE=DATE:20230716
DTSTAMP:20260422T154648
CREATED:20230510T225504Z
LAST-MODIFIED:20230531T142738Z
UID:1542-1689292800-1689465599@sunsetut.gov
SUMMARY:Sunset City Fun Days
DESCRIPTION:Join us for Fun Days! July 14th-15th! We hope to see you all there! \nParade Entry Form click here \nParade Route click here \nParade Line Up Map click here \nTo be a Vendor at Fun Days please come into the City Office and fill out the necessary form and pay the fee. \nTo participate in the Car Show or Friday Night Cruise please register the day of on Friday or Saturday. \nTo participate in the 5k Run please register the day of. \nCouncil Breakfast will be at Central Park free with a request for donations. \n  \nSchedule: \nFriday- July 14\, 2023\n★\n5:00 p.m.\n○ Inflatables open until 10:00 p.m.\n6:00 p.m.\n○ North Park: Skate Contest \, cost is $5.00\n○ Central Park: Vendor Booths Open\n○ Car Cruise @ North Park until 9pm\nDusk.\n○ Movie in the Park – TBD : @ Central Park\nSaturday- July 15\, 2023\n★\n6:30 a.m.\n○ West Parking Lot Central Park: 5k Registration\, start race at 7:00 a.m. Cost is $15.00 : includes t-shirt\n7:00 a.m.\n○ Central Park Bowery: Breakfast – Cost: Donations welcome\n10:00 a.m.\n○ 250 West- Parade\n○ Central Park- Car Show – goes until 4:00 p.m.\n○ Central Park- Vendor Booths Open\n11:00 a.m.\n○ Inflatables open until 11:00 p.m\n○ D.J.\nDusk\n○ Central Park: Laser light show
URL:https://sunsetut.gov/event/sunset-city-fun-days-2/
CATEGORIES:City Council,family,home
ATTACH;FMTTYPE=image/jpeg:https://sunsetut.gov/wp-content/uploads/2023/05/Fundays2023.jpg
END:VEVENT
BEGIN:VEVENT
DTSTART;TZID=America/Denver:20230719T080000
DTEND;TZID=America/Denver:20230719T170000
DTSTAMP:20260422T154648
CREATED:20230616T165345Z
LAST-MODIFIED:20230616T165345Z
UID:1587-1689753600-1689786000@sunsetut.gov
SUMMARY:Garbage Day
DESCRIPTION:
URL:https://sunsetut.gov/event/garbage-day-10/
END:VEVENT
BEGIN:VEVENT
DTSTART;TZID=America/Denver:20230724T080000
DTEND;TZID=America/Denver:20230724T170000
DTSTAMP:20260422T154648
CREATED:20230213T161515Z
LAST-MODIFIED:20230213T163231Z
UID:1386-1690185600-1690218000@sunsetut.gov
SUMMARY:Pioneer Day
DESCRIPTION:
URL:https://sunsetut.gov/event/pioneer-day/
ATTACH;FMTTYPE=image/webp:https://sunsetut.gov/wp-content/uploads/2023/02/Utah-Pioneer-Day.webp
END:VEVENT
BEGIN:VEVENT
DTSTART;TZID=America/Denver:20230726T080000
DTEND;TZID=America/Denver:20230726T083000
DTSTAMP:20260422T154648
CREATED:20230213T154616Z
LAST-MODIFIED:20230213T154616Z
UID:1349-1690358400-1690360200@sunsetut.gov
SUMMARY:Recycling Day
DESCRIPTION:
URL:https://sunsetut.gov/event/recycling-day-11/
END:VEVENT
BEGIN:VEVENT
DTSTART;TZID=America/Denver:20230726T080000
DTEND;TZID=America/Denver:20230726T170000
DTSTAMP:20260422T154648
CREATED:20230616T165410Z
LAST-MODIFIED:20230616T165410Z
UID:1589-1690358400-1690390800@sunsetut.gov
SUMMARY:Garbage Day
DESCRIPTION:
URL:https://sunsetut.gov/event/garbage-day-11/
END:VEVENT
BEGIN:VEVENT
DTSTART;TZID=America/Denver:20230809T080000
DTEND;TZID=America/Denver:20230809T083000
DTSTAMP:20260422T154648
CREATED:20230213T154637Z
LAST-MODIFIED:20230213T154637Z
UID:1351-1691568000-1691569800@sunsetut.gov
SUMMARY:Recycling Day
DESCRIPTION:
URL:https://sunsetut.gov/event/recycling-day-12/
END:VEVENT
BEGIN:VEVENT
DTSTART;TZID=America/Denver:20230823T080000
DTEND;TZID=America/Denver:20230823T083000
DTSTAMP:20260422T154648
CREATED:20230213T154701Z
LAST-MODIFIED:20230213T154701Z
UID:1353-1692777600-1692779400@sunsetut.gov
SUMMARY:Recycling Day
DESCRIPTION:
URL:https://sunsetut.gov/event/recycling-day-13/
END:VEVENT
BEGIN:VEVENT
DTSTART;TZID=America/Denver:20230826T100000
DTEND;TZID=America/Denver:20230826T200000
DTSTAMP:20260422T154648
CREATED:20230801T140227Z
LAST-MODIFIED:20230801T140559Z
UID:1619-1693044000-1693080000@sunsetut.gov
SUMMARY:Sunset City's Mental Health Craft Fair
DESCRIPTION:
URL:https://sunsetut.gov/event/sunset-citys-mental-health-craft-fair/
LOCATION:Central Park\, 85 W 1800 N\, Sunset\, UT\, 840105
ATTACH;FMTTYPE=image/png:https://sunsetut.gov/wp-content/uploads/2023/08/Mental-Health-Flyer-2023-2.png
END:VEVENT
BEGIN:VEVENT
DTSTART;TZID=America/Denver:20230904T080000
DTEND;TZID=America/Denver:20230904T170000
DTSTAMP:20260422T154648
CREATED:20230213T161608Z
LAST-MODIFIED:20230213T162037Z
UID:1389-1693814400-1693846800@sunsetut.gov
SUMMARY:Labor Day - City Office's Closed
DESCRIPTION:
URL:https://sunsetut.gov/event/labor-day-city-offices-closed/
ATTACH;FMTTYPE=image/jpeg:https://sunsetut.gov/wp-content/uploads/2023/02/labor-day-various-professions-representation-background-design-free-vector.jpg
END:VEVENT
BEGIN:VEVENT
DTSTART;TZID=America/Denver:20230907T080000
DTEND;TZID=America/Denver:20230907T083000
DTSTAMP:20260422T154648
CREATED:20230907T144723Z
LAST-MODIFIED:20230213T160450Z
UID:1355-1694073600-1694075400@sunsetut.gov
SUMMARY:Recycling Day
DESCRIPTION:
URL:https://sunsetut.gov/event/recycling-day-14/
END:VEVENT
BEGIN:VEVENT
DTSTART;TZID=America/Denver:20230909T080000
DTEND;TZID=America/Denver:20230909T170000
DTSTAMP:20260422T154648
CREATED:20230808T222941Z
LAST-MODIFIED:20230808T222941Z
UID:1629-1694246400-1694278800@sunsetut.gov
SUMMARY:Day of Service
DESCRIPTION:
URL:https://sunsetut.gov/event/day-of-service/
CATEGORIES:family,home
ATTACH;FMTTYPE=image/jpeg:https://sunsetut.gov/wp-content/uploads/2023/08/911-Service.jpg
END:VEVENT
BEGIN:VEVENT
DTSTART;TZID=America/Denver:20230920T090000
DTEND;TZID=America/Denver:20231013T160000
DTSTAMP:20260422T154648
CREATED:20231002T180330Z
LAST-MODIFIED:20231002T180449Z
UID:1734-1695200400-1697212800@sunsetut.gov
SUMMARY:Youth Council Costume Drive
DESCRIPTION:
URL:https://sunsetut.gov/event/youth-council-costume-drive/
LOCATION:Sunset City Hall\, 200 W 1300 N\, Sunset\, UT\, 84015\, United States
CATEGORIES:family
ATTACH;FMTTYPE=image/jpeg:https://sunsetut.gov/wp-content/uploads/2023/09/Costume-Drive.jpeg
END:VEVENT
BEGIN:VEVENT
DTSTART;TZID=America/Denver:20231004T080000
DTEND;TZID=America/Denver:20231004T083000
DTSTAMP:20260422T154648
CREATED:20230213T154828Z
LAST-MODIFIED:20230213T154828Z
UID:1359-1696406400-1696408200@sunsetut.gov
SUMMARY:Recycling Day
DESCRIPTION:
URL:https://sunsetut.gov/event/recycling-day-16/
END:VEVENT
BEGIN:VEVENT
DTSTART;TZID=America/Denver:20231009T080000
DTEND;TZID=America/Denver:20231009T170000
DTSTAMP:20260422T154648
CREATED:20230213T161711Z
LAST-MODIFIED:20230213T161940Z
UID:1392-1696838400-1696870800@sunsetut.gov
SUMMARY:Columbus Day - City Office's Closed
DESCRIPTION:
URL:https://sunsetut.gov/event/columbus-day-city-offices-closed/
ATTACH;FMTTYPE=image/png:https://sunsetut.gov/wp-content/uploads/2023/02/columbus.png
END:VEVENT
BEGIN:VEVENT
DTSTART;TZID=America/Denver:20231018T080000
DTEND;TZID=America/Denver:20231018T083000
DTSTAMP:20260422T154648
CREATED:20230213T154851Z
LAST-MODIFIED:20230213T154851Z
UID:1361-1697616000-1697617800@sunsetut.gov
SUMMARY:Recycling Day
DESCRIPTION:
URL:https://sunsetut.gov/event/recycling-day-17/
END:VEVENT
BEGIN:VEVENT
DTSTART;TZID=America/Denver:20231101T080000
DTEND;TZID=America/Denver:20231101T083000
DTSTAMP:20260422T154648
CREATED:20230213T154913Z
LAST-MODIFIED:20230213T155553Z
UID:1363-1698825600-1698827400@sunsetut.gov
SUMMARY:Recycling Day
DESCRIPTION:
URL:https://sunsetut.gov/event/recycling-day-18/
END:VEVENT
BEGIN:VEVENT
DTSTART;TZID=America/Denver:20231111T080000
DTEND;TZID=America/Denver:20231111T170000
DTSTAMP:20260422T154648
CREATED:20230213T161819Z
LAST-MODIFIED:20230213T163139Z
UID:1395-1699689600-1699722000@sunsetut.gov
SUMMARY:Veterans Day - City Office's Closed
DESCRIPTION:
URL:https://sunsetut.gov/event/veterans-day-city-offices-closed/
ATTACH;FMTTYPE=image/jpeg:https://sunsetut.gov/wp-content/uploads/2023/02/veterans-day_0.jpg
END:VEVENT
BEGIN:VEVENT
DTSTART;TZID=America/Denver:20231111T163000
DTEND;TZID=America/Denver:20231111T180000
DTSTAMP:20260422T154648
CREATED:20231023T170055Z
LAST-MODIFIED:20231023T170558Z
UID:1765-1699720200-1699725600@sunsetut.gov
SUMMARY:Veterans Program
DESCRIPTION:The City would like to honor the Veterans in our City\, join us for our annual Veterans Program hosted by Council Member Smalling.
URL:https://sunsetut.gov/event/veterans-program/
LOCATION:Sunset City Hall\, 200 W 1300 N\, Sunset\, UT\, 84015\, United States
CATEGORIES:family,home,Senior
ATTACH;FMTTYPE=image/png:https://sunsetut.gov/wp-content/uploads/2023/10/image-1.png
ORGANIZER;CN="Council Member Nancy Smalling":MAILTO:nsmalling@sunset-ut.com
END:VEVENT
BEGIN:VEVENT
DTSTART;TZID=America/Denver:20231115T080000
DTEND;TZID=America/Denver:20231115T083000
DTSTAMP:20260422T154648
CREATED:20230213T155619Z
LAST-MODIFIED:20230213T155619Z
UID:1365-1700035200-1700037000@sunsetut.gov
SUMMARY:Recycling Day
DESCRIPTION:
URL:https://sunsetut.gov/event/recycling-day-19/
END:VEVENT
BEGIN:VEVENT
DTSTART;TZID=America/Denver:20231128T080000
DTEND;TZID=America/Denver:20231215T170000
DTSTAMP:20260422T154648
CREATED:20221128T185838Z
LAST-MODIFIED:20231128T220414Z
UID:1160-1701158400-1702659600@sunsetut.gov
SUMMARY:Letters to Santa Dropoff
DESCRIPTION:
URL:https://sunsetut.gov/event/letters-to-santa-dropoff/
LOCATION:Sunset City Hall\, 200 W 1300 N\, Sunset\, UT\, 84015\, United States
CATEGORIES:family
ATTACH;FMTTYPE=image/png:https://sunsetut.gov/wp-content/uploads/2022/11/Letters-to-Santa-1.png
END:VEVENT
BEGIN:VEVENT
DTSTART;TZID=America/Denver:20231129T080000
DTEND;TZID=America/Denver:20231129T083000
DTSTAMP:20260422T154648
CREATED:20230213T155642Z
LAST-MODIFIED:20230213T155642Z
UID:1367-1701244800-1701246600@sunsetut.gov
SUMMARY:Recycling Day
DESCRIPTION:
URL:https://sunsetut.gov/event/recycling-day-20/
END:VEVENT
BEGIN:VEVENT
DTSTART;TZID=America/Denver:20231213T080000
DTEND;TZID=America/Denver:20231213T083000
DTSTAMP:20260422T154648
CREATED:20230213T155739Z
LAST-MODIFIED:20230213T155739Z
UID:1369-1702454400-1702456200@sunsetut.gov
SUMMARY:Recycling Day
DESCRIPTION:
URL:https://sunsetut.gov/event/recycling-day-21/
END:VEVENT
BEGIN:VEVENT
DTSTART;TZID=America/Denver:20231213T110000
DTEND;TZID=America/Denver:20231213T130000
DTSTAMP:20260422T154648
CREATED:20231115T192156Z
LAST-MODIFIED:20231115T192156Z
UID:1797-1702465200-1702472400@sunsetut.gov
SUMMARY:Senior Holiday Luncheon
DESCRIPTION:Senior Christmas Luncheon Flyer
URL:https://sunsetut.gov/event/senior-holiday-luncheon-2/
LOCATION:Sunset City Hall\, 200 W 1300 N\, Sunset\, UT\, 84015\, United States
CATEGORIES:Senior
ATTACH;FMTTYPE=application/pdf:https://sunsetut.gov/wp-content/uploads/2023/11/Senior-Christmas-Luncheon-Flyer.pdf
END:VEVENT
BEGIN:VEVENT
DTSTART;TZID=America/Denver:20231216T090000
DTEND;TZID=America/Denver:20231216T110000
DTSTAMP:20260422T154648
CREATED:20231127T162145Z
LAST-MODIFIED:20231127T162145Z
UID:1823-1702717200-1702724400@sunsetut.gov
SUMMARY:Santa Claus is Coming on The Firetruck!
DESCRIPTION:
URL:https://sunsetut.gov/event/santa-claus-is-coming-on-the-firetruck/
LOCATION:Sunset City Hall\, 200 W 1300 N\, Sunset\, UT\, 84015\, United States
CATEGORIES:family,home
ATTACH;FMTTYPE=image/png:https://sunsetut.gov/wp-content/uploads/2023/11/IMG_8700.png
END:VEVENT
BEGIN:VEVENT
DTSTART;TZID=America/Denver:20231225T080000
DTEND;TZID=America/Denver:20231225T170000
DTSTAMP:20260422T154648
CREATED:20230213T163558Z
LAST-MODIFIED:20231201T170813Z
UID:1398-1703491200-1703523600@sunsetut.gov
SUMMARY:Christmas -  City Office's Closed
DESCRIPTION:
URL:https://sunsetut.gov/event/christmas-city-offices-closed/
ATTACH;FMTTYPE=image/jpeg:https://sunsetut.gov/wp-content/uploads/2023/02/Happy-Holidays.jpg
END:VEVENT
BEGIN:VEVENT
DTSTART;TZID=America/Denver:20231228T080000
DTEND;TZID=America/Denver:20231228T083000
DTSTAMP:20260422T154648
CREATED:20230213T155819Z
LAST-MODIFIED:20230213T155819Z
UID:1371-1703750400-1703752200@sunsetut.gov
SUMMARY:Recycling Day
DESCRIPTION:
URL:https://sunsetut.gov/event/recycling-day-22/
END:VEVENT
BEGIN:VEVENT
DTSTART;TZID=America/Denver:20240202T170000
DTEND;TZID=America/Denver:20240202T190000
DTSTAMP:20260422T154648
CREATED:20240108T190755Z
LAST-MODIFIED:20240109T214455Z
UID:1887-1706893200-1706900400@sunsetut.gov
SUMMARY:Winterfest 2024!
DESCRIPTION:Sunset City’s annual Winterfest is upon us Friday\, February 2nd (Groundhog Day) at the Sunset City building at 200 W 1300 N in Sunset.\n\n\nThis year\, we’ll have a good old fashion Chili-Cook off and the added element of extra fun with some rounds of BINGO!!!\n\nWe’ll have some awesome\, unique prizes for our chili cook-off winners as well as some bingo prizes from local Sunset City businesses\, AND… one super cool secret grand prize for the BINGO blackout round! \n\nChili cook-off is limited to 15 participants. To participate\, Send a direct message with contact info if you’d like to participate to Council Member Nakisha Rigley or email Nrigley@sunset-ut.com. First 15 to email or message get registered. \n\n\n\nThere will be three prizes given to the top chilis voted by our local judges!\n\nOf course the judges aren’t the only ones who get to enjoy the chili! There will also be a “People’s Choice Award” which means all who come for bingo get to chow down on some delicious chilis and vote for their favorite!\n\n**Bingo is open to all in the community BUT it is first come first serve until the cards are gone\, and there is one card per person!**\n\nWhether you come to share your chili\, enjoy the chili\, play some bingo \, or all three\, we would LOVE to have you! See you there!
URL:https://sunsetut.gov/event/winterfest-2024/
LOCATION:Sunset City Hall\, 200 W 1300 N\, Sunset\, UT\, 84015\, United States
CATEGORIES:Community Event,family,home
ATTACH;FMTTYPE=image/png:https://sunsetut.gov/wp-content/uploads/2024/01/0DFFC303-7927-4401-8266-88185732F0D6.png
END:VEVENT
BEGIN:VEVENT
DTSTART;VALUE=DATE:20240207
DTEND;VALUE=DATE:20240208
DTSTAMP:20260422T154648
CREATED:20240202T183320Z
LAST-MODIFIED:20240202T183401Z
UID:1968-1707264000-1707350399@sunsetut.gov
SUMMARY:Trash Day (Every Wednesday)
DESCRIPTION:
URL:https://sunsetut.gov/event/trash-day-every-wednesday-2/
CATEGORIES:garbage
END:VEVENT
END:VCALENDAR