BEGIN:VCALENDAR
VERSION:2.0
PRODID:-//Sunset City - ECPv6.15.20//NONSGML v1.0//EN
CALSCALE:GREGORIAN
METHOD:PUBLISH
X-WR-CALNAME:Sunset City
X-ORIGINAL-URL:https://sunsetut.gov
X-WR-CALDESC:Events for Sunset City
REFRESH-INTERVAL;VALUE=DURATION:PT1H
X-Robots-Tag:noindex
X-PUBLISHED-TTL:PT1H
BEGIN:VTIMEZONE
TZID:America/Denver
BEGIN:DAYLIGHT
TZOFFSETFROM:-0700
TZOFFSETTO:-0600
TZNAME:MDT
DTSTART:20210314T090000
END:DAYLIGHT
BEGIN:STANDARD
TZOFFSETFROM:-0600
TZOFFSETTO:-0700
TZNAME:MST
DTSTART:20211107T080000
END:STANDARD
BEGIN:DAYLIGHT
TZOFFSETFROM:-0700
TZOFFSETTO:-0600
TZNAME:MDT
DTSTART:20220313T090000
END:DAYLIGHT
BEGIN:STANDARD
TZOFFSETFROM:-0600
TZOFFSETTO:-0700
TZNAME:MST
DTSTART:20221106T080000
END:STANDARD
BEGIN:DAYLIGHT
TZOFFSETFROM:-0700
TZOFFSETTO:-0600
TZNAME:MDT
DTSTART:20230312T090000
END:DAYLIGHT
BEGIN:STANDARD
TZOFFSETFROM:-0600
TZOFFSETTO:-0700
TZNAME:MST
DTSTART:20231105T080000
END:STANDARD
END:VTIMEZONE
BEGIN:VEVENT
DTSTART;TZID=America/Denver:20220714T120000
DTEND;TZID=America/Denver:20220714T170000
DTSTAMP:20260422T082248
CREATED:20220610T162425Z
LAST-MODIFIED:20220610T165226Z
UID:574-1657800000-1657818000@sunsetut.gov
SUMMARY:Senior Luncheon
DESCRIPTION:July 14th 12pm at Central Park Turkey\, Ham\, Mashed Potatoes\, Gravy and Pie. Games and prizes to follow.
URL:https://sunsetut.gov/event/senior-luncheon/
LOCATION:UT
CATEGORIES:home,Senior
END:VEVENT
BEGIN:VEVENT
DTSTART;VALUE=DATE:20220713
DTEND;VALUE=DATE:20220714
DTSTAMP:20260422T082248
CREATED:20220622T173032Z
LAST-MODIFIED:20220622T173032Z
UID:671-1657670400-1657756799@sunsetut.gov
SUMMARY:Recycling Pick Up
DESCRIPTION:
URL:https://sunsetut.gov/event/recycling-pick-up-2/
LOCATION:UT
CATEGORIES:recycling
END:VEVENT
BEGIN:VEVENT
DTSTART;VALUE=DATE:20220713
DTEND;VALUE=DATE:20220714
DTSTAMP:20260422T082248
CREATED:20220622T172755Z
LAST-MODIFIED:20220622T172755Z
UID:665-1657670400-1657756799@sunsetut.gov
SUMMARY:Garbage Pick Up
DESCRIPTION:
URL:https://sunsetut.gov/event/garbage-pick-up-2/
LOCATION:UT
CATEGORIES:garbage
END:VEVENT
BEGIN:VEVENT
DTSTART;VALUE=DATE:20220706
DTEND;VALUE=DATE:20220707
DTSTAMP:20260422T082248
CREATED:20220622T172730Z
LAST-MODIFIED:20220622T172730Z
UID:663-1657065600-1657151999@sunsetut.gov
SUMMARY:Garbage Pick Up
DESCRIPTION:
URL:https://sunsetut.gov/event/garbage-pick-up/
LOCATION:UT
CATEGORIES:garbage
END:VEVENT
BEGIN:VEVENT
DTSTART;TZID=America/Denver:20220705T183000
DTEND;TZID=America/Denver:20220705T193000
DTSTAMP:20260422T082248
CREATED:20220622T173157Z
LAST-MODIFIED:20220622T173157Z
UID:675-1657045800-1657049400@sunsetut.gov
SUMMARY:City Council
DESCRIPTION:
URL:https://sunsetut.gov/event/city-council-2/
LOCATION:UT
CATEGORIES:City Council
END:VEVENT
BEGIN:VEVENT
DTSTART;VALUE=DATE:20220629
DTEND;VALUE=DATE:20220630
DTSTAMP:20260422T082248
CREATED:20220622T172157Z
LAST-MODIFIED:20220622T172220Z
UID:659-1656460800-1656547199@sunsetut.gov
SUMMARY:Recycling Pick Up
DESCRIPTION:
URL:https://sunsetut.gov/event/recycling-pick-up/
LOCATION:UT
CATEGORIES:recycling
END:VEVENT
BEGIN:VEVENT
DTSTART;VALUE=DATE:20220629
DTEND;VALUE=DATE:20220630
DTSTAMP:20260422T082248
CREATED:20220610T165339Z
LAST-MODIFIED:20220622T172434Z
UID:584-1656460800-1656547199@sunsetut.gov
SUMMARY:Garbage Pickup
DESCRIPTION:
URL:https://sunsetut.gov/event/garbage-pickup-4/
LOCATION:UT
CATEGORIES:garbage
END:VEVENT
BEGIN:VEVENT
DTSTART;VALUE=DATE:20220622
DTEND;VALUE=DATE:20220623
DTSTAMP:20260422T082248
CREATED:20220610T164733Z
LAST-MODIFIED:20220622T172331Z
UID:581-1655856000-1655942399@sunsetut.gov
SUMMARY:Garbage Pickup
DESCRIPTION:
URL:https://sunsetut.gov/event/garbage-pickup-3/
LOCATION:UT
CATEGORIES:garbage
END:VEVENT
BEGIN:VEVENT
DTSTART;VALUE=DATE:20220622
DTEND;VALUE=DATE:20220623
DTSTAMP:20260422T082248
CREATED:20220622T173052Z
LAST-MODIFIED:20220622T173052Z
UID:673-1655856000-1655942399@sunsetut.gov
SUMMARY:Recycling Pick Up
DESCRIPTION:
URL:https://sunsetut.gov/event/recycling-pick-up-3/
LOCATION:UT
CATEGORIES:recycling
END:VEVENT
BEGIN:VEVENT
DTSTART;TZID=America/Denver:20220621T183000
DTEND;TZID=America/Denver:20220621T193000
DTSTAMP:20260422T082248
CREATED:20220622T172551Z
LAST-MODIFIED:20220622T172627Z
UID:661-1655836200-1655839800@sunsetut.gov
SUMMARY:City Council
DESCRIPTION:
URL:https://sunsetut.gov/event/city-council/
LOCATION:UT
CATEGORIES:City Council
END:VEVENT
BEGIN:VEVENT
DTSTART;VALUE=DATE:20220615
DTEND;VALUE=DATE:20220616
DTSTAMP:20260422T082248
CREATED:20220610T165448Z
LAST-MODIFIED:20220622T172320Z
UID:586-1655251200-1655337599@sunsetut.gov
SUMMARY:Recycling Pickup
DESCRIPTION:
URL:https://sunsetut.gov/event/recycling-pickup/
LOCATION:UT
CATEGORIES:recycling
END:VEVENT
BEGIN:VEVENT
DTSTART;VALUE=DATE:20220615
DTEND;VALUE=DATE:20220616
DTSTAMP:20260422T082248
CREATED:20220610T163059Z
LAST-MODIFIED:20220622T172250Z
UID:578-1655251200-1655337599@sunsetut.gov
SUMMARY:Garbage Pickup
DESCRIPTION:
URL:https://sunsetut.gov/event/garbage-pickup-2/
LOCATION:UT
CATEGORIES:garbage
END:VEVENT
END:VCALENDAR