BEGIN:VCALENDAR
VERSION:2.0
PRODID:-//Sunset City - ECPv6.15.20//NONSGML v1.0//EN
CALSCALE:GREGORIAN
METHOD:PUBLISH
X-WR-CALNAME:Sunset City
X-ORIGINAL-URL:https://sunsetut.gov
X-WR-CALDESC:Events for Sunset City
REFRESH-INTERVAL;VALUE=DURATION:PT1H
X-Robots-Tag:noindex
X-PUBLISHED-TTL:PT1H
BEGIN:VTIMEZONE
TZID:America/Denver
BEGIN:DAYLIGHT
TZOFFSETFROM:-0700
TZOFFSETTO:-0600
TZNAME:MDT
DTSTART:20230312T090000
END:DAYLIGHT
BEGIN:STANDARD
TZOFFSETFROM:-0600
TZOFFSETTO:-0700
TZNAME:MST
DTSTART:20231105T080000
END:STANDARD
BEGIN:DAYLIGHT
TZOFFSETFROM:-0700
TZOFFSETTO:-0600
TZNAME:MDT
DTSTART:20240310T090000
END:DAYLIGHT
BEGIN:STANDARD
TZOFFSETFROM:-0600
TZOFFSETTO:-0700
TZNAME:MST
DTSTART:20241103T080000
END:STANDARD
BEGIN:DAYLIGHT
TZOFFSETFROM:-0700
TZOFFSETTO:-0600
TZNAME:MDT
DTSTART:20250309T090000
END:DAYLIGHT
BEGIN:STANDARD
TZOFFSETFROM:-0600
TZOFFSETTO:-0700
TZNAME:MST
DTSTART:20251102T080000
END:STANDARD
END:VTIMEZONE
BEGIN:VEVENT
DTSTART;TZID=America/Denver:20240711T183000
DTEND;TZID=America/Denver:20240711T210000
DTSTAMP:20260421T084751
CREATED:20240415T164757Z
LAST-MODIFIED:20240415T165918Z
UID:2221-1720722600-1720731600@sunsetut.gov
SUMMARY:Planning Commission Meeting
DESCRIPTION:
URL:https://sunsetut.gov/event/planning-commission-meeting-8/
LOCATION:Sunset City Hall\, 200 W 1300 N\, Sunset\, UT\, 84015\, United States
END:VEVENT
BEGIN:VEVENT
DTSTART;TZID=America/Denver:20240716T183000
DTEND;TZID=America/Denver:20240716T210000
DTSTAMP:20260421T084751
CREATED:20240415T164822Z
LAST-MODIFIED:20240415T170026Z
UID:2223-1721154600-1721163600@sunsetut.gov
SUMMARY:City Council Meeting
DESCRIPTION:
URL:https://sunsetut.gov/event/city-council-meeting-7/
LOCATION:Sunset City Hall\, 200 W 1300 N\, Sunset\, UT\, 84015\, United States
END:VEVENT
BEGIN:VEVENT
DTSTART;VALUE=DATE:20240717
DTEND;VALUE=DATE:20240718
DTSTAMP:20260421T084751
CREATED:20240415T153850Z
LAST-MODIFIED:20240415T153850Z
UID:2144-1721174400-1721260799@sunsetut.gov
SUMMARY:Trash Day (Every Wednesday)
DESCRIPTION:
URL:https://sunsetut.gov/event/trash-day-every-wednesday-27/
END:VEVENT
BEGIN:VEVENT
DTSTART;VALUE=DATE:20240724
DTEND;VALUE=DATE:20240725
DTSTAMP:20260421T084751
CREATED:20240126T214945Z
LAST-MODIFIED:20240126T214945Z
UID:1939-1721779200-1721865599@sunsetut.gov
SUMMARY:Office Closed - Pioneer Day
DESCRIPTION:
URL:https://sunsetut.gov/event/office-closed-pioneer-day/
LOCATION:Sunset City Hall\, 200 W 1300 N\, Sunset\, UT\, 84015\, United States
END:VEVENT
BEGIN:VEVENT
DTSTART;VALUE=DATE:20240724
DTEND;VALUE=DATE:20240725
DTSTAMP:20260421T084751
CREATED:20240415T153905Z
LAST-MODIFIED:20240415T153905Z
UID:2146-1721779200-1721865599@sunsetut.gov
SUMMARY:Trash Day (Every Wednesday)
DESCRIPTION:
URL:https://sunsetut.gov/event/trash-day-every-wednesday-28/
END:VEVENT
BEGIN:VEVENT
DTSTART;TZID=America/Denver:20240729T140000
DTEND;TZID=America/Denver:20240729T160000
DTSTAMP:20260421T084751
CREATED:20240718T183632Z
LAST-MODIFIED:20240718T183846Z
UID:2434-1722261600-1722268800@sunsetut.gov
SUMMARY:Fire Station 42 Grand Opening & Hose-Cutting
DESCRIPTION:
URL:https://sunsetut.gov/event/fire-station-42-grand-opening-hose-cutting/
LOCATION:Station 42\, 88 East Center Street\, Clearfield\, UT\, 84015\, United States
CATEGORIES:Community Event,Community Information,family
ATTACH;FMTTYPE=image/jpeg:https://sunsetut.gov/wp-content/uploads/2024/07/NDFD-Station-42-Grand-Opening-Invitation-2-e1721327894309.jpg
END:VEVENT
BEGIN:VEVENT
DTSTART;VALUE=DATE:20240731
DTEND;VALUE=DATE:20240801
DTSTAMP:20260421T084751
CREATED:20240415T153935Z
LAST-MODIFIED:20240415T153935Z
UID:2150-1722384000-1722470399@sunsetut.gov
SUMMARY:Trash Day (Every Wednesday)
DESCRIPTION:
URL:https://sunsetut.gov/event/trash-day-every-wednesday-30/
END:VEVENT
BEGIN:VEVENT
DTSTART;TZID=America/Denver:20240806T183000
DTEND;TZID=America/Denver:20240806T210000
DTSTAMP:20260421T084751
CREATED:20240415T164857Z
LAST-MODIFIED:20240415T170039Z
UID:2225-1722969000-1722978000@sunsetut.gov
SUMMARY:City Council Meeting
DESCRIPTION:
URL:https://sunsetut.gov/event/city-council-meeting-8/
LOCATION:Sunset City Hall\, 200 W 1300 N\, Sunset\, UT\, 84015\, United States
END:VEVENT
BEGIN:VEVENT
DTSTART;VALUE=DATE:20240807
DTEND;VALUE=DATE:20240808
DTSTAMP:20260421T084751
CREATED:20240415T153951Z
LAST-MODIFIED:20240415T153951Z
UID:2152-1722988800-1723075199@sunsetut.gov
SUMMARY:Trash Day (Every Wednesday)
DESCRIPTION:
URL:https://sunsetut.gov/event/trash-day-every-wednesday-31/
END:VEVENT
BEGIN:VEVENT
DTSTART;TZID=America/Denver:20240808T183000
DTEND;TZID=America/Denver:20240808T210000
DTSTAMP:20260421T084751
CREATED:20240415T164947Z
LAST-MODIFIED:20240415T170057Z
UID:2229-1723141800-1723150800@sunsetut.gov
SUMMARY:Planning Commission Meeting
DESCRIPTION:
URL:https://sunsetut.gov/event/planning-commission-meeting-9/
LOCATION:Sunset City Hall\, 200 W 1300 N\, Sunset\, UT\, 84015\, United States
END:VEVENT
BEGIN:VEVENT
DTSTART;VALUE=DATE:20240814
DTEND;VALUE=DATE:20240815
DTSTAMP:20260421T084751
CREATED:20240415T154016Z
LAST-MODIFIED:20240415T154016Z
UID:2156-1723593600-1723679999@sunsetut.gov
SUMMARY:Trash Day (Every Wednesday)
DESCRIPTION:
URL:https://sunsetut.gov/event/trash-day-every-wednesday-33/
END:VEVENT
BEGIN:VEVENT
DTSTART;TZID=America/Denver:20240820T183000
DTEND;TZID=America/Denver:20240820T210000
DTSTAMP:20260421T084751
CREATED:20240415T164920Z
LAST-MODIFIED:20240415T170113Z
UID:2227-1724178600-1724187600@sunsetut.gov
SUMMARY:City Council Meeting
DESCRIPTION:
URL:https://sunsetut.gov/event/city-council-meeting-9/
LOCATION:Sunset City Hall\, 200 W 1300 N\, Sunset\, UT\, 84015\, United States
END:VEVENT
BEGIN:VEVENT
DTSTART;VALUE=DATE:20240821
DTEND;VALUE=DATE:20240822
DTSTAMP:20260421T084751
CREATED:20240415T154055Z
LAST-MODIFIED:20240415T154055Z
UID:2162-1724198400-1724284799@sunsetut.gov
SUMMARY:Trash Day (Every Wednesday)
DESCRIPTION:
URL:https://sunsetut.gov/event/trash-day-every-wednesday-36/
END:VEVENT
BEGIN:VEVENT
DTSTART;VALUE=DATE:20240828
DTEND;VALUE=DATE:20240829
DTSTAMP:20260421T084751
CREATED:20240415T154106Z
LAST-MODIFIED:20240415T154106Z
UID:2164-1724803200-1724889599@sunsetut.gov
SUMMARY:Trash Day (Every Wednesday)
DESCRIPTION:
URL:https://sunsetut.gov/event/trash-day-every-wednesday-37/
END:VEVENT
BEGIN:VEVENT
DTSTART;VALUE=DATE:20240902
DTEND;VALUE=DATE:20240903
DTSTAMP:20260421T084751
CREATED:20240126T215022Z
LAST-MODIFIED:20240126T215022Z
UID:1941-1725235200-1725321599@sunsetut.gov
SUMMARY:Office Closed - Labor Day
DESCRIPTION:
URL:https://sunsetut.gov/event/office-closed-labor-day/
LOCATION:Sunset City Hall\, 200 W 1300 N\, Sunset\, UT\, 84015\, United States
END:VEVENT
BEGIN:VEVENT
DTSTART;TZID=America/Denver:20240903T183000
DTEND;TZID=America/Denver:20240903T210000
DTSTAMP:20260421T084751
CREATED:20240415T165019Z
LAST-MODIFIED:20240415T170128Z
UID:2231-1725388200-1725397200@sunsetut.gov
SUMMARY:City Council Meeting
DESCRIPTION:
URL:https://sunsetut.gov/event/city-council-meeting-10/
LOCATION:Sunset City Hall\, 200 W 1300 N\, Sunset\, UT\, 84015\, United States
END:VEVENT
BEGIN:VEVENT
DTSTART;VALUE=DATE:20240904
DTEND;VALUE=DATE:20240905
DTSTAMP:20260421T084751
CREATED:20240415T154128Z
LAST-MODIFIED:20240415T154128Z
UID:2166-1725408000-1725494399@sunsetut.gov
SUMMARY:Trash Day (Every Wednesday)
DESCRIPTION:
URL:https://sunsetut.gov/event/trash-day-every-wednesday-38/
END:VEVENT
BEGIN:VEVENT
DTSTART;VALUE=DATE:20240911
DTEND;VALUE=DATE:20240912
DTSTAMP:20260421T084751
CREATED:20240415T154141Z
LAST-MODIFIED:20240415T154141Z
UID:2168-1726012800-1726099199@sunsetut.gov
SUMMARY:Trash Day (Every Wednesday)
DESCRIPTION:
URL:https://sunsetut.gov/event/trash-day-every-wednesday-39/
END:VEVENT
BEGIN:VEVENT
DTSTART;TZID=America/Denver:20240912T183000
DTEND;TZID=America/Denver:20240912T210000
DTSTAMP:20260421T084751
CREATED:20240415T165108Z
LAST-MODIFIED:20240415T170150Z
UID:2235-1726165800-1726174800@sunsetut.gov
SUMMARY:Planning Commission Meeting
DESCRIPTION:
URL:https://sunsetut.gov/event/planning-commission-meeting-10/
LOCATION:Sunset City Hall\, 200 W 1300 N\, Sunset\, UT\, 84015\, United States
END:VEVENT
BEGIN:VEVENT
DTSTART;TZID=America/Denver:20240914T110000
DTEND;TZID=America/Denver:20240914T173000
DTSTAMP:20260421T084751
CREATED:20240514T171310Z
LAST-MODIFIED:20240514T171534Z
UID:2282-1726311600-1726335000@sunsetut.gov
SUMMARY:4th Annual Mental Health Craft Fair
DESCRIPTION:Join us on Saturday\, September 14th from 11am-5:30pm at Sunset Central Park (85 W 1800 N) for Sunset City’s 4th Annual Mental Health Craft Fair! \nEntry is free for everyone! \nThis is a one-of-a-kind Northern Utah event which will feature live music\, therapy dogs\, art & craft activities as well as local vendors and food trucks! \n  \n \n  \n 
URL:https://sunsetut.gov/event/4th-annual-mental-health-craft-fair/
LOCATION:Central Park\, 85 W 1800 N\, Sunset\, UT\, 840105
CATEGORIES:Community Event,Community Information,family
ATTACH;FMTTYPE=image/jpeg:https://sunsetut.gov/wp-content/uploads/2024/05/Mental-Health-Fair-2024-e1715706889484.jpg
END:VEVENT
BEGIN:VEVENT
DTSTART;TZID=America/Denver:20240917T183000
DTEND;TZID=America/Denver:20240917T210000
DTSTAMP:20260421T084751
CREATED:20240415T165042Z
LAST-MODIFIED:20240415T170204Z
UID:2233-1726597800-1726606800@sunsetut.gov
SUMMARY:City Council Meeting
DESCRIPTION:
URL:https://sunsetut.gov/event/city-council-meeting-11/
LOCATION:Sunset City Hall\, 200 W 1300 N\, Sunset\, UT\, 84015\, United States
END:VEVENT
BEGIN:VEVENT
DTSTART;VALUE=DATE:20240918
DTEND;VALUE=DATE:20240919
DTSTAMP:20260421T084751
CREATED:20240415T154152Z
LAST-MODIFIED:20240415T154152Z
UID:2170-1726617600-1726703999@sunsetut.gov
SUMMARY:Trash Day (Every Wednesday)
DESCRIPTION:
URL:https://sunsetut.gov/event/trash-day-every-wednesday-40/
END:VEVENT
BEGIN:VEVENT
DTSTART;VALUE=DATE:20240925
DTEND;VALUE=DATE:20240926
DTSTAMP:20260421T084751
CREATED:20240415T154527Z
LAST-MODIFIED:20240415T154527Z
UID:2173-1727222400-1727308799@sunsetut.gov
SUMMARY:Trash Day (Every Wednesday)
DESCRIPTION:
URL:https://sunsetut.gov/event/trash-day-every-wednesday-25/
END:VEVENT
BEGIN:VEVENT
DTSTART;TZID=America/Denver:20241001T183000
DTEND;TZID=America/Denver:20241001T210000
DTSTAMP:20260421T084751
CREATED:20240415T165144Z
LAST-MODIFIED:20240415T170219Z
UID:2237-1727807400-1727816400@sunsetut.gov
SUMMARY:City Council Meeting
DESCRIPTION:
URL:https://sunsetut.gov/event/city-council-meeting-12/
LOCATION:Sunset City Hall\, 200 W 1300 N\, Sunset\, UT\, 84015\, United States
END:VEVENT
BEGIN:VEVENT
DTSTART;VALUE=DATE:20241002
DTEND;VALUE=DATE:20241003
DTSTAMP:20260421T084751
CREATED:20240415T154553Z
LAST-MODIFIED:20240415T154553Z
UID:2175-1727827200-1727913599@sunsetut.gov
SUMMARY:Trash Day (Every Wednesday)
DESCRIPTION:
URL:https://sunsetut.gov/event/trash-day-every-wednesday-29/
END:VEVENT
BEGIN:VEVENT
DTSTART;VALUE=DATE:20241009
DTEND;VALUE=DATE:20241010
DTSTAMP:20260421T084751
CREATED:20240415T154606Z
LAST-MODIFIED:20240415T154606Z
UID:2177-1728432000-1728518399@sunsetut.gov
SUMMARY:Trash Day (Every Wednesday)
DESCRIPTION:
URL:https://sunsetut.gov/event/trash-day-every-wednesday-32/
END:VEVENT
BEGIN:VEVENT
DTSTART;TZID=America/Denver:20241010T183000
DTEND;TZID=America/Denver:20241010T210000
DTSTAMP:20260421T084751
CREATED:20240415T165259Z
LAST-MODIFIED:20240415T170234Z
UID:2241-1728585000-1728594000@sunsetut.gov
SUMMARY:Planning Commission Meeting
DESCRIPTION:
URL:https://sunsetut.gov/event/planning-commission-meeting-11/
LOCATION:Sunset City Hall\, 200 W 1300 N\, Sunset\, UT\, 84015\, United States
END:VEVENT
BEGIN:VEVENT
DTSTART;VALUE=DATE:20241014
DTEND;VALUE=DATE:20241015
DTSTAMP:20260421T084751
CREATED:20240126T215111Z
LAST-MODIFIED:20240126T215140Z
UID:1943-1728864000-1728950399@sunsetut.gov
SUMMARY:Office Closed - Columbus Day
DESCRIPTION:
URL:https://sunsetut.gov/event/office-closed-columbus-day/
LOCATION:Sunset City Hall\, 200 W 1300 N\, Sunset\, UT\, 84015\, United States
CATEGORIES:Office Closed
END:VEVENT
BEGIN:VEVENT
DTSTART;TZID=America/Denver:20241015T183000
DTEND;TZID=America/Denver:20241015T210000
DTSTAMP:20260421T084751
CREATED:20240415T165208Z
LAST-MODIFIED:20240415T170248Z
UID:2239-1729017000-1729026000@sunsetut.gov
SUMMARY:City Council Meeting
DESCRIPTION:
URL:https://sunsetut.gov/event/city-council-meeting-13/
LOCATION:Sunset City Hall\, 200 W 1300 N\, Sunset\, UT\, 84015\, United States
END:VEVENT
BEGIN:VEVENT
DTSTART;VALUE=DATE:20241016
DTEND;VALUE=DATE:20241017
DTSTAMP:20260421T084751
CREATED:20240415T154619Z
LAST-MODIFIED:20240415T154619Z
UID:2179-1729036800-1729123199@sunsetut.gov
SUMMARY:Trash Day (Every Wednesday)
DESCRIPTION:
URL:https://sunsetut.gov/event/trash-day-every-wednesday-34/
END:VEVENT
END:VCALENDAR