BEGIN:VCALENDAR
VERSION:2.0
PRODID:-//Sunset City - ECPv6.15.20//NONSGML v1.0//EN
CALSCALE:GREGORIAN
METHOD:PUBLISH
X-WR-CALNAME:Sunset City
X-ORIGINAL-URL:https://sunsetut.gov
X-WR-CALDESC:Events for Sunset City
REFRESH-INTERVAL;VALUE=DURATION:PT1H
X-Robots-Tag:noindex
X-PUBLISHED-TTL:PT1H
BEGIN:VTIMEZONE
TZID:America/Denver
BEGIN:DAYLIGHT
TZOFFSETFROM:-0700
TZOFFSETTO:-0600
TZNAME:MDT
DTSTART:20210314T090000
END:DAYLIGHT
BEGIN:STANDARD
TZOFFSETFROM:-0600
TZOFFSETTO:-0700
TZNAME:MST
DTSTART:20211107T080000
END:STANDARD
BEGIN:DAYLIGHT
TZOFFSETFROM:-0700
TZOFFSETTO:-0600
TZNAME:MDT
DTSTART:20220313T090000
END:DAYLIGHT
BEGIN:STANDARD
TZOFFSETFROM:-0600
TZOFFSETTO:-0700
TZNAME:MST
DTSTART:20221106T080000
END:STANDARD
BEGIN:DAYLIGHT
TZOFFSETFROM:-0700
TZOFFSETTO:-0600
TZNAME:MDT
DTSTART:20230312T090000
END:DAYLIGHT
BEGIN:STANDARD
TZOFFSETFROM:-0600
TZOFFSETTO:-0700
TZNAME:MST
DTSTART:20231105T080000
END:STANDARD
END:VTIMEZONE
BEGIN:VEVENT
DTSTART;TZID=America/Denver:20221027T103000
DTEND;TZID=America/Denver:20221027T133000
DTSTAMP:20260424T142611
CREATED:20221018T174515Z
LAST-MODIFIED:20221018T180833Z
UID:1082-1666866600-1666877400@sunsetut.gov
SUMMARY:North Davis Senior Center Halloween Party
DESCRIPTION:Senior Halloween Party. There will be food\, costume contest\, games\, crafts\, prizes and more! \nHosted by the North Davis Senior Center at 42 S State Street\, Clearfield UT 84015 \n 
URL:https://sunsetut.gov/event/north-davis-senior-center-halloween-party/
LOCATION:North Davis Senior Center\, 42 S State Street\, Clearfield\, UT\, 84015\, United States
CATEGORIES:home,Senior
ATTACH;FMTTYPE=image/jpeg:https://sunsetut.gov/wp-content/uploads/2022/10/Halloween-Flyer-1.jpg
END:VEVENT
END:VCALENDAR