BEGIN:VCALENDAR
VERSION:2.0
PRODID:-//Sunset City - ECPv6.15.20//NONSGML v1.0//EN
CALSCALE:GREGORIAN
METHOD:PUBLISH
X-WR-CALNAME:Sunset City
X-ORIGINAL-URL:https://sunsetut.gov
X-WR-CALDESC:Events for Sunset City
REFRESH-INTERVAL;VALUE=DURATION:PT1H
X-Robots-Tag:noindex
X-PUBLISHED-TTL:PT1H
BEGIN:VTIMEZONE
TZID:America/Denver
BEGIN:DAYLIGHT
TZOFFSETFROM:-0700
TZOFFSETTO:-0600
TZNAME:MDT
DTSTART:20240310T090000
END:DAYLIGHT
BEGIN:STANDARD
TZOFFSETFROM:-0600
TZOFFSETTO:-0700
TZNAME:MST
DTSTART:20241103T080000
END:STANDARD
BEGIN:DAYLIGHT
TZOFFSETFROM:-0700
TZOFFSETTO:-0600
TZNAME:MDT
DTSTART:20250309T090000
END:DAYLIGHT
BEGIN:STANDARD
TZOFFSETFROM:-0600
TZOFFSETTO:-0700
TZNAME:MST
DTSTART:20251102T080000
END:STANDARD
BEGIN:DAYLIGHT
TZOFFSETFROM:-0700
TZOFFSETTO:-0600
TZNAME:MDT
DTSTART:20260308T090000
END:DAYLIGHT
BEGIN:STANDARD
TZOFFSETFROM:-0600
TZOFFSETTO:-0700
TZNAME:MST
DTSTART:20261101T080000
END:STANDARD
END:VTIMEZONE
BEGIN:VEVENT
DTSTART;TZID=America/Denver:20251008T130000
DTEND;TZID=America/Denver:20251008T143000
DTSTAMP:20260419T213621
CREATED:20251001T181715Z
LAST-MODIFIED:20251001T181738Z
UID:3313-1759928400-1759933800@sunsetut.gov
SUMMARY:Senior Activity Day
DESCRIPTION:Sunset City Senior Event – OctoberJoin us for a fun afternoon of Card Making on October 8th at 1:00 PM in the Sunset Room at City Hall! 🎨✂️ \nAll supplies will be provided\, so just bring yourself and your creativity. Not in the mood to craft? No problem—come anyway and enjoy some great company and conversation. We’d love to see you there!
URL:https://sunsetut.gov/event/3313/
LOCATION:Sunset City Hall\, 200 W 1300 N\, Sunset\, UT\, 84015\, United States
CATEGORIES:Senior
ATTACH;FMTTYPE=image/png:https://sunsetut.gov/wp-content/uploads/2025/05/Seniors-Activities-at-a-Glance-May-Cancelled.png
END:VEVENT
END:VCALENDAR