BEGIN:VCALENDAR
VERSION:2.0
PRODID:-//Sunset City - ECPv6.15.20//NONSGML v1.0//EN
CALSCALE:GREGORIAN
METHOD:PUBLISH
X-ORIGINAL-URL:https://sunsetut.gov
X-WR-CALDESC:Events for Sunset City
REFRESH-INTERVAL;VALUE=DURATION:PT1H
X-Robots-Tag:noindex
X-PUBLISHED-TTL:PT1H
BEGIN:VTIMEZONE
TZID:America/Denver
BEGIN:DAYLIGHT
TZOFFSETFROM:-0700
TZOFFSETTO:-0600
TZNAME:MDT
DTSTART:20240310T090000
END:DAYLIGHT
BEGIN:STANDARD
TZOFFSETFROM:-0600
TZOFFSETTO:-0700
TZNAME:MST
DTSTART:20241103T080000
END:STANDARD
BEGIN:DAYLIGHT
TZOFFSETFROM:-0700
TZOFFSETTO:-0600
TZNAME:MDT
DTSTART:20250309T090000
END:DAYLIGHT
BEGIN:STANDARD
TZOFFSETFROM:-0600
TZOFFSETTO:-0700
TZNAME:MST
DTSTART:20251102T080000
END:STANDARD
BEGIN:DAYLIGHT
TZOFFSETFROM:-0700
TZOFFSETTO:-0600
TZNAME:MDT
DTSTART:20260308T090000
END:DAYLIGHT
BEGIN:STANDARD
TZOFFSETFROM:-0600
TZOFFSETTO:-0700
TZNAME:MST
DTSTART:20261101T080000
END:STANDARD
END:VTIMEZONE
BEGIN:VEVENT
DTSTART;TZID=America/Denver:20251113T183000
DTEND;TZID=America/Denver:20251113T210000
DTSTAMP:20260418T122026
CREATED:20250520T180126Z
LAST-MODIFIED:20250520T180126Z
UID:3040-1763058600-1763067600@sunsetut.gov
SUMMARY:Planning Commission Meeting
DESCRIPTION:📢 Sunset City Planning Commission Meeting 📢 \nAttention Sunset City residents! 🌅 Your voice matters in shaping the future of our community! Join us at the upcoming Planning Commission Meeting to stay informed and share your input on important local projects and developments. \n🗓 Date: Thursday\, November 13th\, 2025⏰ Time: 6:30 PM📍 Location: Sunset City Hall – Council Chambers \nDon’t miss this opportunity to get involved in the decisions that impact our city. Whether you’re curious about current projects or want to share your perspective\, we’d love to see you there! \n📑 Scan the QR code in the image above or visit https://sunsetut.gov/agendas-minutes/ to view the agenda and minutes. \nTogether\, let’s keep Sunset City a vibrant and thriving place to live! 🌟
URL:https://sunsetut.gov/event/planning-commission-meeting-21/
LOCATION:Council Chambers\, 200 W 1300 N\, Sunset\, UT\, 84015\, United States
CATEGORIES:Community Information,Planning Commission Meeting
ATTACH;FMTTYPE=image/png:https://sunsetut.gov/wp-content/uploads/2025/05/11.13.25-Planning-Commission-Meeting-Notification-Image.png
END:VEVENT
BEGIN:VEVENT
DTSTART;TZID=America/Denver:20251009T183000
DTEND;TZID=America/Denver:20251009T210000
DTSTAMP:20260418T122026
CREATED:20250520T175945Z
LAST-MODIFIED:20250520T175945Z
UID:3037-1760034600-1760043600@sunsetut.gov
SUMMARY:Planning Commission Meeting
DESCRIPTION:📢 Sunset City Planning Commission Meeting 📢 \nAttention Sunset City residents! 🌅 Your voice matters in shaping the future of our community! Join us at the upcoming Planning Commission Meeting to stay informed and share your input on important local projects and developments. \n🗓 Date: Thursday\, October 9th\, 2025⏰ Time: 6:30 PM📍 Location: Sunset City Hall – Council Chambers \nDon’t miss this opportunity to get involved in the decisions that impact our city. Whether you’re curious about current projects or want to share your perspective\, we’d love to see you there! \n📑 Scan the QR code in the image above or visit https://sunsetut.gov/agendas-minutes/ to view the agenda and minutes. \nTogether\, let’s keep Sunset City a vibrant and thriving place to live! 🌟
URL:https://sunsetut.gov/event/planning-commission-meeting-20/
LOCATION:Council Chambers\, 200 W 1300 N\, Sunset\, UT\, 84015\, United States
CATEGORIES:Community Information,Planning Commission Meeting
ATTACH;FMTTYPE=image/png:https://sunsetut.gov/wp-content/uploads/2025/05/10.09.25-Planning-Commission-Meeting-Notification-Image.png
END:VEVENT
BEGIN:VEVENT
DTSTART;TZID=America/Denver:20250911T183000
DTEND;TZID=America/Denver:20250911T210000
DTSTAMP:20260418T122026
CREATED:20250520T175713Z
LAST-MODIFIED:20250520T175713Z
UID:3034-1757615400-1757624400@sunsetut.gov
SUMMARY:Planning Commission Meeting
DESCRIPTION:📢 Sunset City Planning Commission Meeting 📢 \nAttention Sunset City residents! 🌅 Your voice matters in shaping the future of our community! Join us at the upcoming Planning Commission Meeting to stay informed and share your input on important local projects and developments. \n🗓 Date: Thursday\, September 11th\, 2025⏰ Time: 6:30 PM📍 Location: Sunset City Hall – Council Chambers \nDon’t miss this opportunity to get involved in the decisions that impact our city. Whether you’re curious about current projects or want to share your perspective\, we’d love to see you there! \n📑 Scan the QR code in the image above or visit https://sunsetut.gov/agendas-minutes/ to view the agenda and minutes. \nTogether\, let’s keep Sunset City a vibrant and thriving place to live! 🌟
URL:https://sunsetut.gov/event/planning-commission-meeting-19/
LOCATION:Council Chambers\, 200 W 1300 N\, Sunset\, UT\, 84015\, United States
CATEGORIES:Community Information,Planning Commission Meeting
ATTACH;FMTTYPE=image/png:https://sunsetut.gov/wp-content/uploads/2025/05/09.11.25-Planning-Commission-Meeting-Notification-Image.png
END:VEVENT
BEGIN:VEVENT
DTSTART;TZID=America/Denver:20250814T183000
DTEND;TZID=America/Denver:20250814T210000
DTSTAMP:20260418T122026
CREATED:20250520T175441Z
LAST-MODIFIED:20250520T175543Z
UID:3031-1755196200-1755205200@sunsetut.gov
SUMMARY:Planning Commission Meeting
DESCRIPTION:📢 Sunset City Planning Commission Meeting 📢 \nAttention Sunset City residents! 🌅 Your voice matters in shaping the future of our community! Join us at the upcoming Planning Commission Meeting to stay informed and share your input on important local projects and developments. \n🗓 Date: Thursday\, August 14th\, 2025⏰ Time: 6:30 PM📍 Location: Sunset City Hall – Council Chambers \nDon’t miss this opportunity to get involved in the decisions that impact our city. Whether you’re curious about current projects or want to share your perspective\, we’d love to see you there! \n📑 Scan the QR code in the image above or visit https://sunsetut.gov/agendas-minutes/ to view the agenda and minutes. \nTogether\, let’s keep Sunset City a vibrant and thriving place to live! 🌟
URL:https://sunsetut.gov/event/planning-commission-meeting-18/
LOCATION:Council Chambers\, 200 W 1300 N\, Sunset\, UT\, 84015\, United States
CATEGORIES:Community Information,Planning Commission Meeting
ATTACH;FMTTYPE=image/png:https://sunsetut.gov/wp-content/uploads/2025/05/08.14.25-Planning-Commission-Meeting-Notification-Image.png
END:VEVENT
BEGIN:VEVENT
DTSTART;TZID=America/Denver:20250710T183000
DTEND;TZID=America/Denver:20250710T210000
DTSTAMP:20260418T122026
CREATED:20250520T175250Z
LAST-MODIFIED:20250520T175251Z
UID:3028-1752172200-1752181200@sunsetut.gov
SUMMARY:Planning Commission Meeting
DESCRIPTION:📢 Sunset City Planning Commission Meeting 📢 \nAttention Sunset City residents! 🌅 Your voice matters in shaping the future of our community! Join us at the upcoming Planning Commission Meeting to stay informed and share your input on important local projects and developments. \n🗓 Date: Thursday\, July 10th\, 2025⏰ Time: 6:30 PM📍 Location: Sunset City Hall – Council Chambers \nDon’t miss this opportunity to get involved in the decisions that impact our city. Whether you’re curious about current projects or want to share your perspective\, we’d love to see you there! \n📑 Scan the QR code in the image above or visit https://sunsetut.gov/agendas-minutes/ to view the agenda and minutes. \nTogether\, let’s keep Sunset City a vibrant and thriving place to live! 🌟
URL:https://sunsetut.gov/event/planning-commission-meeting-17/
LOCATION:Council Chambers\, 200 W 1300 N\, Sunset\, UT\, 84015\, United States
CATEGORIES:Community Information,Planning Commission Meeting
ATTACH;FMTTYPE=image/png:https://sunsetut.gov/wp-content/uploads/2025/05/07.10.25-Planning-Commission-Meeting-Notification-Image.png
END:VEVENT
BEGIN:VEVENT
DTSTART;TZID=America/Denver:20250612T183000
DTEND;TZID=America/Denver:20250612T210000
DTSTAMP:20260418T122026
CREATED:20250520T174931Z
LAST-MODIFIED:20250520T174932Z
UID:3025-1749753000-1749762000@sunsetut.gov
SUMMARY:Planning Commission Meeting
DESCRIPTION:📢 Sunset City Planning Commission Meeting 📢 \nAttention Sunset City residents! 🌅 Your voice matters in shaping the future of our community! Join us at the upcoming Planning Commission Meeting to stay informed and share your input on important local projects and developments. \n🗓 Date: Thursday\, June 12th\, 2025⏰ Time: 6:30 PM📍 Location: Sunset City Hall – Council Chambers \nDon’t miss this opportunity to get involved in the decisions that impact our city. Whether you’re curious about current projects or want to share your perspective\, we’d love to see you there! \n📑 Scan the QR code in the image above or visit https://sunsetut.gov/agendas-minutes/ to view the agenda and minutes. \nTogether\, let’s keep Sunset City a vibrant and thriving place to live! 🌟
URL:https://sunsetut.gov/event/planning-commission-meeting-16/
LOCATION:Council Chambers\, 200 W 1300 N\, Sunset\, UT\, 84015\, United States
CATEGORIES:Community Information,Planning Commission Meeting
ATTACH;FMTTYPE=image/png:https://sunsetut.gov/wp-content/uploads/2025/05/06.12.25-Planning-Commission-Meeting-Notification-Image.png
END:VEVENT
END:VCALENDAR