BEGIN:VCALENDAR
VERSION:2.0
PRODID:-//Sunset City - ECPv6.15.20//NONSGML v1.0//EN
CALSCALE:GREGORIAN
METHOD:PUBLISH
X-ORIGINAL-URL:https://sunsetut.gov
X-WR-CALDESC:Events for Sunset City
REFRESH-INTERVAL;VALUE=DURATION:PT1H
X-Robots-Tag:noindex
X-PUBLISHED-TTL:PT1H
BEGIN:VTIMEZONE
TZID:America/Denver
BEGIN:DAYLIGHT
TZOFFSETFROM:-0700
TZOFFSETTO:-0600
TZNAME:MDT
DTSTART:20230312T090000
END:DAYLIGHT
BEGIN:STANDARD
TZOFFSETFROM:-0600
TZOFFSETTO:-0700
TZNAME:MST
DTSTART:20231105T080000
END:STANDARD
BEGIN:DAYLIGHT
TZOFFSETFROM:-0700
TZOFFSETTO:-0600
TZNAME:MDT
DTSTART:20240310T090000
END:DAYLIGHT
BEGIN:STANDARD
TZOFFSETFROM:-0600
TZOFFSETTO:-0700
TZNAME:MST
DTSTART:20241103T080000
END:STANDARD
BEGIN:DAYLIGHT
TZOFFSETFROM:-0700
TZOFFSETTO:-0600
TZNAME:MDT
DTSTART:20250309T090000
END:DAYLIGHT
BEGIN:STANDARD
TZOFFSETFROM:-0600
TZOFFSETTO:-0700
TZNAME:MST
DTSTART:20251102T080000
END:STANDARD
END:VTIMEZONE
BEGIN:VEVENT
DTSTART;TZID=America/Denver:20240330T100000
DTEND;TZID=America/Denver:20240330T110000
DTSTAMP:20260421T101632
CREATED:20240223T211403Z
LAST-MODIFIED:20240223T211423Z
UID:2055-1711792800-1711796400@sunsetut.gov
SUMMARY:Annual Easter Egg Hunt
DESCRIPTION:Please join us for Sunset City’s Annual Easter Egg Hunt on Saturday\, March 30th at 10:00am. \nThis year’s Egg Hunt will be held at Central Park. \nAll ages are welcome! Please bring your own baskets!
URL:https://sunsetut.gov/event/annual-easter-egg-hunt-2/
LOCATION:Central Park\, 85 W 1800 N\, Sunset\, UT\, 840105
CATEGORIES:Holidays
END:VEVENT
END:VCALENDAR