BEGIN:VCALENDAR
VERSION:2.0
PRODID:-//Sunset City - ECPv6.15.20//NONSGML v1.0//EN
CALSCALE:GREGORIAN
METHOD:PUBLISH
X-ORIGINAL-URL:https://sunsetut.gov
X-WR-CALDESC:Events for Sunset City
REFRESH-INTERVAL;VALUE=DURATION:PT1H
X-Robots-Tag:noindex
X-PUBLISHED-TTL:PT1H
BEGIN:VTIMEZONE
TZID:America/Denver
BEGIN:DAYLIGHT
TZOFFSETFROM:-0700
TZOFFSETTO:-0600
TZNAME:MDT
DTSTART:20210314T090000
END:DAYLIGHT
BEGIN:STANDARD
TZOFFSETFROM:-0600
TZOFFSETTO:-0700
TZNAME:MST
DTSTART:20211107T080000
END:STANDARD
BEGIN:DAYLIGHT
TZOFFSETFROM:-0700
TZOFFSETTO:-0600
TZNAME:MDT
DTSTART:20220313T090000
END:DAYLIGHT
BEGIN:STANDARD
TZOFFSETFROM:-0600
TZOFFSETTO:-0700
TZNAME:MST
DTSTART:20221106T080000
END:STANDARD
BEGIN:DAYLIGHT
TZOFFSETFROM:-0700
TZOFFSETTO:-0600
TZNAME:MDT
DTSTART:20230312T090000
END:DAYLIGHT
BEGIN:STANDARD
TZOFFSETFROM:-0600
TZOFFSETTO:-0700
TZNAME:MST
DTSTART:20231105T080000
END:STANDARD
END:VTIMEZONE
BEGIN:VEVENT
DTSTART;VALUE=DATE:20220706
DTEND;VALUE=DATE:20220707
DTSTAMP:20260421T160555
CREATED:20220622T172730Z
LAST-MODIFIED:20220622T172730Z
UID:663-1657065600-1657151999@sunsetut.gov
SUMMARY:Garbage Pick Up
DESCRIPTION:
URL:https://sunsetut.gov/event/garbage-pick-up/
CATEGORIES:garbage
END:VEVENT
BEGIN:VEVENT
DTSTART;VALUE=DATE:20220629
DTEND;VALUE=DATE:20220630
DTSTAMP:20260421T160555
CREATED:20220610T165339Z
LAST-MODIFIED:20220622T172434Z
UID:584-1656460800-1656547199@sunsetut.gov
SUMMARY:Garbage Pickup
DESCRIPTION:
URL:https://sunsetut.gov/event/garbage-pickup-4/
CATEGORIES:garbage
END:VEVENT
BEGIN:VEVENT
DTSTART;VALUE=DATE:20220622
DTEND;VALUE=DATE:20220623
DTSTAMP:20260421T160555
CREATED:20220610T164733Z
LAST-MODIFIED:20220622T172331Z
UID:581-1655856000-1655942399@sunsetut.gov
SUMMARY:Garbage Pickup
DESCRIPTION:
URL:https://sunsetut.gov/event/garbage-pickup-3/
CATEGORIES:garbage
END:VEVENT
BEGIN:VEVENT
DTSTART;VALUE=DATE:20220615
DTEND;VALUE=DATE:20220616
DTSTAMP:20260421T160555
CREATED:20220610T163059Z
LAST-MODIFIED:20220622T172250Z
UID:578-1655251200-1655337599@sunsetut.gov
SUMMARY:Garbage Pickup
DESCRIPTION:
URL:https://sunsetut.gov/event/garbage-pickup-2/
CATEGORIES:garbage
END:VEVENT
END:VCALENDAR