BEGIN:VCALENDAR
VERSION:2.0
PRODID:-//Sunset City - ECPv6.15.20//NONSGML v1.0//EN
CALSCALE:GREGORIAN
METHOD:PUBLISH
X-WR-CALNAME:Sunset City
X-ORIGINAL-URL:https://sunsetut.gov
X-WR-CALDESC:Events for Sunset City
REFRESH-INTERVAL;VALUE=DURATION:PT1H
X-Robots-Tag:noindex
X-PUBLISHED-TTL:PT1H
BEGIN:VTIMEZONE
TZID:America/Denver
BEGIN:DAYLIGHT
TZOFFSETFROM:-0700
TZOFFSETTO:-0600
TZNAME:MDT
DTSTART:20250309T090000
END:DAYLIGHT
BEGIN:STANDARD
TZOFFSETFROM:-0600
TZOFFSETTO:-0700
TZNAME:MST
DTSTART:20251102T080000
END:STANDARD
BEGIN:DAYLIGHT
TZOFFSETFROM:-0700
TZOFFSETTO:-0600
TZNAME:MDT
DTSTART:20260308T090000
END:DAYLIGHT
BEGIN:STANDARD
TZOFFSETFROM:-0600
TZOFFSETTO:-0700
TZNAME:MST
DTSTART:20261101T080000
END:STANDARD
BEGIN:DAYLIGHT
TZOFFSETFROM:-0700
TZOFFSETTO:-0600
TZNAME:MDT
DTSTART:20270314T090000
END:DAYLIGHT
BEGIN:STANDARD
TZOFFSETFROM:-0600
TZOFFSETTO:-0700
TZNAME:MST
DTSTART:20271107T080000
END:STANDARD
END:VTIMEZONE
BEGIN:VEVENT
DTSTART;VALUE=DATE:20261116
DTEND;VALUE=DATE:20261117
DTSTAMP:20260419T230925
CREATED:20260303T203752Z
LAST-MODIFIED:20260303T203752Z
UID:3824-1794787200-1794873599@sunsetut.gov
SUMMARY:Trash Day (Only Trash!)
DESCRIPTION:
URL:https://sunsetut.gov/event/trash-day-11-16-26/
CATEGORIES:Community Information,garbage,recycling
END:VEVENT
BEGIN:VEVENT
DTSTART;VALUE=DATE:20261123
DTEND;VALUE=DATE:20261124
DTSTAMP:20260419T230925
CREATED:20260303T201951Z
LAST-MODIFIED:20260303T201951Z
UID:3774-1795392000-1795478399@sunsetut.gov
SUMMARY:Trash & Recycling Day
DESCRIPTION:
URL:https://sunsetut.gov/event/trash-recycling-day-11-23-26/
CATEGORIES:Community Information,garbage,recycling
END:VEVENT
BEGIN:VEVENT
DTSTART;VALUE=DATE:20261130
DTEND;VALUE=DATE:20261201
DTSTAMP:20260419T230925
CREATED:20260303T204038Z
LAST-MODIFIED:20260303T204038Z
UID:3826-1795996800-1796083199@sunsetut.gov
SUMMARY:Trash Day (Only Trash!)
DESCRIPTION:
URL:https://sunsetut.gov/event/trash-day-11-30-26/
CATEGORIES:Community Information,garbage,recycling
END:VEVENT
BEGIN:VEVENT
DTSTART;VALUE=DATE:20261207
DTEND;VALUE=DATE:20261208
DTSTAMP:20260419T230925
CREATED:20260303T202031Z
LAST-MODIFIED:20260303T202036Z
UID:3776-1796601600-1796687999@sunsetut.gov
SUMMARY:Trash & Recycling Day
DESCRIPTION:
URL:https://sunsetut.gov/event/trash-recycling-day-12-7-26/
CATEGORIES:Community Information,garbage,recycling
END:VEVENT
BEGIN:VEVENT
DTSTART;VALUE=DATE:20261214
DTEND;VALUE=DATE:20261215
DTSTAMP:20260419T230925
CREATED:20260303T204131Z
LAST-MODIFIED:20260303T204131Z
UID:3828-1797206400-1797292799@sunsetut.gov
SUMMARY:Trash Day (Only Trash!)
DESCRIPTION:
URL:https://sunsetut.gov/event/trash-day-12-14-26/
CATEGORIES:Community Information,garbage,recycling
END:VEVENT
BEGIN:VEVENT
DTSTART;VALUE=DATE:20261221
DTEND;VALUE=DATE:20261222
DTSTAMP:20260419T230925
CREATED:20260303T202117Z
LAST-MODIFIED:20260303T202117Z
UID:3778-1797811200-1797897599@sunsetut.gov
SUMMARY:Trash & Recycling Day
DESCRIPTION:
URL:https://sunsetut.gov/event/trash-recycling-day-12-21-26/
CATEGORIES:Community Information,garbage,recycling
END:VEVENT
BEGIN:VEVENT
DTSTART;VALUE=DATE:20261228
DTEND;VALUE=DATE:20261229
DTSTAMP:20260419T230925
CREATED:20260303T204206Z
LAST-MODIFIED:20260303T204206Z
UID:3830-1798416000-1798502399@sunsetut.gov
SUMMARY:Trash Day (Only Trash!)
DESCRIPTION:
URL:https://sunsetut.gov/event/trash-day-12-28-26/
CATEGORIES:Community Information,garbage,recycling
END:VEVENT
END:VCALENDAR