BEGIN:VCALENDAR
VERSION:2.0
PRODID:-//Sunset City - ECPv6.15.20//NONSGML v1.0//EN
CALSCALE:GREGORIAN
METHOD:PUBLISH
X-WR-CALNAME:Sunset City
X-ORIGINAL-URL:https://sunsetut.gov
X-WR-CALDESC:Events for Sunset City
REFRESH-INTERVAL;VALUE=DURATION:PT1H
X-Robots-Tag:noindex
X-PUBLISHED-TTL:PT1H
BEGIN:VTIMEZONE
TZID:America/Denver
BEGIN:DAYLIGHT
TZOFFSETFROM:-0700
TZOFFSETTO:-0600
TZNAME:MDT
DTSTART:20230312T090000
END:DAYLIGHT
BEGIN:STANDARD
TZOFFSETFROM:-0600
TZOFFSETTO:-0700
TZNAME:MST
DTSTART:20231105T080000
END:STANDARD
BEGIN:DAYLIGHT
TZOFFSETFROM:-0700
TZOFFSETTO:-0600
TZNAME:MDT
DTSTART:20240310T090000
END:DAYLIGHT
BEGIN:STANDARD
TZOFFSETFROM:-0600
TZOFFSETTO:-0700
TZNAME:MST
DTSTART:20241103T080000
END:STANDARD
BEGIN:DAYLIGHT
TZOFFSETFROM:-0700
TZOFFSETTO:-0600
TZNAME:MDT
DTSTART:20250309T090000
END:DAYLIGHT
BEGIN:STANDARD
TZOFFSETFROM:-0600
TZOFFSETTO:-0700
TZNAME:MST
DTSTART:20251102T080000
END:STANDARD
BEGIN:DAYLIGHT
TZOFFSETFROM:-0700
TZOFFSETTO:-0600
TZNAME:MDT
DTSTART:20260308T090000
END:DAYLIGHT
BEGIN:STANDARD
TZOFFSETFROM:-0600
TZOFFSETTO:-0700
TZNAME:MST
DTSTART:20261101T080000
END:STANDARD
BEGIN:DAYLIGHT
TZOFFSETFROM:-0700
TZOFFSETTO:-0600
TZNAME:MDT
DTSTART:20270314T090000
END:DAYLIGHT
BEGIN:STANDARD
TZOFFSETFROM:-0600
TZOFFSETTO:-0700
TZNAME:MST
DTSTART:20271107T080000
END:STANDARD
END:VTIMEZONE
BEGIN:VEVENT
DTSTART;VALUE=DATE:20260420
DTEND;VALUE=DATE:20260421
DTSTAMP:20260421T041847
CREATED:20260303T202657Z
LAST-MODIFIED:20260303T202657Z
UID:3794-1776643200-1776729599@sunsetut.gov
SUMMARY:Trash Day (Only Trash!)
DESCRIPTION:
URL:https://sunsetut.gov/event/trash-day-4-20-26/
CATEGORIES:Community Information,garbage,recycling
END:VEVENT
BEGIN:VEVENT
DTSTART;VALUE=DATE:20260413
DTEND;VALUE=DATE:20260414
DTSTAMP:20260421T041847
CREATED:20260303T200551Z
LAST-MODIFIED:20260303T200551Z
UID:3742-1776038400-1776124799@sunsetut.gov
SUMMARY:Trash & Recycling Day
DESCRIPTION:
URL:https://sunsetut.gov/event/trash-recycling-day-4-13-26/
CATEGORIES:Community Information,garbage,recycling
END:VEVENT
BEGIN:VEVENT
DTSTART;VALUE=DATE:20260406
DTEND;VALUE=DATE:20260407
DTSTAMP:20260421T041847
CREATED:20260303T202622Z
LAST-MODIFIED:20260303T202622Z
UID:3792-1775433600-1775519999@sunsetut.gov
SUMMARY:Trash Day (Only Trash!)
DESCRIPTION:
URL:https://sunsetut.gov/event/trash-day-4-6-26/
CATEGORIES:Community Information,garbage,recycling
END:VEVENT
BEGIN:VEVENT
DTSTART;VALUE=DATE:20260330
DTEND;VALUE=DATE:20260331
DTSTAMP:20260421T041847
CREATED:20260303T195543Z
LAST-MODIFIED:20260303T200501Z
UID:3740-1774828800-1774915199@sunsetut.gov
SUMMARY:Trash & Recycling Day
DESCRIPTION:
URL:https://sunsetut.gov/event/trash-recycling-day-3-30-26/
CATEGORIES:Community Information,garbage,recycling
END:VEVENT
BEGIN:VEVENT
DTSTART;VALUE=DATE:20260323
DTEND;VALUE=DATE:20260324
DTSTAMP:20260421T041847
CREATED:20260303T202548Z
LAST-MODIFIED:20260303T202548Z
UID:3790-1774224000-1774310399@sunsetut.gov
SUMMARY:Trash Day (Only Trash!)
DESCRIPTION:
URL:https://sunsetut.gov/event/trash-day-3-23-26/
CATEGORIES:Community Information,garbage,recycling
END:VEVENT
BEGIN:VEVENT
DTSTART;VALUE=DATE:20260316
DTEND;VALUE=DATE:20260317
DTSTAMP:20260421T041847
CREATED:20260303T195503Z
LAST-MODIFIED:20260303T195503Z
UID:3738-1773619200-1773705599@sunsetut.gov
SUMMARY:Trash & Recycling Day
DESCRIPTION:
URL:https://sunsetut.gov/event/trash-recycling-day-3-16-26/
CATEGORIES:Community Information,garbage,recycling
END:VEVENT
BEGIN:VEVENT
DTSTART;VALUE=DATE:20260309
DTEND;VALUE=DATE:20260310
DTSTAMP:20260421T041847
CREATED:20260303T202507Z
LAST-MODIFIED:20260303T202507Z
UID:3788-1773014400-1773100799@sunsetut.gov
SUMMARY:Trash Day (Only Trash!)
DESCRIPTION:
URL:https://sunsetut.gov/event/trash-day-3-9-26/
CATEGORIES:Community Information,garbage,recycling
END:VEVENT
BEGIN:VEVENT
DTSTART;VALUE=DATE:20260302
DTEND;VALUE=DATE:20260303
DTSTAMP:20260421T041847
CREATED:20260303T195430Z
LAST-MODIFIED:20260303T195430Z
UID:3736-1772409600-1772495999@sunsetut.gov
SUMMARY:Trash & Recycling Day
DESCRIPTION:
URL:https://sunsetut.gov/event/trash-recycling-day-3-2-26/
CATEGORIES:Community Information,garbage,recycling
END:VEVENT
BEGIN:VEVENT
DTSTART;VALUE=DATE:20260223
DTEND;VALUE=DATE:20260224
DTSTAMP:20260421T041847
CREATED:20260303T202428Z
LAST-MODIFIED:20260303T202428Z
UID:3786-1771804800-1771891199@sunsetut.gov
SUMMARY:Trash Day (Only Trash!)
DESCRIPTION:
URL:https://sunsetut.gov/event/trash-day-2-23-26/
CATEGORIES:Community Information,garbage,recycling
END:VEVENT
BEGIN:VEVENT
DTSTART;VALUE=DATE:20260216
DTEND;VALUE=DATE:20260217
DTSTAMP:20260421T041847
CREATED:20260303T195350Z
LAST-MODIFIED:20260303T195350Z
UID:3734-1771200000-1771286399@sunsetut.gov
SUMMARY:Trash & Recycling Day
DESCRIPTION:
URL:https://sunsetut.gov/event/trash-recycling-day-2-16-26/
CATEGORIES:Community Information,garbage,recycling
END:VEVENT
BEGIN:VEVENT
DTSTART;VALUE=DATE:20260209
DTEND;VALUE=DATE:20260210
DTSTAMP:20260421T041847
CREATED:20260303T202350Z
LAST-MODIFIED:20260303T202350Z
UID:3784-1770595200-1770681599@sunsetut.gov
SUMMARY:Trash Day (Only Trash!)
DESCRIPTION:
URL:https://sunsetut.gov/event/trash-day-2-9-26/
CATEGORIES:Community Information,garbage,recycling
END:VEVENT
BEGIN:VEVENT
DTSTART;VALUE=DATE:20260202
DTEND;VALUE=DATE:20260203
DTSTAMP:20260421T041847
CREATED:20260303T195316Z
LAST-MODIFIED:20260303T195316Z
UID:3732-1769990400-1770076799@sunsetut.gov
SUMMARY:Trash & Recycling Day
DESCRIPTION:
URL:https://sunsetut.gov/event/trash-recycling-day-2-2-26/
CATEGORIES:Community Information,garbage,recycling
END:VEVENT
BEGIN:VEVENT
DTSTART;VALUE=DATE:20260126
DTEND;VALUE=DATE:20260127
DTSTAMP:20260421T041847
CREATED:20260303T202311Z
LAST-MODIFIED:20260303T202311Z
UID:3782-1769385600-1769471999@sunsetut.gov
SUMMARY:Trash Day (Only Trash!)
DESCRIPTION:
URL:https://sunsetut.gov/event/trash-day-1-26-26/
CATEGORIES:Community Information,garbage,recycling
END:VEVENT
BEGIN:VEVENT
DTSTART;VALUE=DATE:20260119
DTEND;VALUE=DATE:20260120
DTSTAMP:20260421T041847
CREATED:20260303T195242Z
LAST-MODIFIED:20260303T195242Z
UID:3730-1768780800-1768867199@sunsetut.gov
SUMMARY:Trash & Recycling Day
DESCRIPTION:
URL:https://sunsetut.gov/event/trash-recycling-day-1-19-26/
CATEGORIES:Community Information,garbage,recycling
END:VEVENT
BEGIN:VEVENT
DTSTART;VALUE=DATE:20260112
DTEND;VALUE=DATE:20260113
DTSTAMP:20260421T041847
CREATED:20260303T202226Z
LAST-MODIFIED:20260303T202226Z
UID:3780-1768176000-1768262399@sunsetut.gov
SUMMARY:Trash Day (Only Trash!)
DESCRIPTION:
URL:https://sunsetut.gov/event/trash-day-1-12-26/
CATEGORIES:Community Information,garbage,recycling
END:VEVENT
BEGIN:VEVENT
DTSTART;VALUE=DATE:20260105
DTEND;VALUE=DATE:20260106
DTSTAMP:20260421T041847
CREATED:20260303T195139Z
LAST-MODIFIED:20260303T195216Z
UID:3727-1767571200-1767657599@sunsetut.gov
SUMMARY:Trash & Recycling Day
DESCRIPTION:
URL:https://sunsetut.gov/event/trash-recycling-day-1-5-26/
CATEGORIES:Community Information,garbage,recycling
END:VEVENT
BEGIN:VEVENT
DTSTART;VALUE=DATE:20240515
DTEND;VALUE=DATE:20240516
DTSTAMP:20260421T041847
CREATED:20240202T185639Z
LAST-MODIFIED:20240202T185639Z
UID:1999-1715731200-1715817599@sunsetut.gov
SUMMARY:Trash Day (Every Wednesday)
DESCRIPTION:
URL:https://sunsetut.gov/event/trash-day-every-wednesday-17/
CATEGORIES:garbage
END:VEVENT
BEGIN:VEVENT
DTSTART;VALUE=DATE:20240508
DTEND;VALUE=DATE:20240509
DTSTAMP:20260421T041847
CREATED:20240202T185440Z
LAST-MODIFIED:20240202T185440Z
UID:1997-1715126400-1715212799@sunsetut.gov
SUMMARY:Trash Day (Every Wednesday)
DESCRIPTION:
URL:https://sunsetut.gov/event/trash-day-every-wednesday-16/
CATEGORIES:garbage
END:VEVENT
BEGIN:VEVENT
DTSTART;VALUE=DATE:20240501
DTEND;VALUE=DATE:20240502
DTSTAMP:20260421T041847
CREATED:20240202T185414Z
LAST-MODIFIED:20240202T185414Z
UID:1995-1714521600-1714607999@sunsetut.gov
SUMMARY:Trash Day (Every Wednesday)
DESCRIPTION:
URL:https://sunsetut.gov/event/trash-day-every-wednesday-15/
CATEGORIES:garbage
END:VEVENT
BEGIN:VEVENT
DTSTART;VALUE=DATE:20240424
DTEND;VALUE=DATE:20240425
DTSTAMP:20260421T041847
CREATED:20240202T185225Z
LAST-MODIFIED:20240202T185225Z
UID:1993-1713916800-1714003199@sunsetut.gov
SUMMARY:Trash Day (Every Wednesday)
DESCRIPTION:
URL:https://sunsetut.gov/event/trash-day-every-wednesday-14/
CATEGORIES:garbage
END:VEVENT
BEGIN:VEVENT
DTSTART;VALUE=DATE:20240417
DTEND;VALUE=DATE:20240418
DTSTAMP:20260421T041847
CREATED:20240202T185207Z
LAST-MODIFIED:20240202T185207Z
UID:1991-1713312000-1713398399@sunsetut.gov
SUMMARY:Trash Day (Every Wednesday)
DESCRIPTION:
URL:https://sunsetut.gov/event/trash-day-every-wednesday-13/
CATEGORIES:garbage
END:VEVENT
BEGIN:VEVENT
DTSTART;VALUE=DATE:20240410
DTEND;VALUE=DATE:20240411
DTSTAMP:20260421T041847
CREATED:20240202T184120Z
LAST-MODIFIED:20240202T184120Z
UID:1989-1712707200-1712793599@sunsetut.gov
SUMMARY:Trash Day (Every Wednesday)
DESCRIPTION:
URL:https://sunsetut.gov/event/trash-day-every-wednesday-12/
CATEGORIES:garbage
END:VEVENT
BEGIN:VEVENT
DTSTART;VALUE=DATE:20240403
DTEND;VALUE=DATE:20240404
DTSTAMP:20260421T041847
CREATED:20240202T184103Z
LAST-MODIFIED:20240202T184103Z
UID:1987-1712102400-1712188799@sunsetut.gov
SUMMARY:Trash Day (Every Wednesday)
DESCRIPTION:
URL:https://sunsetut.gov/event/trash-day-every-wednesday-11/
CATEGORIES:garbage
END:VEVENT
BEGIN:VEVENT
DTSTART;VALUE=DATE:20240327
DTEND;VALUE=DATE:20240328
DTSTAMP:20260421T041847
CREATED:20240202T183954Z
LAST-MODIFIED:20240202T183954Z
UID:1985-1711497600-1711583999@sunsetut.gov
SUMMARY:Trash Day (Every Wednesday)
DESCRIPTION:
URL:https://sunsetut.gov/event/trash-day-every-wednesday-10/
CATEGORIES:garbage
END:VEVENT
BEGIN:VEVENT
DTSTART;VALUE=DATE:20240320
DTEND;VALUE=DATE:20240321
DTSTAMP:20260421T041847
CREATED:20240202T183933Z
LAST-MODIFIED:20240202T183933Z
UID:1983-1710892800-1710979199@sunsetut.gov
SUMMARY:Trash Day (Every Wednesday)
DESCRIPTION:
URL:https://sunsetut.gov/event/trash-day-every-wednesday-9/
CATEGORIES:garbage
END:VEVENT
BEGIN:VEVENT
DTSTART;VALUE=DATE:20240313
DTEND;VALUE=DATE:20240314
DTSTAMP:20260421T041847
CREATED:20240202T183849Z
LAST-MODIFIED:20240202T183849Z
UID:1981-1710288000-1710374399@sunsetut.gov
SUMMARY:Trash Day (Every Wednesday)
DESCRIPTION:
URL:https://sunsetut.gov/event/trash-day-every-wednesday-8/
CATEGORIES:garbage
END:VEVENT
BEGIN:VEVENT
DTSTART;VALUE=DATE:20240306
DTEND;VALUE=DATE:20240307
DTSTAMP:20260421T041847
CREATED:20240202T183806Z
LAST-MODIFIED:20240202T183806Z
UID:1979-1709683200-1709769599@sunsetut.gov
SUMMARY:Trash Day (Every Wednesday)
DESCRIPTION:
URL:https://sunsetut.gov/event/trash-day-every-wednesday-7/
CATEGORIES:garbage
END:VEVENT
BEGIN:VEVENT
DTSTART;VALUE=DATE:20240228
DTEND;VALUE=DATE:20240229
DTSTAMP:20260421T041847
CREATED:20240202T183746Z
LAST-MODIFIED:20240202T183746Z
UID:1977-1709078400-1709164799@sunsetut.gov
SUMMARY:Trash Day (Every Wednesday)
DESCRIPTION:
URL:https://sunsetut.gov/event/trash-day-every-wednesday-6/
CATEGORIES:garbage
END:VEVENT
BEGIN:VEVENT
DTSTART;VALUE=DATE:20240221
DTEND;VALUE=DATE:20240222
DTSTAMP:20260421T041847
CREATED:20240202T183706Z
LAST-MODIFIED:20240202T183706Z
UID:1975-1708473600-1708559999@sunsetut.gov
SUMMARY:Trash Day (Every Wednesday)
DESCRIPTION:
URL:https://sunsetut.gov/event/trash-day-every-wednesday-5/
CATEGORIES:garbage
END:VEVENT
BEGIN:VEVENT
DTSTART;VALUE=DATE:20240221
DTEND;VALUE=DATE:20240222
DTSTAMP:20260421T041847
CREATED:20240202T183641Z
LAST-MODIFIED:20240202T183641Z
UID:1973-1708473600-1708559999@sunsetut.gov
SUMMARY:Trash Day (Every Wednesday)
DESCRIPTION:
URL:https://sunsetut.gov/event/trash-day-every-wednesday-4/
CATEGORIES:garbage
END:VEVENT
END:VCALENDAR