BEGIN:VCALENDAR
VERSION:2.0
PRODID:-//Sunset City - ECPv6.15.20//NONSGML v1.0//EN
CALSCALE:GREGORIAN
METHOD:PUBLISH
X-ORIGINAL-URL:https://sunsetut.gov
X-WR-CALDESC:Events for Sunset City
REFRESH-INTERVAL;VALUE=DURATION:PT1H
X-Robots-Tag:noindex
X-PUBLISHED-TTL:PT1H
BEGIN:VTIMEZONE
TZID:America/Denver
BEGIN:DAYLIGHT
TZOFFSETFROM:-0700
TZOFFSETTO:-0600
TZNAME:MDT
DTSTART:20240310T090000
END:DAYLIGHT
BEGIN:STANDARD
TZOFFSETFROM:-0600
TZOFFSETTO:-0700
TZNAME:MST
DTSTART:20241103T080000
END:STANDARD
BEGIN:DAYLIGHT
TZOFFSETFROM:-0700
TZOFFSETTO:-0600
TZNAME:MDT
DTSTART:20250309T090000
END:DAYLIGHT
BEGIN:STANDARD
TZOFFSETFROM:-0600
TZOFFSETTO:-0700
TZNAME:MST
DTSTART:20251102T080000
END:STANDARD
BEGIN:DAYLIGHT
TZOFFSETFROM:-0700
TZOFFSETTO:-0600
TZNAME:MDT
DTSTART:20260308T090000
END:DAYLIGHT
BEGIN:STANDARD
TZOFFSETFROM:-0600
TZOFFSETTO:-0700
TZNAME:MST
DTSTART:20261101T080000
END:STANDARD
BEGIN:DAYLIGHT
TZOFFSETFROM:-0700
TZOFFSETTO:-0600
TZNAME:MDT
DTSTART:20270314T090000
END:DAYLIGHT
BEGIN:STANDARD
TZOFFSETFROM:-0600
TZOFFSETTO:-0700
TZNAME:MST
DTSTART:20271107T080000
END:STANDARD
END:VTIMEZONE
BEGIN:VEVENT
DTSTART;VALUE=DATE:20250711
DTEND;VALUE=DATE:20250713
DTSTAMP:20260419T065950
CREATED:20250707T215559Z
LAST-MODIFIED:20250707T215559Z
UID:3164-1752192000-1752364799@sunsetut.gov
SUMMARY:Sunset City Fun Days
DESCRIPTION:
URL:https://sunsetut.gov/event/sunset-city-fun-days-4/
CATEGORIES:Community Event,Community Information
ATTACH;FMTTYPE=image/png:https://sunsetut.gov/wp-content/uploads/2025/04/Sunset-City-Fun-Days-2025-Updated.png
END:VEVENT
BEGIN:VEVENT
DTSTART;TZID=America/Denver:20251024T180000
DTEND;TZID=America/Denver:20251024T200000
DTSTAMP:20260419T065950
CREATED:20251001T181157Z
LAST-MODIFIED:20251001T181157Z
UID:3311-1761328800-1761336000@sunsetut.gov
SUMMARY:Community Cruisers Candy Crawl
DESCRIPTION: Get ready\, Sunset City! \nWe are thrilled to announce the premiere of our very first Community Cruisers Candy Crawl! \n Friday\, October 24th 6:00 – 8:00 PM Sunset City Hall – East Parking Lot (200 W. 1300 N.)\nThis new fall tradition will be a spooktacular evening of fun for the whole family! Bring your little ghosts and goblins out to enjoy: Trunk-or-Treat Our exciting “Touch-a-Truck” event with firetrucks\, public works vehicles\, and police cars A chance to meet Sunset’s finest – our very own Sunset Police Department police officers and first responders And of course… donuts and hot cider to keep you warm and smiling! \n This is a safe\, family-friendly way to kick off the Halloween season – and trust us\, it’s going to be un-BOO-lievably fun! \n Don’t ghost us! If you plan on coming\, be sure to click “Going” on our Facebook event so we can have plenty of tasty treats for everyone!\nWe can’t wait to see you there for an evening full of candy\, community\, and cruisers! 
URL:https://sunsetut.gov/event/community-cruisers-candy-crawl/
LOCATION:Sunset City Hall\, 200 W 1300 N\, Sunset\, UT\, 84015\, United States
CATEGORIES:Community Event,Community Information,family
ATTACH;FMTTYPE=image/png:https://sunsetut.gov/wp-content/uploads/2025/09/Community-Cruisers-Candy-Crawl-1.png
END:VEVENT
BEGIN:VEVENT
DTSTART;TZID=America/Denver:20260114T130000
DTEND;TZID=America/Denver:20260114T150000
DTSTAMP:20260419T065950
CREATED:20260304T192424Z
LAST-MODIFIED:20260304T192424Z
UID:3848-1768395600-1768402800@sunsetut.gov
SUMMARY:January - Sunset City Seniors Activity - Hat/Glove Drive
DESCRIPTION:🧶🎩 Seniors Activity Day – Hat & Glove Drive 💜❄️ \nThis month’s Seniors Activity Day is all about giving back to our community through our Hat and Glove Drive 🤝. Seniors are invited to join us to knit and crochet hats and gloves for local students in need. \nThanks to your incredible generosity\, over 300 hats have already been made and collected 🙌🧣—but we still need more! If you have hats or gloves already completed\, please bring them with you to the activity this Wednesday. Every item truly makes a difference. \nThis year\, the Mayor will be distributing donations to four Sunset City schools 🏫🏫🏫🏫 (instead of just one last year)\, so we can use all the hats we can get! You’re also welcome to start now and continue working on projects through November\, with completed items being presented to the Mayor in January 🎁. \n📅 Date: Wednesday⏰ Time: 1:00 PM📍 Location: Sunset Room at City Hall \nWhether you’re stitching\, donating\, or simply coming to visit and support the effort\, we would love to see you there. Thank you for helping keep our students warm this winter! ❤️🧶
URL:https://sunsetut.gov/event/senior-activity-1-14-26/
LOCATION:Sunset City Hall\, 200 W 1300 N\, Sunset\, UT\, 84015\, United States
CATEGORIES:Community Event,Community Information,family,Holidays,Senior
END:VEVENT
BEGIN:VEVENT
DTSTART;TZID=America/Denver:20260211T130000
DTEND;TZID=America/Denver:20260211T150000
DTSTAMP:20260419T065950
CREATED:20260304T192241Z
LAST-MODIFIED:20260304T192305Z
UID:3845-1770814800-1770822000@sunsetut.gov
SUMMARY:February - Sunset City Seniors Activity - Bingo Day
DESCRIPTION:🎉 February Seniors Activity Day – Bingo Day! 🎉 \nJoin us this month for a fun and lively Bingo Day during Seniors Activity Day! 🧠🎲 Get ready for an afternoon filled with laughter\, friendly competition\, and great company. \nTo make the game even more exciting\, we invite participants to bring a “white elephant”–style prize to donate for our bingo prizes 🎁. The prize can be fun\, quirky\, or creative—just something that will add to the enjoyment for everyone! \nWhether you’re playing bingo\, donating a prize\, or simply coming to socialize\, we would love to see you there. Thank you for helping make this a fun and memorable activity for our senior community! 💜
URL:https://sunsetut.gov/event/senior-activity-2-11-26/
LOCATION:Sunset City Hall\, 200 W 1300 N\, Sunset\, UT\, 84015\, United States
CATEGORIES:Community Event,Community Information,family,Holidays,Senior
END:VEVENT
BEGIN:VEVENT
DTSTART;TZID=America/Denver:20260311T130000
DTEND;TZID=America/Denver:20260311T150000
DTSTAMP:20260419T065950
CREATED:20260304T174529Z
LAST-MODIFIED:20260304T192109Z
UID:3832-1773234000-1773241200@sunsetut.gov
SUMMARY:March - Sunset City Seniors Activity - Clearfield Senior Center Tour
DESCRIPTION:🚌 Seniors Activity Day – Field Trip Fun! 🎉 \nThis month\, we’re taking Seniors Activity Day on the road! Join us for a special field trip on Wednesday\, March 11th as we meet at the Clearfield Senior Center (42 State St\, Clearfield\, UT 84015) at 1:00 PM to tour their facility and learn more about the programs and activities they have to offer. \nThis is a wonderful opportunity to explore new resources\, connect with others\, and see what exciting opportunities are available for our senior community. Whether you’re looking to get involved in new activities or simply want to enjoy a fun afternoon out\, we would love for you to join us! \n📍 Location: Clearfield Senior Center (42 State St\, Clearfield\, UT 84015)📅 Date: Wednesday\, March 11th⏰ Time: 1:00 PM \nWe look forward to seeing you there for this special outing! 💜
URL:https://sunsetut.gov/event/senior-activity-3-11-26/
CATEGORIES:Community Event,Community Information,family,Holidays,Senior
END:VEVENT
BEGIN:VEVENT
DTSTART;TZID=America/Denver:20260404T100000
DTEND;TZID=America/Denver:20260404T120000
DTSTAMP:20260419T065950
CREATED:20260303T192213Z
LAST-MODIFIED:20260303T192401Z
UID:3708-1775296800-1775304000@sunsetut.gov
SUMMARY:Annual Easter Egg Hunt
DESCRIPTION:𝐒𝐔𝐍𝐒𝐄𝐓 𝐂𝐈𝐓𝐘 𝐄𝐀𝐒𝐓𝐄𝐑 𝐄𝐆𝐆 𝐇𝐔𝐍𝐓 𝟐𝟎𝟐𝟔  \n\nSpring is in the air\, and we’re egg-cited to invite you to one of our favorite community traditions! The Easter Bunny is hopping into town\, and we can’t wait to celebrate together.\n\n Saturday\, April 4th\, 2026 Starts at 10:00 AM sharp John G. White North Park (2400 N 250 W)\n\nBe sure to arrive on time — the eggs disappear quickly! Bring your baskets\, invite your neighbors\, and join us for a morning filled with fun\, laughter\, and community connection.\nWe had an incredible time last year with so many smiling faces\, eager egg hunters\, and families enjoying a beautiful morning at the park. It was truly a wonderful opportunity to gather as a community\, and we are looking forward to another fantastic event this year!\n\nWe can’t wait to see everyone there for an egg-stra special celebration! 
URL:https://sunsetut.gov/event/annual-easter-egg-hunt-3/
LOCATION:John G. White Memorial Park\, 2400 N 250 W\, Sunset\, UT\, 84015\, United States
CATEGORIES:Community Event,Community Information,family,Holidays
END:VEVENT
BEGIN:VEVENT
DTSTART;TZID=America/Denver:20260408T130000
DTEND;TZID=America/Denver:20260408T150000
DTSTAMP:20260419T065950
CREATED:20260304T181119Z
LAST-MODIFIED:20260304T182854Z
UID:3836-1775653200-1775660400@sunsetut.gov
SUMMARY:April - Sunset City Seniors Activity - Game Day
DESCRIPTION:🎲 Seniors Activity Day – Game Day Fun! 🍪 \nJoin us for this month’s Seniors Activity Day as we gather for a relaxing and enjoyable Game Day! Bring a favorite treat to share and come spend the afternoon playing social games\, visiting with friends\, and enjoying great company. \nWhether you’re competitive or just coming for the conversation\, this is a wonderful opportunity to connect and have fun together in a welcoming atmosphere. We would love to see you there! \n📅 Date: Wednesday\, April 8th⏰ Time: 1:00 PM📍 Location: Sunset Room \nBring a snack\, bring a friend\, and join us for a great afternoon! 💜
URL:https://sunsetut.gov/event/senior-activity-4-8-26/
LOCATION:Sunset City Hall\, 200 W 1300 N\, Sunset\, UT\, 84015\, United States
CATEGORIES:Community Event,Community Information,family,Holidays,Senior
END:VEVENT
BEGIN:VEVENT
DTSTART;TZID=America/Denver:20260513T130000
DTEND;TZID=America/Denver:20260513T150000
DTSTAMP:20260419T065950
CREATED:20260304T182647Z
LAST-MODIFIED:20260304T182647Z
UID:3840-1778677200-1778684400@sunsetut.gov
SUMMARY:May - Sunset City Seniors Activity - Munch & Mingle
DESCRIPTION:🥪 Seniors Activity Day – Munch & Mingle! 🌳 \nJoin us this month for a relaxed and enjoyable Munch & Mingle during Seniors Activity Day! Pack a sack lunch and come spend the afternoon visiting\, laughing\, and enjoying time together outdoors. \nWe’ll be gathering at the pavilion at Rachael Runyan Park\, so bring your lunch\, a comfortable chair if you’d like\, and come ready for great conversation and fresh air. It’s the perfect opportunity to connect and unwind with friends in our senior community. \n📅 Date: Wednesday\, May 13th⏰ Time: 1:00 PM📍 Location: Pavilion at Rachael Runyan Park \nWe look forward to seeing you there for a wonderful afternoon together! 💜
URL:https://sunsetut.gov/event/senior-activity-5-13-26/
LOCATION:Rachael Runyan Memorial Park\, 975 N. 200 W.\, Sunset\, UT\, 84015\, United States
CATEGORIES:Community Event,Community Information,family,Holidays,Senior
END:VEVENT
BEGIN:VEVENT
DTSTART;TZID=America/Denver:20260610T130000
DTEND;TZID=America/Denver:20260610T150000
DTSTAMP:20260419T065950
CREATED:20260304T192727Z
LAST-MODIFIED:20260304T193703Z
UID:3850-1781096400-1781103600@sunsetut.gov
SUMMARY:June - Sunset City Seniors Activity - Bingo Day
DESCRIPTION:🎉 Seniors Activity Day – Bingo Day! 🎉 \nJoin us this month for a fun and lively Bingo Day during Seniors Activity Day! 🧠🎲 Get ready for an afternoon filled with laughter\, friendly competition\, and great company. \nTo make the game even more exciting\, we invite participants to bring a “white elephant”–style prize to donate for our bingo prizes 🎁. The prize can be fun\, quirky\, or creative—just something that will add to the enjoyment for everyone! \nWhether you’re playing bingo\, donating a prize\, or simply coming to socialize\, we would love to see you there. Thank you for helping make this a fun and memorable activity for our senior community! 💜
URL:https://sunsetut.gov/event/senior-activity-6-10-26/
LOCATION:Sunset City Hall\, 200 W 1300 N\, Sunset\, UT\, 84015\, United States
CATEGORIES:Community Event,Community Information,family,Holidays,Senior
END:VEVENT
BEGIN:VEVENT
DTSTART;VALUE=DATE:20260717
DTEND;VALUE=DATE:20260719
DTSTAMP:20260419T065950
CREATED:20260303T192825Z
LAST-MODIFIED:20260303T192854Z
UID:3714-1784246400-1784419199@sunsetut.gov
SUMMARY:Sunset City Fun Days
DESCRIPTION:
URL:https://sunsetut.gov/event/sunset-city-fun-days-5/
LOCATION:Rachael Runyan Memorial Park\, 975 N. 200 W.\, Sunset\, UT\, 84015\, United States
CATEGORIES:Community Event,Community Information,family,Holidays
END:VEVENT
BEGIN:VEVENT
DTSTART;VALUE=DATE:20260919
DTEND;VALUE=DATE:20260920
DTSTAMP:20260419T065950
CREATED:20260303T193019Z
LAST-MODIFIED:20260303T193044Z
UID:3717-1789776000-1789862399@sunsetut.gov
SUMMARY:Mental Health Fair
DESCRIPTION:
URL:https://sunsetut.gov/event/mental-health-fair/
LOCATION:Rachael Runyan Memorial Park\, 975 N. 200 W.\, Sunset\, UT\, 84015\, United States
CATEGORIES:Community Event,Community Information,family,Holidays
END:VEVENT
BEGIN:VEVENT
DTSTART;VALUE=DATE:20261017
DTEND;VALUE=DATE:20261018
DTSTAMP:20260419T065950
CREATED:20260303T193212Z
LAST-MODIFIED:20260303T193238Z
UID:3719-1792195200-1792281599@sunsetut.gov
SUMMARY:Candy Crawl
DESCRIPTION:
URL:https://sunsetut.gov/event/candy-crawl/
LOCATION:Sunset City Hall\, 200 W 1300 N\, Sunset\, UT\, 84015\, United States
CATEGORIES:Community Event,Community Information,family,Holidays
END:VEVENT
BEGIN:VEVENT
DTSTART;VALUE=DATE:20261114
DTEND;VALUE=DATE:20261115
DTSTAMP:20260419T065950
CREATED:20260303T193351Z
LAST-MODIFIED:20260303T193351Z
UID:3721-1794614400-1794700799@sunsetut.gov
SUMMARY:Veteran's Day Program
DESCRIPTION:
URL:https://sunsetut.gov/event/veterans-day-program/
LOCATION:Sunset City Hall\, 200 W 1300 N\, Sunset\, UT\, 84015\, United States
CATEGORIES:Community Event,Community Information,family,Holidays
END:VEVENT
BEGIN:VEVENT
DTSTART;VALUE=DATE:20261216
DTEND;VALUE=DATE:20261217
DTSTAMP:20260419T065950
CREATED:20260303T193514Z
LAST-MODIFIED:20260303T193514Z
UID:3723-1797379200-1797465599@sunsetut.gov
SUMMARY:Seniors Holiday Luncheon
DESCRIPTION:
URL:https://sunsetut.gov/event/seniors-holiday-luncheon/
LOCATION:Sunset City Hall\, 200 W 1300 N\, Sunset\, UT\, 84015\, United States
CATEGORIES:Community Event,Community Information,family,Holidays
END:VEVENT
BEGIN:VEVENT
DTSTART;VALUE=DATE:20261219
DTEND;VALUE=DATE:20261220
DTSTAMP:20260419T065950
CREATED:20260303T193616Z
LAST-MODIFIED:20260303T193651Z
UID:3725-1797638400-1797724799@sunsetut.gov
SUMMARY:Santa on the Firetruck!
DESCRIPTION:
URL:https://sunsetut.gov/event/santa-on-the-firetruck/
LOCATION:Sunset City Hall\, 200 W 1300 N\, Sunset\, UT\, 84015\, United States
CATEGORIES:Community Event,Community Information,family,Holidays
END:VEVENT
END:VCALENDAR