BEGIN:VCALENDAR
VERSION:2.0
PRODID:-//Sunset City - ECPv6.15.20//NONSGML v1.0//EN
CALSCALE:GREGORIAN
METHOD:PUBLISH
X-WR-CALNAME:Sunset City
X-ORIGINAL-URL:https://sunsetut.gov
X-WR-CALDESC:Events for Sunset City
REFRESH-INTERVAL;VALUE=DURATION:PT1H
X-Robots-Tag:noindex
X-PUBLISHED-TTL:PT1H
BEGIN:VTIMEZONE
TZID:America/Denver
BEGIN:DAYLIGHT
TZOFFSETFROM:-0700
TZOFFSETTO:-0600
TZNAME:MDT
DTSTART:20250309T090000
END:DAYLIGHT
BEGIN:STANDARD
TZOFFSETFROM:-0600
TZOFFSETTO:-0700
TZNAME:MST
DTSTART:20251102T080000
END:STANDARD
BEGIN:DAYLIGHT
TZOFFSETFROM:-0700
TZOFFSETTO:-0600
TZNAME:MDT
DTSTART:20260308T090000
END:DAYLIGHT
BEGIN:STANDARD
TZOFFSETFROM:-0600
TZOFFSETTO:-0700
TZNAME:MST
DTSTART:20261101T080000
END:STANDARD
BEGIN:DAYLIGHT
TZOFFSETFROM:-0700
TZOFFSETTO:-0600
TZNAME:MDT
DTSTART:20270314T090000
END:DAYLIGHT
BEGIN:STANDARD
TZOFFSETFROM:-0600
TZOFFSETTO:-0700
TZNAME:MST
DTSTART:20271107T080000
END:STANDARD
END:VTIMEZONE
BEGIN:VEVENT
DTSTART;VALUE=DATE:20260629
DTEND;VALUE=DATE:20260630
DTSTAMP:20260421T092805
CREATED:20260303T203002Z
LAST-MODIFIED:20260303T203002Z
UID:3804-1782691200-1782777599@sunsetut.gov
SUMMARY:Trash Day (Only Trash!)
DESCRIPTION:
URL:https://sunsetut.gov/event/trash-day-6-29-26/
CATEGORIES:Community Information,garbage,recycling
END:VEVENT
BEGIN:VEVENT
DTSTART;VALUE=DATE:20260703
DTEND;VALUE=DATE:20260704
DTSTAMP:20260421T092805
CREATED:20260303T163402Z
LAST-MODIFIED:20260303T163402Z
UID:3582-1783036800-1783123199@sunsetut.gov
SUMMARY:Office Closed - Independence Day
DESCRIPTION:
URL:https://sunsetut.gov/event/office-closed-independence-day/
LOCATION:Sunset City Hall\, 200 W 1300 N\, Sunset\, UT\, 84015\, United States
CATEGORIES:Community Information,Holidays
END:VEVENT
BEGIN:VEVENT
DTSTART;VALUE=DATE:20260706
DTEND;VALUE=DATE:20260707
DTSTAMP:20260421T092805
CREATED:20260303T201031Z
LAST-MODIFIED:20260303T201031Z
UID:3754-1783296000-1783382399@sunsetut.gov
SUMMARY:Trash & Recycling Day
DESCRIPTION:
URL:https://sunsetut.gov/event/trash-recycling-day-7-6-26/
CATEGORIES:Community Information,garbage,recycling
END:VEVENT
BEGIN:VEVENT
DTSTART;TZID=America/Denver:20260707T183000
DTEND;TZID=America/Denver:20260707T210000
DTSTAMP:20260421T092805
CREATED:20260303T174747Z
LAST-MODIFIED:20260303T174747Z
UID:3634-1783449000-1783458000@sunsetut.gov
SUMMARY:City Council Meeting
DESCRIPTION:🌟 Join Us at This Week’s City Council Meeting! 🌟 \nHey Sunset City! \nHave you ever wondered how local government decisions are made or wanted to see your elected officials in action? Now’s your chance! 📣 \n🗓 Date: Tuesday\, July 7th\, 2026 \n🕒 Time: 6:30pm \n📍 Location: Sunset City Hall (200 W. 1300 N.) \nBring your questions\, concerns\, and ideas! Let’s come together to support our City and learn more about how we can contribute to making our community even better. \nCurious about what’s on the agenda? Visit https://sunsetut.gov/agendas-minutes-2/ to preview what the Council will be discussing.
URL:https://sunsetut.gov/event/city-council-meeting-7-7-26/
LOCATION:Council Chambers\, 200 W 1300 N\, Sunset\, UT\, 84015\, United States
CATEGORIES:City Council,Community Information
ATTACH;FMTTYPE=image/png:https://sunsetut.gov/wp-content/uploads/2025/05/Upcoming-Council-Meeting-12.16.25.png
END:VEVENT
BEGIN:VEVENT
DTSTART;TZID=America/Denver:20260709T183000
DTEND;TZID=America/Denver:20260709T210000
DTSTAMP:20260421T092805
CREATED:20260303T181920Z
LAST-MODIFIED:20260303T182028Z
UID:3690-1783621800-1783630800@sunsetut.gov
SUMMARY:Planning Commission Meeting
DESCRIPTION:📢 Sunset City Planning Commission Meeting 📢 \nAttention Sunset City residents! 🌅 Your voice matters in shaping the future of our community! Join us at the upcoming Planning Commission Meeting to stay informed and share your input on important local projects and developments. \n🗓 Date: Thursday\, July 9th\, 2026⏰ Time: 6:30 PM📍 Location: Sunset City Hall – Council Chambers \nDon’t miss this opportunity to get involved in the decisions that impact our city. Whether you’re curious about current projects or want to share your perspective\, we’d love to see you there! \n📑 Scan the QR code in the image above or visit https://sunsetut.gov/agendas-minutes/ to view the agenda and minutes. \nTogether\, let’s keep Sunset City a vibrant and thriving place to live! 🌟
URL:https://sunsetut.gov/event/planning-commission-7-9-26/
LOCATION:Council Chambers\, 200 W 1300 N\, Sunset\, UT\, 84015\, United States
CATEGORIES:Community Information,Planning Commission Meeting
ATTACH;FMTTYPE=image/png:https://sunsetut.gov/wp-content/uploads/2025/05/12.11.25-Planning-Commission-Meeting-Notification-Image.png
END:VEVENT
BEGIN:VEVENT
DTSTART;VALUE=DATE:20260713
DTEND;VALUE=DATE:20260714
DTSTAMP:20260421T092805
CREATED:20260303T203046Z
LAST-MODIFIED:20260303T203046Z
UID:3806-1783900800-1783987199@sunsetut.gov
SUMMARY:Trash Day (Only Trash!)
DESCRIPTION:
URL:https://sunsetut.gov/event/trash-day-7-13-26/
CATEGORIES:Community Information,garbage,recycling
END:VEVENT
BEGIN:VEVENT
DTSTART;VALUE=DATE:20260717
DTEND;VALUE=DATE:20260719
DTSTAMP:20260421T092805
CREATED:20260303T192825Z
LAST-MODIFIED:20260303T192854Z
UID:3714-1784246400-1784419199@sunsetut.gov
SUMMARY:Sunset City Fun Days
DESCRIPTION:
URL:https://sunsetut.gov/event/sunset-city-fun-days-5/
LOCATION:Rachael Runyan Memorial Park\, 975 N. 200 W.\, Sunset\, UT\, 84015\, United States
CATEGORIES:Community Event,Community Information,family,Holidays
END:VEVENT
BEGIN:VEVENT
DTSTART;VALUE=DATE:20260720
DTEND;VALUE=DATE:20260721
DTSTAMP:20260421T092805
CREATED:20260303T201112Z
LAST-MODIFIED:20260303T201112Z
UID:3756-1784505600-1784591999@sunsetut.gov
SUMMARY:Trash & Recycling Day
DESCRIPTION:
URL:https://sunsetut.gov/event/trash-recycling-day-7-20-26/
CATEGORIES:Community Information,garbage,recycling
END:VEVENT
BEGIN:VEVENT
DTSTART;TZID=America/Denver:20260721T183000
DTEND;TZID=America/Denver:20260721T210000
DTSTAMP:20260421T092805
CREATED:20260303T174906Z
LAST-MODIFIED:20260303T174906Z
UID:3637-1784658600-1784667600@sunsetut.gov
SUMMARY:City Council Meeting
DESCRIPTION:🌟 Join Us at This Week’s City Council Meeting! 🌟 \nHey Sunset City! \nHave you ever wondered how local government decisions are made or wanted to see your elected officials in action? Now’s your chance! 📣 \n🗓 Date: Tuesday\, July 21st\, 2026 \n🕒 Time: 6:30pm \n📍 Location: Sunset City Hall (200 W. 1300 N.) \nBring your questions\, concerns\, and ideas! Let’s come together to support our City and learn more about how we can contribute to making our community even better. \nCurious about what’s on the agenda? Visit https://sunsetut.gov/agendas-minutes-2/ to preview what the Council will be discussing.
URL:https://sunsetut.gov/event/city-council-meeting-7-21-26/
LOCATION:Council Chambers\, 200 W 1300 N\, Sunset\, UT\, 84015\, United States
CATEGORIES:City Council,Community Information
ATTACH;FMTTYPE=image/png:https://sunsetut.gov/wp-content/uploads/2025/05/Upcoming-Council-Meeting-12.16.25.png
END:VEVENT
BEGIN:VEVENT
DTSTART;VALUE=DATE:20260724
DTEND;VALUE=DATE:20260725
DTSTAMP:20260421T092805
CREATED:20260303T163521Z
LAST-MODIFIED:20260303T163521Z
UID:3584-1784851200-1784937599@sunsetut.gov
SUMMARY:Office Closed - 24th of July (Utah Holiday)
DESCRIPTION:
URL:https://sunsetut.gov/event/office-closed-24th-of-july/
LOCATION:Sunset City Hall\, 200 W 1300 N\, Sunset\, UT\, 84015\, United States
CATEGORIES:Community Information,Holidays
END:VEVENT
BEGIN:VEVENT
DTSTART;VALUE=DATE:20260727
DTEND;VALUE=DATE:20260728
DTSTAMP:20260421T092805
CREATED:20260303T203158Z
LAST-MODIFIED:20260303T203158Z
UID:3808-1785110400-1785196799@sunsetut.gov
SUMMARY:Trash Day (Only Trash!)
DESCRIPTION:
URL:https://sunsetut.gov/event/trash-day-7-27-26/
CATEGORIES:Community Information,garbage,recycling
END:VEVENT
BEGIN:VEVENT
DTSTART;VALUE=DATE:20260803
DTEND;VALUE=DATE:20260804
DTSTAMP:20260421T092805
CREATED:20260303T201149Z
LAST-MODIFIED:20260303T201149Z
UID:3758-1785715200-1785801599@sunsetut.gov
SUMMARY:Trash & Recycling Day
DESCRIPTION:
URL:https://sunsetut.gov/event/trash-recycling-day-8-3-26/
CATEGORIES:Community Information,garbage,recycling
END:VEVENT
BEGIN:VEVENT
DTSTART;TZID=America/Denver:20260804T183000
DTEND;TZID=America/Denver:20260804T210000
DTSTAMP:20260421T092805
CREATED:20260303T175025Z
LAST-MODIFIED:20260303T175025Z
UID:3640-1785868200-1785877200@sunsetut.gov
SUMMARY:City Council Meeting
DESCRIPTION:🌟 Join Us at This Week’s City Council Meeting! 🌟 \nHey Sunset City! \nHave you ever wondered how local government decisions are made or wanted to see your elected officials in action? Now’s your chance! 📣 \n🗓 Date: Tuesday\, August 4th\, 2026 \n🕒 Time: 6:30pm \n📍 Location: Sunset City Hall (200 W. 1300 N.) \nBring your questions\, concerns\, and ideas! Let’s come together to support our City and learn more about how we can contribute to making our community even better. \nCurious about what’s on the agenda? Visit https://sunsetut.gov/agendas-minutes-2/ to preview what the Council will be discussing.
URL:https://sunsetut.gov/event/city-council-meeting-8-4-26/
LOCATION:Council Chambers\, 200 W 1300 N\, Sunset\, UT\, 84015\, United States
CATEGORIES:City Council,Community Information
ATTACH;FMTTYPE=image/png:https://sunsetut.gov/wp-content/uploads/2025/05/Upcoming-Council-Meeting-12.16.25.png
END:VEVENT
BEGIN:VEVENT
DTSTART;VALUE=DATE:20260810
DTEND;VALUE=DATE:20260811
DTSTAMP:20260421T092805
CREATED:20260303T203241Z
LAST-MODIFIED:20260303T203241Z
UID:3810-1786320000-1786406399@sunsetut.gov
SUMMARY:Trash Day (Only Trash!)
DESCRIPTION:
URL:https://sunsetut.gov/event/trash-day-8-10-26/
CATEGORIES:Community Information,garbage,recycling
END:VEVENT
BEGIN:VEVENT
DTSTART;TZID=America/Denver:20260813T183000
DTEND;TZID=America/Denver:20260813T210000
DTSTAMP:20260421T092805
CREATED:20260303T182151Z
LAST-MODIFIED:20260303T182159Z
UID:3693-1786645800-1786654800@sunsetut.gov
SUMMARY:Planning Commission Meeting
DESCRIPTION:📢 Sunset City Planning Commission Meeting 📢 \nAttention Sunset City residents! 🌅 Your voice matters in shaping the future of our community! Join us at the upcoming Planning Commission Meeting to stay informed and share your input on important local projects and developments. \n🗓 Date: Thursday\, August 13th\, 2026⏰ Time: 6:30 PM📍 Location: Sunset City Hall – Council Chambers \nDon’t miss this opportunity to get involved in the decisions that impact our city. Whether you’re curious about current projects or want to share your perspective\, we’d love to see you there! \n📑 Scan the QR code in the image above or visit https://sunsetut.gov/agendas-minutes/ to view the agenda and minutes. \nTogether\, let’s keep Sunset City a vibrant and thriving place to live! 🌟
URL:https://sunsetut.gov/event/planning-commission-8-13-26/
LOCATION:Council Chambers\, 200 W 1300 N\, Sunset\, UT\, 84015\, United States
CATEGORIES:Community Information,Planning Commission Meeting
ATTACH;FMTTYPE=image/png:https://sunsetut.gov/wp-content/uploads/2025/05/12.11.25-Planning-Commission-Meeting-Notification-Image.png
END:VEVENT
BEGIN:VEVENT
DTSTART;VALUE=DATE:20260817
DTEND;VALUE=DATE:20260818
DTSTAMP:20260421T092805
CREATED:20260303T201227Z
LAST-MODIFIED:20260303T201227Z
UID:3760-1786924800-1787011199@sunsetut.gov
SUMMARY:Trash & Recycling Day
DESCRIPTION:
URL:https://sunsetut.gov/event/trash-recycling-day-8-17-26/
CATEGORIES:Community Information,garbage,recycling
END:VEVENT
BEGIN:VEVENT
DTSTART;TZID=America/Denver:20260818T183000
DTEND;TZID=America/Denver:20260818T210000
DTSTAMP:20260421T092805
CREATED:20260303T175208Z
LAST-MODIFIED:20260303T175208Z
UID:3643-1787077800-1787086800@sunsetut.gov
SUMMARY:City Council Meeting
DESCRIPTION:🌟 Join Us at This Week’s City Council Meeting! 🌟 \nHey Sunset City! \nHave you ever wondered how local government decisions are made or wanted to see your elected officials in action? Now’s your chance! 📣 \n🗓 Date: Tuesday\, August 18th\, 2026 \n🕒 Time: 6:30pm \n📍 Location: Sunset City Hall (200 W. 1300 N.) \nBring your questions\, concerns\, and ideas! Let’s come together to support our City and learn more about how we can contribute to making our community even better. \nCurious about what’s on the agenda? Visit https://sunsetut.gov/agendas-minutes-2/ to preview what the Council will be discussing.
URL:https://sunsetut.gov/event/city-council-meeting-8-18-26/
LOCATION:Council Chambers\, 200 W 1300 N\, Sunset\, UT\, 84015\, United States
CATEGORIES:City Council,Community Information
ATTACH;FMTTYPE=image/png:https://sunsetut.gov/wp-content/uploads/2025/05/Upcoming-Council-Meeting-12.16.25.png
END:VEVENT
BEGIN:VEVENT
DTSTART;VALUE=DATE:20260824
DTEND;VALUE=DATE:20260825
DTSTAMP:20260421T092805
CREATED:20260303T203318Z
LAST-MODIFIED:20260303T203318Z
UID:3812-1787529600-1787615999@sunsetut.gov
SUMMARY:Trash Day (Only Trash!)
DESCRIPTION:
URL:https://sunsetut.gov/event/trash-day-8-24-26/
CATEGORIES:Community Information,garbage,recycling
END:VEVENT
BEGIN:VEVENT
DTSTART;VALUE=DATE:20260831
DTEND;VALUE=DATE:20260901
DTSTAMP:20260421T092805
CREATED:20260303T201315Z
LAST-MODIFIED:20260303T201315Z
UID:3762-1788134400-1788220799@sunsetut.gov
SUMMARY:Trash & Recycling Day
DESCRIPTION:
URL:https://sunsetut.gov/event/trash-recycling-day-8-31-26/
CATEGORIES:Community Information,garbage,recycling
END:VEVENT
BEGIN:VEVENT
DTSTART;VALUE=DATE:20260907
DTEND;VALUE=DATE:20260908
DTSTAMP:20260421T092805
CREATED:20260303T163640Z
LAST-MODIFIED:20260303T163640Z
UID:3586-1788739200-1788825599@sunsetut.gov
SUMMARY:Office Closed - Labor Day
DESCRIPTION:
URL:https://sunsetut.gov/event/office-closed-labor-day-2/
LOCATION:Sunset City Hall\, 200 W 1300 N\, Sunset\, UT\, 84015\, United States
CATEGORIES:Community Information,Holidays
END:VEVENT
BEGIN:VEVENT
DTSTART;VALUE=DATE:20260907
DTEND;VALUE=DATE:20260908
DTSTAMP:20260421T092805
CREATED:20260303T203402Z
LAST-MODIFIED:20260303T203402Z
UID:3814-1788739200-1788825599@sunsetut.gov
SUMMARY:Trash Day (Only Trash!)
DESCRIPTION:
URL:https://sunsetut.gov/event/trash-day-9-7-26/
CATEGORIES:Community Information,garbage,recycling
END:VEVENT
BEGIN:VEVENT
DTSTART;TZID=America/Denver:20260908T183000
DTEND;TZID=America/Denver:20260908T210000
DTSTAMP:20260421T092805
CREATED:20260303T175327Z
LAST-MODIFIED:20260303T175327Z
UID:3646-1788892200-1788901200@sunsetut.gov
SUMMARY:City Council Meeting
DESCRIPTION:🌟 Join Us at This Week’s City Council Meeting! 🌟 \nHey Sunset City! \nHave you ever wondered how local government decisions are made or wanted to see your elected officials in action? Now’s your chance! 📣 \n🗓 Date: Tuesday\, September 8th\, 2026 \n🕒 Time: 6:30pm \n📍 Location: Sunset City Hall (200 W. 1300 N.) \nBring your questions\, concerns\, and ideas! Let’s come together to support our City and learn more about how we can contribute to making our community even better. \nCurious about what’s on the agenda? Visit https://sunsetut.gov/agendas-minutes-2/ to preview what the Council will be discussing.
URL:https://sunsetut.gov/event/city-council-meeting-9-8-26/
LOCATION:Council Chambers\, 200 W 1300 N\, Sunset\, UT\, 84015\, United States
CATEGORIES:City Council,Community Information
ATTACH;FMTTYPE=image/png:https://sunsetut.gov/wp-content/uploads/2025/05/Upcoming-Council-Meeting-12.16.25.png
END:VEVENT
BEGIN:VEVENT
DTSTART;TZID=America/Denver:20260910T183000
DTEND;TZID=America/Denver:20260910T210000
DTSTAMP:20260421T092805
CREATED:20260303T182428Z
LAST-MODIFIED:20260303T182442Z
UID:3696-1789065000-1789074000@sunsetut.gov
SUMMARY:Planning Commission Meeting
DESCRIPTION:📢 Sunset City Planning Commission Meeting 📢 \nAttention Sunset City residents! 🌅 Your voice matters in shaping the future of our community! Join us at the upcoming Planning Commission Meeting to stay informed and share your input on important local projects and developments. \n🗓 Date: Thursday\, September 10th\, 2026⏰ Time: 6:30 PM📍 Location: Sunset City Hall – Council Chambers \nDon’t miss this opportunity to get involved in the decisions that impact our city. Whether you’re curious about current projects or want to share your perspective\, we’d love to see you there! \n📑 Scan the QR code in the image above or visit https://sunsetut.gov/agendas-minutes/ to view the agenda and minutes. \nTogether\, let’s keep Sunset City a vibrant and thriving place to live! 🌟
URL:https://sunsetut.gov/event/planning-commission-9-10-26/
LOCATION:Council Chambers\, 200 W 1300 N\, Sunset\, UT\, 84015\, United States
CATEGORIES:Community Information,Planning Commission Meeting
ATTACH;FMTTYPE=image/png:https://sunsetut.gov/wp-content/uploads/2025/05/12.11.25-Planning-Commission-Meeting-Notification-Image.png
END:VEVENT
BEGIN:VEVENT
DTSTART;VALUE=DATE:20260914
DTEND;VALUE=DATE:20260915
DTSTAMP:20260421T092805
CREATED:20260303T201418Z
LAST-MODIFIED:20260303T201418Z
UID:3764-1789344000-1789430399@sunsetut.gov
SUMMARY:Trash & Recycling Day
DESCRIPTION:
URL:https://sunsetut.gov/event/trash-recycling-day-9-14-26/
CATEGORIES:Community Information,garbage,recycling
END:VEVENT
BEGIN:VEVENT
DTSTART;VALUE=DATE:20260919
DTEND;VALUE=DATE:20260920
DTSTAMP:20260421T092805
CREATED:20260303T193019Z
LAST-MODIFIED:20260303T193044Z
UID:3717-1789776000-1789862399@sunsetut.gov
SUMMARY:Mental Health Fair
DESCRIPTION:
URL:https://sunsetut.gov/event/mental-health-fair/
LOCATION:Rachael Runyan Memorial Park\, 975 N. 200 W.\, Sunset\, UT\, 84015\, United States
CATEGORIES:Community Event,Community Information,family,Holidays
END:VEVENT
BEGIN:VEVENT
DTSTART;VALUE=DATE:20260921
DTEND;VALUE=DATE:20260922
DTSTAMP:20260421T092805
CREATED:20260303T203447Z
LAST-MODIFIED:20260303T203447Z
UID:3816-1789948800-1790035199@sunsetut.gov
SUMMARY:Trash Day (Only Trash!)
DESCRIPTION:
URL:https://sunsetut.gov/event/trash-day-9-21-26/
CATEGORIES:Community Information,garbage,recycling
END:VEVENT
BEGIN:VEVENT
DTSTART;TZID=America/Denver:20260922T183000
DTEND;TZID=America/Denver:20260922T210000
DTSTAMP:20260421T092805
CREATED:20260303T175552Z
LAST-MODIFIED:20260303T175552Z
UID:3649-1790101800-1790110800@sunsetut.gov
SUMMARY:City Council Meeting
DESCRIPTION:🌟 Join Us at This Week’s City Council Meeting! 🌟 \nHey Sunset City! \nHave you ever wondered how local government decisions are made or wanted to see your elected officials in action? Now’s your chance! 📣 \n🗓 Date: Tuesday\, September 22nd\, 2026 \n🕒 Time: 6:30pm \n📍 Location: Sunset City Hall (200 W. 1300 N.) \nBring your questions\, concerns\, and ideas! Let’s come together to support our City and learn more about how we can contribute to making our community even better. \nCurious about what’s on the agenda? Visit https://sunsetut.gov/agendas-minutes-2/ to preview what the Council will be discussing.
URL:https://sunsetut.gov/event/city-council-meeting-9-22-26/
LOCATION:Council Chambers\, 200 W 1300 N\, Sunset\, UT\, 84015\, United States
CATEGORIES:City Council,Community Information
ATTACH;FMTTYPE=image/png:https://sunsetut.gov/wp-content/uploads/2025/05/Upcoming-Council-Meeting-12.16.25.png
END:VEVENT
BEGIN:VEVENT
DTSTART;VALUE=DATE:20260928
DTEND;VALUE=DATE:20260929
DTSTAMP:20260421T092805
CREATED:20260303T201459Z
LAST-MODIFIED:20260303T201459Z
UID:3766-1790553600-1790639999@sunsetut.gov
SUMMARY:Trash & Recycling Day
DESCRIPTION:
URL:https://sunsetut.gov/event/trash-recycling-day-9-28-26/
CATEGORIES:Community Information,garbage,recycling
END:VEVENT
BEGIN:VEVENT
DTSTART;VALUE=DATE:20261005
DTEND;VALUE=DATE:20261006
DTSTAMP:20260421T092805
CREATED:20260303T203520Z
LAST-MODIFIED:20260303T203520Z
UID:3818-1791158400-1791244799@sunsetut.gov
SUMMARY:Trash Day (Only Trash!)
DESCRIPTION:
URL:https://sunsetut.gov/event/trash-day-10-5-26/
CATEGORIES:Community Information,garbage,recycling
END:VEVENT
BEGIN:VEVENT
DTSTART;TZID=America/Denver:20261006T183000
DTEND;TZID=America/Denver:20261006T210000
DTSTAMP:20260421T092805
CREATED:20260303T175714Z
LAST-MODIFIED:20260303T175746Z
UID:3652-1791311400-1791320400@sunsetut.gov
SUMMARY:City Council Meeting
DESCRIPTION:🌟 Join Us at This Week’s City Council Meeting! 🌟 \nHey Sunset City! \nHave you ever wondered how local government decisions are made or wanted to see your elected officials in action? Now’s your chance! 📣 \n🗓 Date: Tuesday\, October 6th\, 2026 \n🕒 Time: 6:30pm \n📍 Location: Sunset City Hall (200 W. 1300 N.) \nBring your questions\, concerns\, and ideas! Let’s come together to support our City and learn more about how we can contribute to making our community even better. \nCurious about what’s on the agenda? Visit https://sunsetut.gov/agendas-minutes-2/ to preview what the Council will be discussing.
URL:https://sunsetut.gov/event/city-council-meeting-10-6-26/
LOCATION:Council Chambers\, 200 W 1300 N\, Sunset\, UT\, 84015\, United States
CATEGORIES:City Council,Community Information
ATTACH;FMTTYPE=image/png:https://sunsetut.gov/wp-content/uploads/2025/05/Upcoming-Council-Meeting-12.16.25.png
END:VEVENT
END:VCALENDAR