BEGIN:VCALENDAR
VERSION:2.0
PRODID:-//Sunset City - ECPv6.15.20//NONSGML v1.0//EN
CALSCALE:GREGORIAN
METHOD:PUBLISH
X-WR-CALNAME:Sunset City
X-ORIGINAL-URL:https://sunsetut.gov
X-WR-CALDESC:Events for Sunset City
REFRESH-INTERVAL;VALUE=DURATION:PT1H
X-Robots-Tag:noindex
X-PUBLISHED-TTL:PT1H
BEGIN:VTIMEZONE
TZID:America/Denver
BEGIN:DAYLIGHT
TZOFFSETFROM:-0700
TZOFFSETTO:-0600
TZNAME:MDT
DTSTART:20250309T090000
END:DAYLIGHT
BEGIN:STANDARD
TZOFFSETFROM:-0600
TZOFFSETTO:-0700
TZNAME:MST
DTSTART:20251102T080000
END:STANDARD
BEGIN:DAYLIGHT
TZOFFSETFROM:-0700
TZOFFSETTO:-0600
TZNAME:MDT
DTSTART:20260308T090000
END:DAYLIGHT
BEGIN:STANDARD
TZOFFSETFROM:-0600
TZOFFSETTO:-0700
TZNAME:MST
DTSTART:20261101T080000
END:STANDARD
BEGIN:DAYLIGHT
TZOFFSETFROM:-0700
TZOFFSETTO:-0600
TZNAME:MDT
DTSTART:20270314T090000
END:DAYLIGHT
BEGIN:STANDARD
TZOFFSETFROM:-0600
TZOFFSETTO:-0700
TZNAME:MST
DTSTART:20271107T080000
END:STANDARD
END:VTIMEZONE
BEGIN:VEVENT
DTSTART;TZID=America/Denver:20260908T183000
DTEND;TZID=America/Denver:20260908T210000
DTSTAMP:20260419T213440
CREATED:20260303T175327Z
LAST-MODIFIED:20260303T175327Z
UID:3646-1788892200-1788901200@sunsetut.gov
SUMMARY:City Council Meeting
DESCRIPTION:🌟 Join Us at This Week’s City Council Meeting! 🌟 \nHey Sunset City! \nHave you ever wondered how local government decisions are made or wanted to see your elected officials in action? Now’s your chance! 📣 \n🗓 Date: Tuesday\, September 8th\, 2026 \n🕒 Time: 6:30pm \n📍 Location: Sunset City Hall (200 W. 1300 N.) \nBring your questions\, concerns\, and ideas! Let’s come together to support our City and learn more about how we can contribute to making our community even better. \nCurious about what’s on the agenda? Visit https://sunsetut.gov/agendas-minutes-2/ to preview what the Council will be discussing.
URL:https://sunsetut.gov/event/city-council-meeting-9-8-26/
LOCATION:Council Chambers\, 200 W 1300 N\, Sunset\, UT\, 84015\, United States
CATEGORIES:City Council,Community Information
ATTACH;FMTTYPE=image/png:https://sunsetut.gov/wp-content/uploads/2025/05/Upcoming-Council-Meeting-12.16.25.png
END:VEVENT
BEGIN:VEVENT
DTSTART;TZID=America/Denver:20260922T183000
DTEND;TZID=America/Denver:20260922T210000
DTSTAMP:20260419T213440
CREATED:20260303T175552Z
LAST-MODIFIED:20260303T175552Z
UID:3649-1790101800-1790110800@sunsetut.gov
SUMMARY:City Council Meeting
DESCRIPTION:🌟 Join Us at This Week’s City Council Meeting! 🌟 \nHey Sunset City! \nHave you ever wondered how local government decisions are made or wanted to see your elected officials in action? Now’s your chance! 📣 \n🗓 Date: Tuesday\, September 22nd\, 2026 \n🕒 Time: 6:30pm \n📍 Location: Sunset City Hall (200 W. 1300 N.) \nBring your questions\, concerns\, and ideas! Let’s come together to support our City and learn more about how we can contribute to making our community even better. \nCurious about what’s on the agenda? Visit https://sunsetut.gov/agendas-minutes-2/ to preview what the Council will be discussing.
URL:https://sunsetut.gov/event/city-council-meeting-9-22-26/
LOCATION:Council Chambers\, 200 W 1300 N\, Sunset\, UT\, 84015\, United States
CATEGORIES:City Council,Community Information
ATTACH;FMTTYPE=image/png:https://sunsetut.gov/wp-content/uploads/2025/05/Upcoming-Council-Meeting-12.16.25.png
END:VEVENT
BEGIN:VEVENT
DTSTART;TZID=America/Denver:20261006T183000
DTEND;TZID=America/Denver:20261006T210000
DTSTAMP:20260419T213440
CREATED:20260303T175714Z
LAST-MODIFIED:20260303T175746Z
UID:3652-1791311400-1791320400@sunsetut.gov
SUMMARY:City Council Meeting
DESCRIPTION:🌟 Join Us at This Week’s City Council Meeting! 🌟 \nHey Sunset City! \nHave you ever wondered how local government decisions are made or wanted to see your elected officials in action? Now’s your chance! 📣 \n🗓 Date: Tuesday\, October 6th\, 2026 \n🕒 Time: 6:30pm \n📍 Location: Sunset City Hall (200 W. 1300 N.) \nBring your questions\, concerns\, and ideas! Let’s come together to support our City and learn more about how we can contribute to making our community even better. \nCurious about what’s on the agenda? Visit https://sunsetut.gov/agendas-minutes-2/ to preview what the Council will be discussing.
URL:https://sunsetut.gov/event/city-council-meeting-10-6-26/
LOCATION:Council Chambers\, 200 W 1300 N\, Sunset\, UT\, 84015\, United States
CATEGORIES:City Council,Community Information
ATTACH;FMTTYPE=image/png:https://sunsetut.gov/wp-content/uploads/2025/05/Upcoming-Council-Meeting-12.16.25.png
END:VEVENT
BEGIN:VEVENT
DTSTART;TZID=America/Denver:20261020T183000
DTEND;TZID=America/Denver:20261020T210000
DTSTAMP:20260419T213440
CREATED:20260303T175904Z
LAST-MODIFIED:20260303T175953Z
UID:3655-1792521000-1792530000@sunsetut.gov
SUMMARY:City Council Meeting
DESCRIPTION:🌟 Join Us at This Week’s City Council Meeting! 🌟 \nHey Sunset City! \nHave you ever wondered how local government decisions are made or wanted to see your elected officials in action? Now’s your chance! 📣 \n🗓 Date: Tuesday\, October 20th\, 2026 \n🕒 Time: 6:30pm \n📍 Location: Sunset City Hall (200 W. 1300 N.) \nBring your questions\, concerns\, and ideas! Let’s come together to support our City and learn more about how we can contribute to making our community even better. \nCurious about what’s on the agenda? Visit https://sunsetut.gov/agendas-minutes-2/ to preview what the Council will be discussing.
URL:https://sunsetut.gov/event/city-council-meeting-10-20-26/
LOCATION:Council Chambers\, 200 W 1300 N\, Sunset\, UT\, 84015\, United States
CATEGORIES:City Council,Community Information
ATTACH;FMTTYPE=image/png:https://sunsetut.gov/wp-content/uploads/2025/05/Upcoming-Council-Meeting-12.16.25.png
END:VEVENT
BEGIN:VEVENT
DTSTART;TZID=America/Denver:20261104T183000
DTEND;TZID=America/Denver:20261104T210000
DTSTAMP:20260419T213440
CREATED:20260303T180220Z
LAST-MODIFIED:20260303T180220Z
UID:3658-1793817000-1793826000@sunsetut.gov
SUMMARY:City Council Meeting
DESCRIPTION:🌟 Join Us at This Week’s City Council Meeting! 🌟 \nHey Sunset City! \nHave you ever wondered how local government decisions are made or wanted to see your elected officials in action? Now’s your chance! 📣 \n***Please note: This week’s Council Meeting is on WEDNESDAY\, not Tuesday (due to Election Day)!*** \n🗓 Date: Wednesday\, November 4th\, 2026 \n🕒 Time: 6:30pm \n📍 Location: Sunset City Hall (200 W. 1300 N.) \nBring your questions\, concerns\, and ideas! Let’s come together to support our City and learn more about how we can contribute to making our community even better. \nCurious about what’s on the agenda? Visit https://sunsetut.gov/agendas-minutes-2/ to preview what the Council will be discussing.
URL:https://sunsetut.gov/event/city-council-meeting-11-4-26/
LOCATION:Council Chambers\, 200 W 1300 N\, Sunset\, UT\, 84015\, United States
CATEGORIES:City Council,Community Information
ATTACH;FMTTYPE=image/png:https://sunsetut.gov/wp-content/uploads/2025/05/Upcoming-Council-Meeting-12.16.25.png
END:VEVENT
BEGIN:VEVENT
DTSTART;TZID=America/Denver:20261117T183000
DTEND;TZID=America/Denver:20261117T210000
DTSTAMP:20260419T213440
CREATED:20260303T180343Z
LAST-MODIFIED:20260303T180343Z
UID:3661-1794940200-1794949200@sunsetut.gov
SUMMARY:City Council Meeting
DESCRIPTION:🌟 Join Us at This Week’s City Council Meeting! 🌟 \nHey Sunset City! \nHave you ever wondered how local government decisions are made or wanted to see your elected officials in action? Now’s your chance! 📣 \n🗓 Date: Tuesday\, November 17th\, 2026 \n🕒 Time: 6:30pm \n📍 Location: Sunset City Hall (200 W. 1300 N.) \nBring your questions\, concerns\, and ideas! Let’s come together to support our City and learn more about how we can contribute to making our community even better. \nCurious about what’s on the agenda? Visit https://sunsetut.gov/agendas-minutes-2/ to preview what the Council will be discussing.
URL:https://sunsetut.gov/event/city-council-meeting-11-17-26/
LOCATION:Council Chambers\, 200 W 1300 N\, Sunset\, UT\, 84015\, United States
CATEGORIES:City Council,Community Information
ATTACH;FMTTYPE=image/png:https://sunsetut.gov/wp-content/uploads/2025/05/Upcoming-Council-Meeting-12.16.25.png
END:VEVENT
BEGIN:VEVENT
DTSTART;TZID=America/Denver:20261201T183000
DTEND;TZID=America/Denver:20261201T210000
DTSTAMP:20260419T213440
CREATED:20260303T180458Z
LAST-MODIFIED:20260303T180458Z
UID:3664-1796149800-1796158800@sunsetut.gov
SUMMARY:City Council Meeting
DESCRIPTION:🌟 Join Us at This Week’s City Council Meeting! 🌟 \nHey Sunset City! \nHave you ever wondered how local government decisions are made or wanted to see your elected officials in action? Now’s your chance! 📣 \n🗓 Date: Tuesday\, December 1st\, 2026 \n🕒 Time: 6:30pm \n📍 Location: Sunset City Hall (200 W. 1300 N.) \nBring your questions\, concerns\, and ideas! Let’s come together to support our City and learn more about how we can contribute to making our community even better. \nCurious about what’s on the agenda? Visit https://sunsetut.gov/agendas-minutes-2/ to preview what the Council will be discussing.
URL:https://sunsetut.gov/event/city-council-meeting-12-1-26/
LOCATION:Council Chambers\, 200 W 1300 N\, Sunset\, UT\, 84015\, United States
CATEGORIES:City Council,Community Information
ATTACH;FMTTYPE=image/png:https://sunsetut.gov/wp-content/uploads/2025/05/Upcoming-Council-Meeting-12.16.25.png
END:VEVENT
BEGIN:VEVENT
DTSTART;TZID=America/Denver:20261215T183000
DTEND;TZID=America/Denver:20261215T210000
DTSTAMP:20260419T213440
CREATED:20260303T180612Z
LAST-MODIFIED:20260303T180621Z
UID:3667-1797359400-1797368400@sunsetut.gov
SUMMARY:City Council Meeting
DESCRIPTION:🌟 Join Us at This Week’s City Council Meeting! 🌟 \nHey Sunset City! \nHave you ever wondered how local government decisions are made or wanted to see your elected officials in action? Now’s your chance! 📣 \n🗓 Date: Tuesday\, December 15th\, 2026 \n🕒 Time: 6:30pm \n📍 Location: Sunset City Hall (200 W. 1300 N.) \nBring your questions\, concerns\, and ideas! Let’s come together to support our City and learn more about how we can contribute to making our community even better. \nCurious about what’s on the agenda? Visit https://sunsetut.gov/agendas-minutes-2/ to preview what the Council will be discussing.
URL:https://sunsetut.gov/event/city-council-meeting-12-15-26/
LOCATION:Council Chambers\, 200 W 1300 N\, Sunset\, UT\, 84015\, United States
CATEGORIES:City Council,Community Information
ATTACH;FMTTYPE=image/png:https://sunsetut.gov/wp-content/uploads/2025/05/Upcoming-Council-Meeting-12.16.25.png
END:VEVENT
END:VCALENDAR