BEGIN:VCALENDAR
VERSION:2.0
PRODID:-//Sunset City - ECPv6.15.20//NONSGML v1.0//EN
CALSCALE:GREGORIAN
METHOD:PUBLISH
X-ORIGINAL-URL:https://sunsetut.gov
X-WR-CALDESC:Events for Sunset City
REFRESH-INTERVAL;VALUE=DURATION:PT1H
X-Robots-Tag:noindex
X-PUBLISHED-TTL:PT1H
BEGIN:VTIMEZONE
TZID:America/Denver
BEGIN:DAYLIGHT
TZOFFSETFROM:-0700
TZOFFSETTO:-0600
TZNAME:MDT
DTSTART:20220313T090000
END:DAYLIGHT
BEGIN:STANDARD
TZOFFSETFROM:-0600
TZOFFSETTO:-0700
TZNAME:MST
DTSTART:20221106T080000
END:STANDARD
BEGIN:DAYLIGHT
TZOFFSETFROM:-0700
TZOFFSETTO:-0600
TZNAME:MDT
DTSTART:20230312T090000
END:DAYLIGHT
BEGIN:STANDARD
TZOFFSETFROM:-0600
TZOFFSETTO:-0700
TZNAME:MST
DTSTART:20231105T080000
END:STANDARD
BEGIN:DAYLIGHT
TZOFFSETFROM:-0700
TZOFFSETTO:-0600
TZNAME:MDT
DTSTART:20240310T090000
END:DAYLIGHT
BEGIN:STANDARD
TZOFFSETFROM:-0600
TZOFFSETTO:-0700
TZNAME:MST
DTSTART:20241103T080000
END:STANDARD
END:VTIMEZONE
BEGIN:VEVENT
DTSTART;TZID=America/Denver:20230726T080000
DTEND;TZID=America/Denver:20230726T083000
DTSTAMP:20260422T102213
CREATED:20230213T154616Z
LAST-MODIFIED:20230213T154616Z
UID:1349-1690358400-1690360200@sunsetut.gov
SUMMARY:Recycling Day
DESCRIPTION:
URL:https://sunsetut.gov/event/recycling-day-11/
LOCATION:UT
END:VEVENT
BEGIN:VEVENT
DTSTART;TZID=America/Denver:20230726T080000
DTEND;TZID=America/Denver:20230726T170000
DTSTAMP:20260422T102213
CREATED:20230616T165410Z
LAST-MODIFIED:20230616T165410Z
UID:1589-1690358400-1690390800@sunsetut.gov
SUMMARY:Garbage Day
DESCRIPTION:
URL:https://sunsetut.gov/event/garbage-day-11/
LOCATION:UT
END:VEVENT
END:VCALENDAR